Workbook

Sheet RANCANGAN
A1: RENCANA PROGRAM, KEGIATAN, INDIKATOR KINERJA, KELOMPOK SASARAN, DAN PENDANAAN INDIKATIF
A2: PROVINSI JAMBI
A4: Tujuan | B4: Sasaran | C4: Indikator Sasaran | D4: Kode | L4: Program dan Kegiatan | M4: Indikator | N4: KONDISI AWAL ( 2015) | O4: Target Kinerja Program dan Kerangka Pendanaan | AA4: Unit Kerja SKPD Penanggung Jawab | AB4: Lokasi
M5: Kinerja Program ( outcome ) dan Kegiatan (output) | O5: Tahun 2017 | Q5: Tahun 2018 | S5: Tahun 2019 | U5: Tahun 2020 | W5: Tahun 2021 | Y5: Kondisi Kinerja pada Akhir periode Renstra SKPD
O6: Target | P6: Rp | Q6: Target | R6: Rp | S6: Target | T6: Rp | U6: Target | V6: Rp | W6: Target | X6: Rp | Y6: Target | Z6: Rp
A7: MISI I TERTIB | B7: Terwujudnya tertib administrasi Biro Umum | C7: Tingkat pemenuhan kebutuhan dasar operasional unit kerja dalam mendukung tugas pokok dan mendukung tupoksinya | D7: 1. | E7: 20. | F7: 1. | G7: 20. | H7: 3. | I7: 01 | L7: Program Pelayanan Administrasi Perkantoran | M7: ='[1]pem dan hukum'!$I$6 -> Persentase pemenuhan kebutuhan dasar operasional unit kerja dalam mendukung tugas pokok dan fungsinya | O7: 1 | P7: =[2]Sheet1!$N$5 -> 20563041650 | Q7: 1 | R7: =[2]Sheet1!$P$5 -> 24483599725 | S7: 1 | T7: =[2]Sheet1!$R$5 -> 29279637599 | U7: 1 | V7: =[2]Sheet1!$T$5 -> 3.4315469e+10 | W7: 1 | X7: =[2]Sheet1!$V$5 -> 4.0294751e+10 | Y7: 0.1 | Z7: =X7 -> 4.0294751e+10 | AA7: Biro Umum | AB7: Provinsi Jambi
C8: Jumlah surat masuk/keluar per tahun | D8: 1. | E8: 20. | F8: 1. | G8: 20. | H8: 3. | I8: 01. | J8: 01 | L8: Kegiatan Penyediaan Jasa Surat Menyurat | M8: Jumlah surat masuk/keluar per tahun | O8: 23000 surat | P8: =[2]Sheet1!$N$6 -> 94014800 | Q8: 23000 surat | R8: =[2]Sheet1!$P$6 -> 103416280 | S8: 23000 surat | T8: =[2]Sheet1!$R$6 -> 113757908 | U8: 23000 surat | V8: =[2]Sheet1!$T$6 -> 1.251337e+08 | W8: 23000 surat | X8: =[2]Sheet1!$V$6 -> 1.3764707e+08 | Y8: =W8 -> 23000 surat | Z8: =X8 -> 1.3764707e+08 | AA8: Bagian Adm.Umum
C9: Jumlah ATK yang dipergunakan | D9: 1. | E9: 20. | F9: 1. | G9: 20. | H9: 3. | I9: 01. | J9: 10 | L9: Kegiatan Penyediaan Alat Tulis Kantor | M9: Persentase Kebutuhan ATK yang difasilitasi | O9: 100 | P9: =[2]Sheet1!$N$12 -> 310653750 | Q9: 71 Item | R9: =[2]Sheet1!$P$12 -> 341719125 | S9: 71 Item | T9: =[2]Sheet1!$R$12 -> 3.7589104e+08 | U9: 71 Item | V9: =[2]Sheet1!$T$12 -> 4.1348014e+08 | W9: 71 Item | X9: =[2]Sheet1!$V$12 -> 4.5482816e+08 | Y9: =W9 -> 71 Item | Z9: =X9 -> 4.5482816e+08
C10: Jumlah Barang Cetakan dan Penggandaan yang dipergunakan | D10: 1. | E10: 20. | F10: 1. | G10: 20. | H10: 3. | I10: 01. | J10: 11 | L10: Kegiatan Penyediaan Barang Cetakan dan Penggandaan | M10: Persentase Kebutuhan barang cetakan dan penggandan yang difasilitasi | O10: 100 | P10: =[2]Sheet1!$N$13 -> 465909400 | Q10: 18 Item | R10: =[2]Sheet1!$P$13 -> 512500340 | S10: 18 Item | T10: =[2]Sheet1!$R$13 -> 563750374 | U10: 18 Item | V10: =[2]Sheet1!$T$13 -> 6.2012541e+08 | W10: 18 Item | X10: =[2]Sheet1!$V$13 -> 6.8213795e+08 | Y10: =W10 -> 18 Item | Z10: =X10 -> 6.8213795e+08
C11: Jumlah Laporan Perencanaan | D11: 1. | E11: 20. | F11: 1. | G11: 20. | H11: 3. | I11: 01. | J11: 21 | L11: Kegiatan Penataan Administrasi Tata Usaha Biro | M11: 3 Dokumen Laporan Perencanaan | P11: =[2]Sheet1!$N$17 -> 76755000 | R11: =[2]Sheet1!$P$17 -> 78290100 | T11: =[2]Sheet1!$R$17 -> 79855902 | V11: =[2]Sheet1!$T$17 -> 81453020 | X11: =[2]Sheet1!$V$17 -> 83082080 | Z11: =X11 -> 83082080
C12: Jumlah Laporan Evaluasi Kinerja | M12: 13 Dokumen Laporan Evaluasi Kinerja | O12: 1 Dok
C13: Jumlah Laporan Kegiatan Penataan ADM. Tata Usaha Biro | M13: 4 Dokumen Kegiatan Penataan Adm. T.U Biro Provinsi Jambi | O13: 1 Dok
B16: Terwujudnya peningkatan kepuasan pelayanan kedinasan dan kerumahtanggaan pimpinan | C16: Tingkat pemenuhan kebutuhan dasar operasional unit kerja dalam mendukung tugas pokok dan mendukung tupoksinya | D16: 1. | E16: 20. | F16: 1. | G16: 20. | H16: 3. | I16: 01 | L16: =L7 -> Program Pelayanan Administrasi Perkantoran | M16: =M7 -> Persentase pemenuhan kebutuhan dasar operasional unit kerja dalam mendukung tugas pokok dan fungsinya | O16: =O7 -> 1 | P16: =P7 -> 20563041650 | R16: =R7 -> 24483599725 | S16: =S7 -> 1 | T16: =T7 -> 29279637599 | U16: =U7 -> 1 | V16: =V7 -> 3.4315469e+10 | W16: =W7 -> 1 | X16: =X7 -> 4.0294751e+10 | Y16: =Y7 -> 0.1 | Z16: =Z7 -> 4.0294751e+10 | AA16: Biro Umum | AB16: Provinsi Jambi
C17: Periode pembayaran rekening | D17: 1. | E17: 20. | F17: 1. | G17: 20. | H17: 3. | I17: 01. | J17: 02 | L17: Kegiatan Penyediaan Jasa Komunikasi , Sumberdaya air dan listrik | M17: Persentase Pembayaran komunikasi yang difasilitasi | O17: 1 | P17: =[2]Sheet1!$N$7 -> 5053258600 | R17: =[2]Sheet1!$P$7 -> 6569236180 | S17: 12 bulan | T17: =[2]Sheet1!$R$7 -> 8540007034 | U17: 12 bulan | V17: =[2]Sheet1!$T$7 -> 1.0248008e+10 | W17: 12 bulan | X17: =[2]Sheet1!$V$7 -> 1.229761e+10 | Y17: 12 bulan | Z17: =X17 -> 1.229761e+10 | AA17: Bagian Rumah Tangga
M18: Persentase Pembayaran Air yang difasilitasi | O18: 1
M19: Persentase Pembayaran Listrik ayng difasilitasi | O19: 1
C20: Periode penggunaan Jasa Peralatan dan Perlengkapan Kantor | D20: 1. | E20: 20. | F20: 1. | G20: 20. | H20: 3. | I20: 01. | J20: 03 | L20: Kegiatan Penyediaan Jasa Peralatan dan Perlengkapan Kantor | M20: Persentase Jasa Peralatan dan perlengkapan Kantor yang difasilitasi | O20: 1 | P20: =[2]Sheet1!$N$8 -> 526526000 | R20: =[2]Sheet1!$P$8 -> 684483800 | T20: =[2]Sheet1!$R$8 -> 889828940 | U20: 12 bulan | V20: =[2]Sheet1!$T$8 -> 1156777622 | W20: 12 bulan | X20: =[2]Sheet1!$V$8 -> 1.5038109e+09 | Y20: 12 bulan | Z20: =X20 -> 1.5038109e+09
C21: Periode Jaminan Barang Milik Daerah | D21: 1. | E21: 20. | F21: 1. | G21: 20. | H21: 3. | I21: 01. | J21: 05 | L21: Kegiatan Penyediaan Jasa Jaminan Barang Milik Daerah | M21: Jumlah kendaraan dinas yang diasuransikan | P21: =[2]Sheet1!$N$9 -> 877330300 | R21: =[2]Sheet1!$P$9 -> 965063330 | T21: =[2]Sheet1!$R$9 -> 1061569663 | U21: 12 bulan | V21: =[2]Sheet1!$T$9 -> 1.1677266e+09 | W21: 12 bulan | X21: =[2]Sheet1!$V$9 -> 1.2844993e+09 | Y21: 12 bulan | Z21: =X21 -> 1.2844993e+09
M22: Jumlah gedung kantor/rumah dinas yang diasuransikan
C23: Jumlah bahan logistik kantor | D23: 1. | E23: 20. | F23: 1. | G23: 20. | H23: 3. | I23: 01. | J23: 16 | L23: Kegiatan Penyediaan Bahan Logistik Kantor | M23: Persentase bahan logistik kantor yang difasilitasi | O23: 100 | P23: =[2]Sheet1!$N$15 -> 1200425000 | R23: =[2]Sheet1!$P$15 -> 1500531250 | S23: 50 Item | T23: =[2]Sheet1!$R$15 -> 1.8756641e+09 | U23: 50 Item | V23: =[2]Sheet1!$T$15 -> 2.3445801e+09 | W23: 50 Item | X23: =[2]Sheet1!$V$15 -> 2.9307251e+09 | Y23: =W23 -> 50 Item | Z23: =X23 -> 2.9307251e+09
L24: Kegiatan Penyediaan Jasa Keamanan kantor dan rumah jabatan | M24: Score IKM Keamanan Kantor | Q24: B | R24: =[2]Sheet1!$P$19 -> 1650000000 | S24: 12 bulan | T24: =[2]Sheet1!$R$19 -> 1815000000 | U24: 12 bulan | V24: =[2]Sheet1!$T$19 -> 1996500000 | W24: 12 bulan | X24: =[2]Sheet1!$V$19 -> 2196150000 | Y24: 12 bulan | Z24: =X24 -> 2196150000
C25: Persentase Pemenuhan kebutuhan sarana dan prasarana kerja aparatur sesuai standar daerah | D25: 1. | E25: 20. | F25: 1. | G25: 20. | H25: 3. | I25: 02 | L25: Program Peningkatan Sarana dan Prasarana Aparatur | M25: Persentase Pemenuhan kebutuhan sarana dan prasarana kerja aparatur sesuai standar daerah | O25: =O16 -> 1 | P25: =[2]Sheet1!$N$21 -> 11051386970 | Q25: =Q16 -> 0 | R25: =[2]Sheet1!$P$21 -> 1.2563926e+10 | S25: =S16 -> 1 | T25: =[2]Sheet1!$R$21 -> 1.431698e+10 | U25: =U16 -> 1 | V25: =[2]Sheet1!$T$21 -> 1.6356433e+10 | W25: =W16 -> 1 | X25: =[2]Sheet1!$V$21 -> 1.8738569e+10 | Y25: =Y16 -> 0.1 | Z25: =X25 -> 1.8738569e+10 | AA25: Biro Umum | AB25: Provinsi Jambi
C26: Jumlah jenis pengadaan perlengkapan | D26: 1. | E26: 20. | F26: 1. | G26: 20. | H26: 3. | I26: 02 | J26: 06 | L26: Kegiatan Pengadaan Perlengkapan Rumah Jabatan / Dinas | M26: Persentase perlengkapan Rumah Jabatan/Dinas yang difasilitasi | O26: 100 | P26: =[2]Sheet1!$N$23 -> 833096000 | Q26: 50 item | R26: =[2]Sheet1!$P$23 -> 916405600 | S26: 50 item | T26: =[2]Sheet1!$R$23 -> 1008046160 | U26: ≥ 50 item | V26: =[2]Sheet1!$T$23 -> 1108850776 | W26: ≥ 50 item | X26: =[2]Sheet1!$V$23 -> 1.2197359e+09 | Y26: =W26 -> ≥ 50 item | Z26: =X26 -> 1.2197359e+09 | AA26: Bagian Rumah Tangga
C27: Jumlah Gedung | D27: 1. | E27: 20. | F27: 1. | G27: 20. | H27: 3. | I27: 02 | J27: 21 | L27: Kegiatan Pemeliharaan Rutin/Berkala Rumah Dinas | M27: Jumlah Rumah dinas yang dipelihara | O27: 2 | P27: =[2]Sheet1!$N$25 -> 807216080 | Q27: 2 | R27: =[2]Sheet1!$P$25 -> 887937688 | S27: 2 | T27: =[2]Sheet1!$R$25 -> 9.7673146e+08 | U27: 2 | V27: =[2]Sheet1!$T$25 -> 1.0744046e+09 | W27: 2 | X27: =[2]Sheet1!$V$25 -> 1.1818451e+09 | Y27: 2 | Z27: =X27 -> 1.1818451e+09
C28: Jumlah Kendaraan | D28: 1. | E28: 20. | F28: 1. | G28: 20. | H28: 3. | I28: 02 | J28: 24 | L28: Kegiatan Pemeliharaan Rutin / Berkala Kendaraan Dinas / Operasional | M28: Jumlah Kendaraan dinas / operasional yang dipelihara | O28: 4 Bus R 6 | P28: =[2]Sheet1!$N$27 -> 4394653930 | Q28: 4 Bus R 6 | R28: =[2]Sheet1!$P$27 -> 5.053852e+09 | S28: 4 Bus R 6 | T28: =[2]Sheet1!$R$27 -> 5.8119298e+09 | U28: 4 Bus R 6 | V28: =[2]Sheet1!$T$27 -> 6.6837193e+09 | W28: 4 Bus R 6 | X28: =[2]Sheet1!$V$27 -> 7.6862772e+09 | Y28: 4 Bus R 6 | Z28: =X28 -> 7.6862772e+09
O29: 196 R4 | Q29: 76 minibus R4 | S29: 76 minibus R4 | U29: 76 minibus R4 | W29: 76 minibus R4 | Y29: 76 minibus R4
O30: 208 Unit R2 | Q30: 208 Unit R2 | S30: 208 Unit R2 | U30: 208 Unit R2 | W30: ≥ 208 Unit R2 | Y30: ≥ 208 Unit R2
C31: Persentase standarisasi Pelayanan kedinasan Kepala Daerah/Wakil Kepala Daerah yang terpenuhi | D31: 1. | E31: 20. | F31: 1. | G31: 20. | H31: 3. | I31: 16 | L31: Program Penunjang Pelayanan Kedinasan Kepala Daerah / Wakil Kepala Daerah | M31: Persentase standarisasi Pelayanan kedinasan Kepala Daerah/Wakil Kepala Daerah yang terpenuhi | O31: =O25 -> 1 | P31: =[2]Sheet1!$N$35 -> 7548684000 | Q31: =Q25 -> 0 | R31: =[2]Sheet1!$P$35 -> 8303552400 | S31: =S25 -> 1 | T31: =[2]Sheet1!$R$35 -> 9133907640 | U31: =U25 -> 1 | V31: =[2]Sheet1!$T$35 -> 10047298404 | W31: =W25 -> 1 | X31: =[2]Sheet1!$V$35 -> 1.1052028e+10 | Y31: =Y25 -> 0.1 | Z31: =X31 -> 1.1052028e+10 | AA31: Biro Umum | AB31: Provinsi Jambi
C32: Jumlah Dialog/Audiensi antara Kepala Daerah dengan Tokoh Masyarakat, Pimpinan/ Anggota Organisasi Sosial dan Masyarakat. | D32: 1. | E32: 20. | F32: 1. | G32: 20. | H32: 3. | I32: 16 | J32: 01 | L32: Kegiatan Dialog / Audiensi dengan Tokoh-Tokoh Masyarakat,Pimpinan / Anggota Organisasi Sosial dan Kemasyarakatan | M32: Jumlah Dialog/Audiensi antara Kepala Daerah dengan Tokoh Masyarakat, Pimpinan/ Anggota Organisasi Sosial dan Masyarakat difasilitasi | O32: 100 dialog/audiensi | P32: =[2]Sheet1!$N$36 -> 625108000 | Q32: 100 dialog/audiensi | R32: =[2]Sheet1!$P$36 -> 687618800 | S32: 100 dialog/audiensi | T32: =[2]Sheet1!$R$36 -> 756380680 | U32: ≥ 100 dialog/audiensi | V32: =[2]Sheet1!$T$36 -> 832018748 | W32: ≥ 100 dialog/audiensi | X32: =[2]Sheet1!$V$36 -> 9.1522062e+08 | Y32: ≥ 100 dialog/audiensi | Z32: =X32 -> 9.1522062e+08 | AA32: Bagian Rumah Tangga
C33: Jumlah Penerimaan Kunjungan Kerja Pejabat Negara / Departemen / Lembaga Pemerintah Non Departemen / Luar Negeri | D33: 1. | E33: 20. | F33: 1. | G33: 20. | H33: 3. | I33: 16 | J33: 02 | L33: Kegiatan Penerimaan Kunjungan Kerja Pejabat Negara / Departemen / Lembaga Pemerintah Non Departemen / Luar Negeri | M33: Jumlah Penerimaan Kunjungan Kerja Pejabat Negara / Departemen / Lembaga Pemerintah Non Departemen / Luar Negeri yang difasilitasi | O33: 250 Kunjungan | P33: =[2]Sheet1!$N$37 -> 858308000 | Q33: 250 Kunjungan | R33: =[2]Sheet1!$P$37 -> 944138800 | S33: 250 Kunjungan | T33: =[2]Sheet1!$R$37 -> 1038552680 | U33: ≥ 250 Kunjungan | V33: =[2]Sheet1!$T$37 -> 1142407948 | W33: ≥ 250 Kunjungan | X33: =[2]Sheet1!$V$37 -> 1.2566487e+09 | Y33: ≥ 250 Kunjungan | Z33: =X33 -> 1.2566487e+09
C34: Jumlah Koordinasi dengan Pemerintah Pusat dan Pemerintah Daerah Lainnya | D34: 1. | E34: 20. | F34: 1. | G34: 20. | H34: 3. | I34: 16 | J34: 06 | L34: Kegiatan Koordinasi dengan Pemerintah Pusat dan Pemerintah Daerah Lainnya | M34: Jumlah Koordinasi dengan Pemerintah Pusat dan Pemerintah Daerah Lainnya yang difasilitasi | O34: 150 kali | P34: =[2]Sheet1!$N$38 -> 1359534000 | Q34: 150 kali | R34: =[2]Sheet1!$P$38 -> 1495487400 | S34: 150 kali | T34: =[2]Sheet1!$R$38 -> 1645036140 | U34: ≥ 150 kali | V34: =[2]Sheet1!$T$38 -> 1809539754 | W34: ≥ 150 kali | X34: =[2]Sheet1!$V$38 -> 1.9904937e+09 | Y34: ≥ 150 kali | Z34: =X34 -> 1.9904937e+09
C35: Persentase Pelayanan Kedinasan Kepala Daerah / Wakil Kepala Daerah | D35: 1. | E35: 20. | F35: 1. | G35: 20. | H35: 3. | I35: 16 | J35: 10 | L35: Kegiatan Pelayanan Kedinasan Kepala Daerah / Wakil Kepala Daerah | M35: Persentase Pelayanan Kedinasan Kepala Daerah / Wakil Kepala Daerah yang difalitasi | O35: 0.6 | P35: =[2]Sheet1!$N$39 -> 4705734000 | Q35: 0.6 | R35: =[2]Sheet1!$P$39 -> 5176307400 | S35: 0.6 | T35: =[2]Sheet1!$R$39 -> 5693938140 | U35: ≥ 65% | V35: =[2]Sheet1!$T$39 -> 6263331954 | W35: ≥ 65% | X35: =[2]Sheet1!$V$39 -> 6.8896651e+09 | Y35: ≥ 65% | Z35: =X35 -> 6.8896651e+09
A36: Meningkatkan Pelayanan Administrasi Keuangan Sekretariat dengan cepat, tertib dan akuntabel | B36: Terwujudnya Pelayanan Administrasi Keuangan Sekretariat dengan cepat, tertib dan akuntabel | C36: Tingkat pemenuhan kebutuhan dasar operasional unit kerja dalam mendukung tugas pokok dan mendukung tupoksinya | D36: 1. | E36: 20. | F36: 1. | G36: 20. | H36: 3. | I36: 01 | L36: Program Pelayanan Administrasi Perkantoran | M36: Tingkat pemenuhan kebutuhan dasar operasional unit kerja dalam mendukung tugas pokok dan fungsinya | O36: =O31 -> 1 | P36: =P16 -> 20563041650 | Q36: =Q31 -> 0 | R36: =R16 -> 24483599725 | S36: =S31 -> 1 | T36: =T16 -> 29279637599 | U36: =U31 -> 1 | V36: =V16 -> 3.4315469e+10 | W36: =W31 -> 1 | X36: =X16 -> 4.0294751e+10 | Y36: =Y31 -> 0.1 | Z36: =X36 -> 4.0294751e+10 | AA36: Biro Umum | AB36: Provinsi Jambi
C37: Jumlah pegawai yang dibayar gajinya | D37: 1. | E37: 20. | F37: 1. | G37: 20. | H37: 3. | I37: 01. | J37: 07 | L37: Kegiatan Jasa Administrasi Keuangan | M37: Jumlah pegawai yang dibayar gajinya | O37: 105 orang | P37: =[2]Sheet1!$N$10 -> 3073204800 | Q37: 105 orang | R37: =[2]Sheet1!$P$10 -> 3534185520 | S37: ≥ 110 orang | T37: =[2]Sheet1!$R$10 -> 4064313348 | U37: ≥ 110 orang | V37: =[2]Sheet1!$T$10 -> 4.6739604e+09 | W37: ≥ 110 orang | X37: =[2]Sheet1!$V$10 -> 5.3750544e+09 | Y37: ≥ 110 orang | Z37: =X37 -> 5.3750544e+09 | AA37: Bagian Keuangan
C38: Jumlah rapat koordinasi | D38: 1. | E38: 20. | F38: 1. | G38: 20. | H38: 3. | I38: 01. | J38: 18 | L38: Kegiatan Rapat-rapat Koordinasi dan Konsultasi Keluar Daerah | M38: Jumlah rapat koordinasi dan konsultasi yanga difasilitasi | O38: 700 kali | P38: =[2]Sheet1!$N$16 -> 3517548000 | Q38: 700 kali | R38: =[2]Sheet1!$P$16 -> 4221057600 | S38: 700 kali | T38: =[2]Sheet1!$R$16 -> 5065269120 | U38: 700 kali | V38: =[2]Sheet1!$T$16 -> 6078322944 | W38: 700 kali | X38: =[2]Sheet1!$V$16 -> 7.2939875e+09 | Y38: 700 kali | Z38: =X38 -> 7.2939875e+09
C39: Jumlah Rapat, Monitoring dan Evaluasi ke dalam Daerah | D39: 1. | E39: 20. | F39: 1. | G39: 20. | H39: 3. | I39: 01. | J39: 25 | L39: Kegiatan Rapat, Monitoring dan Evaluasi ke dalam Daerah | M39: Jumlah Rapat, Monitoring dan Evaluasi ke dalam Daerah yang difasilitasi | O39: 1700 kali | P39: =[2]Sheet1!$N$18 -> 1684034000 | Q39: 1700 kali | R39: =[2]Sheet1!$P$18 -> 1852437400 | S39: 1700 kali | T39: =[2]Sheet1!$R$18 -> 2037681140 | U39: 1700 kali | V39: =[2]Sheet1!$T$18 -> 2241449254 | W39: 1700 kali | X39: =[2]Sheet1!$V$18 -> 2.4655942e+09 | Y39: 1700 kali | Z39: =X39 -> 2.4655942e+09
C40: Nilai Sakip | D40: 1. | E40: 20. | F40: 1. | G40: 20. | H40: 3. | I40: 06 | L40: Program Peningkatan Pengembangan Sistem Pelaporan Capaian Kinerja dan Keuangan | M40: ='[1]pem dan hukum'!$I$8 -> Persentase menurunnya temuan hasil pemeriksaan keuangan dan barang milik Setda Provinsi Jambi | P40: =[2]Sheet1!$N$31 -> 656323395 | R40: =[2]Sheet1!$P$31 -> 6.8913956e+08 | T40: =[2]Sheet1!$R$31 -> 7.2359654e+08 | U40: =S40 -> 0 | V40: =[2]Sheet1!$T$31 -> 7.5977637e+08 | W40: =U40 -> 0 | X40: =[2]Sheet1!$V$31 -> 7.9776519e+08 | Y40: =W40 -> 0 | Z40: =X40 -> 7.9776519e+08 | AA40: Biro Umum | AB40: Provinsi Jambi
C41: Jumlah laporan | D41: 1. | E41: 20. | F41: 1. | G41: 20. | H41: 3. | I41: 06 | J41: 05 | L41: Kegiatan Penyusunan Pelaporan Keuangan | M41: Jumlah laporan Keuangan | O41: 1 Dokumn | P41: =[2]Sheet1!$N$32 -> 309750000 | R41: =[2]Sheet1!$P$32 -> 325237500 | T41: =[2]Sheet1!$R$32 -> 341499375 | V41: =[2]Sheet1!$T$32 -> 3.5857434e+08 | X41: =[2]Sheet1!$V$32 -> 3.7650306e+08 | Z41: =X41 -> 3.7650306e+08 | AA41: Bagian Keuangan
C42: Jumlah laporan | L42: Kegiatan Inventarisasi Barang Milik Daerah Provinsi Jambi | M42: Jumlah laporan BMD | O42: 1 D | P42: =[2]Sheet1!$N$33 -> 346573395 | R42: =[2]Sheet1!$P$33 -> 3.6390206e+08 | T42: =[2]Sheet1!$R$33 -> 3.8209717e+08 | V42: =[2]Sheet1!$T$33 -> 4.0120203e+08 | X42: =[2]Sheet1!$V$33 -> 4.2126213e+08 | Z42: =X42 -> 4.2126213e+08 | AA42: Bagian Perlengkapan
A43: Meningkatnya sarana dan prasarana yang memadai dengan prinsip efektif dan efesiensi | B43: Terwujudnya Sarana dan Prasarana yang memadai dengan prinsip efektif dan efesiensi | C43: Tingkat pemenuhan kebutuhan dasar operasional unit kerja dalam mendukung tugas pokok dan mendukung tupoksinya | D43: 1. | E43: 20. | F43: 1. | G43: 20. | H43: 3. | I43: 01 | L43: Program Pelayanan Administrasi Perkantoran | M43: ='[1]pem dan hukum'!$I$6 -> Persentase pemenuhan kebutuhan dasar operasional unit kerja dalam mendukung tugas pokok dan fungsinya | O43: =O36 -> 1 | P43: =P36 -> 20563041650 | Q43: =Q36 -> 0 | R43: =[2]Sheet1!$P$5 -> 24483599725 | S43: =S36 -> 1 | T43: =[2]Sheet1!$R$5 -> 29279637599 | U43: =U36 -> 1 | V43: =[2]Sheet1!$T$5 -> 3.4315469e+10 | W43: =W36 -> 1 | X43: =[2]Sheet1!$V$5 -> 4.0294751e+10 | Y43: =Y36 -> 0.1 | Z43: =X43 -> 4.0294751e+10 | AA43: Biro Umum | AB43: Provinsi Jambi
C44: Periode pemakainan Jasa Kebersihan Kantor | D44: 1. | E44: 20. | F44: 1. | G44: 20. | H44: 3. | I44: 01. | J44: 08 | L44: Kegiatan Penyediaan Jasa Kebersihan Kantor | M44: Score IKM Kebersihan Kantor | O44: B | P44: =[2]Sheet1!$N$11 -> 1379172000 | Q44: 12 bulan | R44: =[2]Sheet1!$P$11 -> 1586047800 | S44: 12 bulan | T44: =[2]Sheet1!$R$11 -> 1823954970 | U44: 12 bulan | V44: =[2]Sheet1!$T$11 -> 2.0975482e+09 | W44: 12 bulan | X44: =[2]Sheet1!$V$11 -> 2.4121804e+09 | Y44: 12 bulan | Z44: =X44 -> 2.4121804e+09 | AA44: Bagian Perlengkapan
C45: Jumlah Komponen Instalasi listrik/penerangan bangunan kantor yang terpakai | D45: 1. | E45: 20. | F45: 1. | G45: 20. | H45: 3. | I45: 01. | J45: 12 | L45: Kegiatan Penyediaan Komponen Instalasi listrik/penerangan bangunan kantor | M45: Persentase Komponen Instalasi listrik/penerangan bangunan kantor yang di fasilitasi | O45: 100 | P45: =[2]Sheet1!$N$14 -> 804210000 | R45: =[2]Sheet1!$P$14 -> 884631000 | T45: =[2]Sheet1!$R$14 -> 973094100 | V45: =[2]Sheet1!$T$14 -> 1070403510 | X45: =[2]Sheet1!$V$14 -> 1177443861 | Z45: =X45 -> 1177443861
C46: Persentase Pemenuhan kebutuhan sarana dan prasarana kerja aparatur sesuai standar daerah | D46: 1. | E46: 20. | F46: 1. | G46: 20. | H46: 3. | I46: 02 | L46: Program Peningkatan Sarana dan Prasarana Aparatur | M46: Persentase Pemenuhan kebutuhan sarana dan prasarana kerja aparatur sesuai standar daerah | O46: =O43 -> 1 | P46: =[2]Sheet1!$N$21 -> 11051386970 | Q46: =Q43 -> 0 | R46: =[2]Sheet1!$P$21 -> 1.2563926e+10 | S46: =S43 -> 1 | T46: =[2]Sheet1!$R$21 -> 1.431698e+10 | U46: =U43 -> 1 | V46: =[2]Sheet1!$T$21 -> 1.6356433e+10 | W46: =W43 -> 1 | X46: =[2]Sheet1!$V$21 -> 1.8738569e+10 | Y46: =Y43 -> 0.1 | Z46: =X46 -> 1.8738569e+10 | AA46: Biro Umum | AB46: Provinsi Jambi
C47: Jumlah pengadaan Kendaraan Dinas / Operasional | D47: 1. | E47: 20. | F47: 1. | G47: 20. | H47: 3. | I47: 02 | J47: 05 | L47: Kegiatan pengadaan Kendaraan Dinas / Operasional | M47: Jumlah kendaraan dinas roda 4 | O47: 2 Unit | P47: =[2]Sheet1!$N$22 -> 740300000 | Q47: 2 unit | R47: =[2]Sheet1!$P$22 -> 814330000 | S47: ≥ 2 Unit | T47: =[2]Sheet1!$R$22 -> 895763000 | U47: ≥ 2 Unit | V47: =[2]Sheet1!$T$22 -> 985339300 | W47: ≥ 2 Unit | X47: =[2]Sheet1!$V$22 -> 1083873230 | Y47: =W47 -> ≥ 2 Unit | Z47: =X47 -> 1083873230 | AA47: Bagian Perlengkapan
M48: Jumlah kendaraan dinas roda 2 | O48: 8 unit
C49: Jumlah Pengadaan Perlengkapan Gedung Kantor | D49: 1. | E49: 20. | F49: 1. | G49: 20. | H49: 3. | I49: 02 | J49: 07 | L49: Kegiatan Pengadaan Perlengkapan Gedung Kantor | M49: Persentase Perlengkapan Gedung Kantor yang difalitasi | O49: 100 | P49: =[2]Sheet1!$N$24 -> 1732170000 | R49: =[2]Sheet1!$P$24 -> 1905387000 | T49: =[2]Sheet1!$R$24 -> 2095925700 | V49: =[2]Sheet1!$T$24 -> 2305518270 | X49: =[2]Sheet1!$V$24 -> 2536070097 | Z49: =X49 -> 2536070097
C50: Jumlah gedung kantor yang terpelihara | D50: 1. | E50: 20. | F50: 1. | G50: 20. | H50: 3. | I50: 02 | J50: 22 | L50: Kegiatan Pemeliharaan Rutin/Berkala Gedung Kantor | M50: Jumlah gedung kantor yang dipelihara | P50: =[2]Sheet1!$N$26 -> 938340000 | R50: =[2]Sheet1!$P$26 -> 1219842000 | T50: =[2]Sheet1!$R$26 -> 1585794600 | V50: =[2]Sheet1!$T$26 -> 2061532980 | X50: =[2]Sheet1!$V$26 -> 2679992874 | Z50: =X50 -> 2679992874
C51: Jumlah peralatan gedung kantor | D51: 1. | E51: 20. | F51: 1. | G51: 20. | H51: 3. | I51: 02 | J51: 28 | L51: Kegiatan Pemeliharaan Rutin / Berkala Peralatan Gedung Kantor | M51: Persentase peralatan gedung kantor yang difasilitasi | P51: =[2]Sheet1!$N$28 -> 1080610960 | R51: =[2]Sheet1!$P$28 -> 1188672056 | T51: =[2]Sheet1!$R$28 -> 1.3075393e+09 | V51: =[2]Sheet1!$T$28 -> 1.4382932e+09 | X51: =[2]Sheet1!$V$28 -> 1.5821225e+09 | Z51: =X51 -> 1.5821225e+09
C52: Jumlah Pakaian Dinas | L52: =#REF! -> #REF! | M52: Jumlah Pakaian Dinas | O52: 1100 stel | P52: =[2]Sheet1!$N$29 -> 525000000 | Q52: 1100 stel | R52: =[2]Sheet1!$P$29 -> 577500000 | S52: ≥ 1100 stel | T52: =[2]Sheet1!$R$29 -> 635250000 | U52: ≥ 1100 stel | V52: =[2]Sheet1!$T$29 -> 698775000 | W52: ≥ 1100 stel | X52: =[2]Sheet1!$V$29 -> 768652500 | Y52: ≥ 1100 stel | Z52: =X52 -> 768652500
C54: PROGRAM | L54: 2017 | M54: 2018 | O54: 2019 | Q54: 2020 | S54: 2021 | Y54: Jambi, Maret 2016
C55: 1. Program Pelayanan administrasi perkantoran | J55: : | L55: =[2]Sheet1!$N$5 -> 20563041650 | M55: =[2]Sheet1!$P$5 -> 24483599725 | O55: =[2]Sheet1!$R$5 -> 29279637599 | Q55: =[2]Sheet1!$T$5 -> 3.4315469e+10 | S55: =[2]Sheet1!$V$5 -> 4.0294751e+10
Y56: Kepala Biro Umum
C57: 2. Program Peningkatan Sarana dan Prasarana Aparatur | J57: : | L57: =[2]Sheet1!$N$21 -> 11051386970 | M57: =[2]Sheet1!$P$21 -> 1.2563926e+10 | O57: =[2]Sheet1!$R$21 -> 1.431698e+10 | Q57: =[2]Sheet1!$T$21 -> 1.6356433e+10 | S57: =[2]Sheet1!$V$21 -> 1.8738569e+10
C59: 3. Program Peningkatan pengembangan Sistem Pelaporan capaian Kinerja | J59: : | L59: =[2]Sheet1!$N$31 -> 656323395 | M59: =[2]Sheet1!$P$31 -> 6.8913956e+08 | O59: =[2]Sheet1!$R$31 -> 7.2359654e+08 | Q59: =[2]Sheet1!$T$31 -> 7.5977637e+08 | S59: =[2]Sheet1!$V$31 -> 7.9776519e+08
C60: dan Keuangan | Y60: H. SUMANTRI, S.Sos
Y61: Pembina Tk. I
C62: 4. Program Penunjang Pelayanan Kedinasan Kepala Daerah dan Wakil | J62: : | L62: =[2]Sheet1!$N$35 -> 7548684000 | M62: =[2]Sheet1!$P$35 -> 8303552400 | O62: =[2]Sheet1!$R$35 -> 9133907640 | Q62: =[2]Sheet1!$T$35 -> 10047298404 | S62: =[2]Sheet1!$V$35 -> 1.1052028e+10 | Y62: Nip. 19580203 198103 1 005
C63: Kepala Daerah
D64: T O T A L | J64: : | L64: =SUM(L55:L62) -> 39819436015 | M64: =SUM(M55:M62) -> 4.6040218e+10 | O64: =SUM(O55:P62) -> 5.3454122e+10 | Q64: =SUM(Q55:R62) -> 6.1478978e+10

Sheet indikator
A2: INDIKATOR KINERJA SKPD YANG MENGACU PADA TUJUAN DAN SASARAN RPJMD
A4: No | B4: Indikator | C4: Kondisi Kinerja Pada Awal Periode RPJMD | D4: Target capaian Setiap Tahun | I4: Kondisi Kinerja Pada Akhir Periode RPJMD
C5: Tahun 0 | D5: Tahun 1 | E5: Tahun 2 | F5: Tahun 3 | G5: Tahun 4 | H5: Tahun 5
A6: (1) | B6: (2) | C6: (3) | D6: (4) | E6: (5) | F6: (6) | G6: (7) | H6: (8) | I6: (9)
A7: I | B7: Persentase Pelayanan Administrasi Perkantoran | C7: 15882755567 | D7: =RANCANGAN!P7 -> 20563041650 | E7: =RANCANGAN!R7 -> 24483599725 | F7: =RANCANGAN!T7 -> 29279637599 | G7: =RANCANGAN!V7 -> 3.4315469e+10 | H7: =RANCANGAN!X7 -> 4.0294751e+10 | I7: =H7 -> 4.0294751e+10
A8: 1 | B8: Jumlah surat masuk/keluar per tahun | C8: 47285790 | D8: =RANCANGAN!P8 -> 94014800 | E8: =RANCANGAN!R8 -> 103416280 | F8: =RANCANGAN!T8 -> 113757908 | G8: =RANCANGAN!V8 -> 1.251337e+08 | H8: =RANCANGAN!X8 -> 1.3764707e+08 | I8: =H8 -> 1.3764707e+08
A9: 2 | B9: Jumlah ATK yang dipergunakan | C9: 318795000 | D9: =RANCANGAN!P9 -> 310653750 | E9: =RANCANGAN!R9 -> 341719125 | F9: =RANCANGAN!T9 -> 3.7589104e+08 | G9: =RANCANGAN!V9 -> 4.1348014e+08 | H9: =RANCANGAN!X9 -> 4.5482816e+08 | I9: =H9 -> 4.5482816e+08
A10: 3 | B10: Jumlah Barang Cetakan dan Penggandaan yang dipergunakan | C10: 448733200 | D10: =RANCANGAN!P10 -> 465909400 | E10: =RANCANGAN!R10 -> 512500340 | F10: =RANCANGAN!T10 -> 563750374 | G10: =RANCANGAN!V10 -> 6.2012541e+08 | H10: =RANCANGAN!X10 -> 6.8213795e+08 | I10: =H10 -> 6.8213795e+08
A11: 4 | B11: Jumlah Laporan yang disampikan | C11: 0 | D11: =RANCANGAN!P11 -> 76755000 | E11: =RANCANGAN!R11 -> 78290100 | F11: =RANCANGAN!T11 -> 79855902 | G11: =RANCANGAN!V11 -> 81453020 | H11: =RANCANGAN!X11 -> 83082080 | I11: =H11 -> 83082080
A12: I | B12: Persentase Pelayanan Administrasi Perkantoran | C12: 15882755567 | D12: =RANCANGAN!P16 -> 20563041650 | E12: =RANCANGAN!R16 -> 24483599725 | F12: =RANCANGAN!T16 -> 29279637599 | G12: =RANCANGAN!V16 -> 3.4315469e+10 | H12: =RANCANGAN!X16 -> 4.0294751e+10 | I12: =H12 -> 4.0294751e+10
A13: 5 | B13: Persentase pemakaian jasa komunikasi, seumberdaya air dan listrik | C13: 4058062539 | D13: =RANCANGAN!P17 -> 5053258600 | E13: =RANCANGAN!R17 -> 6569236180 | F13: =RANCANGAN!T17 -> 8540007034 | G13: =RANCANGAN!V17 -> 1.0248008e+10 | H13: =RANCANGAN!X17 -> 1.229761e+10 | I13: =H13 -> 1.229761e+10
A14: 6 | B14: Persentase penggunaan Jasa Peralatan dan Perlengkapan Kantor | C14: 419257500 | D14: =RANCANGAN!P20 -> 526526000 | E14: =RANCANGAN!R20 -> 684483800 | F14: =RANCANGAN!T20 -> 889828940 | G14: =RANCANGAN!V20 -> 1156777622 | H14: =RANCANGAN!X20 -> 1.5038109e+09 | I14: =H14 -> 1.5038109e+09
A15: 7 | B15: Persentase Jasa Jaminan Barang Milik Daerah | C15: 742219203 | D15: =RANCANGAN!P21 -> 877330300 | E15: =RANCANGAN!R21 -> 965063330 | F15: =RANCANGAN!T21 -> 1061569663 | G15: =RANCANGAN!V21 -> 1.1677266e+09 | H15: =RANCANGAN!X21 -> 1.2844993e+09 | I15: =H15 -> 1.2844993e+09
A16: 8 | B16: Persentase Bahan Logistik Kantor | C16: 1704057630 | D16: =RANCANGAN!P23 -> 1200425000 | E16: =RANCANGAN!R23 -> 1500531250 | F16: =RANCANGAN!T23 -> 1.8756641e+09 | G16: =RANCANGAN!V23 -> 2.3445801e+09 | H16: =RANCANGAN!X23 -> 2.9307251e+09 | I16: =H16 -> 2.9307251e+09
A17: II | B17: Persantasse Peningkatan Sarana dan Prasarana Aparatur | C17: 10222699406 | D17: =RANCANGAN!P25 -> 11051386970 | E17: =RANCANGAN!R25 -> 1.2563926e+10 | F17: =RANCANGAN!T25 -> 1.431698e+10 | G17: =RANCANGAN!V25 -> 1.6356433e+10 | H17: =RANCANGAN!X25 -> 1.8738569e+10 | I17: =H17 -> 1.8738569e+10
A18: 1 | B18: Persentase Perlengkapan Rumah Jabatan / Dinas | C18: 838670500 | D18: =RANCANGAN!P26 -> 833096000 | E18: =RANCANGAN!R26 -> 916405600 | F18: =RANCANGAN!T26 -> 1008046160 | G18: =RANCANGAN!V26 -> 1108850776 | H18: =RANCANGAN!X26 -> 1.2197359e+09 | I18: =H18 -> 1.2197359e+09
A19: 2 | B19: Persentase Pemeliharaan Rutin/Berkala Rumah Dinas | C19: 667338000 | D19: =RANCANGAN!P27 -> 807216080 | E19: =RANCANGAN!R27 -> 887937688 | F19: =RANCANGAN!T27 -> 9.7673146e+08 | G19: =RANCANGAN!V27 -> 1.0744046e+09 | H19: =RANCANGAN!X27 -> 1.1818451e+09 | I19: =H19 -> 1.1818451e+09
A20: 3 | B20: Persentase Pemeliharaan Rutin / Berkala Kendaraan Dinas / Operasional | C20: 4670113100 | D20: =RANCANGAN!P28 -> 4394653930 | E20: =RANCANGAN!R28 -> 5.053852e+09 | F20: =RANCANGAN!T28 -> 5.8119298e+09 | G20: =RANCANGAN!V28 -> 6.6837193e+09 | H20: =RANCANGAN!X28 -> 7.6862772e+09 | I20: =H20 -> 7.6862772e+09
A21: IV | B21: Persentase Penunjang Pelayanan Kedinasan Kepala Daerah / Wakil Kepala Daerah | C21: 5358622119 | D21: =RANCANGAN!P31 -> 7548684000 | E21: =RANCANGAN!R31 -> 8303552400 | F21: =RANCANGAN!T31 -> 9133907640 | G21: =RANCANGAN!V31 -> 10047298404 | H21: =RANCANGAN!X31 -> 1.1052028e+10 | I21: =H21 -> 1.1052028e+10
A22: 1 | B22: Persentase Terlaksananya Dialog/Audiensi antara Kepala Daerah dengan Tokoh Masyarakat, Pimpinan/ Anggota Organisasi Sosial dan Masyarakat. | C22: 710143250 | D22: =RANCANGAN!P32 -> 625108000 | E22: =RANCANGAN!R32 -> 687618800 | F22: =RANCANGAN!T32 -> 756380680 | G22: =RANCANGAN!V32 -> 832018748 | H22: =RANCANGAN!X32 -> 9.1522062e+08 | I22: =H22 -> 9.1522062e+08
A23: 2 | B23: Peresentase Penerimaan Kunjungan Kerja Pejabat Negara / Departemen / Lembaga Pemerintah Non Departemen / Luar Negeri | C23: 448502800 | D23: =RANCANGAN!P33 -> 858308000 | E23: =RANCANGAN!R33 -> 944138800 | F23: =RANCANGAN!T33 -> 1038552680 | G23: =RANCANGAN!V33 -> 1142407948 | H23: =RANCANGAN!X33 -> 1.2566487e+09 | I23: =H23 -> 1.2566487e+09
A24: 3 | B24: Persentase Koordinasi dengan Pemerintah Pusat dan Pemerintah Daerah Lainnya | C24: 974089646 | D24: =RANCANGAN!P34 -> 1359534000 | E24: =RANCANGAN!R34 -> 1495487400 | F24: =RANCANGAN!T34 -> 1645036140 | G24: =RANCANGAN!V34 -> 1809539754 | H24: =RANCANGAN!X34 -> 1.9904937e+09 | I24: =H24 -> 1.9904937e+09
A25: 4 | B25: Persentase Pelayanan Kedinasan Kepala Daerah / Wakil Kepala Daerah | C25: 3225886423 | D25: =RANCANGAN!P35 -> 4705734000 | E25: =RANCANGAN!R35 -> 5176307400 | F25: =RANCANGAN!T35 -> 5693938140 | G25: =RANCANGAN!V35 -> 6263331954 | H25: =RANCANGAN!X35 -> 6.8896651e+09 | I25: =H25 -> 6.8896651e+09
A26: I | B26: Persentase Pelayanan Administrasi Perkantoran | D26: =RANCANGAN!P36 -> 20563041650 | E26: =RANCANGAN!R36 -> 24483599725 | F26: =RANCANGAN!T36 -> 29279637599 | G26: =RANCANGAN!V36 -> 3.4315469e+10 | H26: =RANCANGAN!X36 -> 4.0294751e+10 | I26: =H26 -> 4.0294751e+10
A27: 9 | B27: Jumlah pegawai yang dibayar gajinya | C27: 2016741000 | D27: =RANCANGAN!P37 -> 3073204800 | E27: =RANCANGAN!R37 -> 3534185520 | F27: =RANCANGAN!T37 -> 4064313348 | G27: =RANCANGAN!V37 -> 4.6739604e+09 | H27: =RANCANGAN!X37 -> 5.3750544e+09 | I27: =H27 -> 5.3750544e+09
A28: 10 | B28: Persentase Rapat-rapat Koordinasi dan Konsultasi Keluar Daerah | C28: 2616650525 | D28: =RANCANGAN!P38 -> 3517548000 | E28: =RANCANGAN!R38 -> 4221057600 | F28: =RANCANGAN!T38 -> 5065269120 | G28: =RANCANGAN!V38 -> 6078322944 | H28: =RANCANGAN!X38 -> 7.2939875e+09 | I28: =H28 -> 7.2939875e+09
A29: 11 | B29: Persentase Rapat, Monitoring dan Evaluasi ke dalam Daerah | C29: 1726738050 | D29: =RANCANGAN!P39 -> 1684034000 | E29: =RANCANGAN!R39 -> 1852437400 | F29: =RANCANGAN!T39 -> 2037681140 | G29: =RANCANGAN!V39 -> 2241449254 | H29: =RANCANGAN!X39 -> 2.4655942e+09 | I29: =H29 -> 2.4655942e+09
A30: III | B30: Persentase Pengembangan Sistem Pelaporan Capaian Kinerja dan Keuangan | C30: 230463200 | D30: =RANCANGAN!P40 -> 656323395 | E30: =RANCANGAN!R40 -> 6.8913956e+08 | F30: =RANCANGAN!T40 -> 7.2359654e+08 | G30: =RANCANGAN!V40 -> 7.5977637e+08 | H30: =RANCANGAN!X40 -> 7.9776519e+08 | I30: =H30 -> 7.9776519e+08
A31: 1 | B31: Tersedianya Laporan Keuangan Sekretariat Daerah | C31: 230463200 | D31: =RANCANGAN!P41 -> 309750000 | E31: =RANCANGAN!R41 -> 325237500 | F31: =RANCANGAN!T41 -> 341499375 | G31: =RANCANGAN!V41 -> 3.5857434e+08 | H31: =RANCANGAN!X41 -> 3.7650306e+08 | I31: =H31 -> 3.7650306e+08
A32: I | B32: Persentase Pelayanan Administrasi Perkantoran | C32: 15882755567 | D32: =RANCANGAN!P43 -> 20563041650 | E32: =RANCANGAN!R43 -> 24483599725 | F32: =RANCANGAN!T43 -> 29279637599 | G32: =RANCANGAN!V43 -> 3.4315469e+10 | H32: =RANCANGAN!X43 -> 4.0294751e+10 | I32: =H32 -> 4.0294751e+10
A33: 12 | B33: Perentase Penyediaan Jasa Kebersihan Kantor | C33: 985451000 | D33: =RANCANGAN!P44 -> 1379172000 | E33: =RANCANGAN!R44 -> 1586047800 | F33: =RANCANGAN!T44 -> 1823954970 | G33: =RANCANGAN!V44 -> 2.0975482e+09 | H33: =RANCANGAN!X44 -> 2.4121804e+09 | I33: =H33 -> 2.4121804e+09
A34: 13 | B34: Persentase Komponen Instalasi listrik/penerangan bangunan kantor yang terpakai | C34: 798764130 | D34: =RANCANGAN!P45 -> 804210000 | E34: =RANCANGAN!R45 -> 884631000 | F34: =RANCANGAN!T45 -> 973094100 | G34: =RANCANGAN!V45 -> 1070403510 | H34: =RANCANGAN!X45 -> 1177443861 | I34: =H34 -> 1177443861
A35: II | B35: Persantasse Peningkatan Sarana dan Prasarana Aparatur | C35: 10222699406 | D35: =RANCANGAN!P46 -> 11051386970 | E35: =RANCANGAN!R46 -> 1.2563926e+10 | F35: =RANCANGAN!T46 -> 1.431698e+10 | G35: =RANCANGAN!V46 -> 1.6356433e+10 | H35: =RANCANGAN!X46 -> 1.8738569e+10 | I35: =H35 -> 1.8738569e+10
A36: 4 | B36: Jumlah pengadaan Kendaraan Dinas / Operasional | C36: 1948750000 | D36: =RANCANGAN!P47 -> 740300000 | E36: =RANCANGAN!R47 -> 814330000 | F36: =RANCANGAN!T47 -> 895763000 | G36: =RANCANGAN!V47 -> 985339300 | H36: =RANCANGAN!X47 -> 1083873230 | I36: =H36 -> 1083873230
A37: 5 | B37: Jumlah Pengadaan Perlengkapan Gedung Kantor | C37: 577832000 | D37: =RANCANGAN!P49 -> 1732170000 | E37: =RANCANGAN!R49 -> 1905387000 | F37: =RANCANGAN!T49 -> 2095925700 | G37: =RANCANGAN!V49 -> 2305518270 | H37: =RANCANGAN!X49 -> 2536070097 | I37: =H37 -> 2536070097
A38: 6 | B38: Persentase Pemeliharaan Rutin/Berkala Gedung Kantor | C38: 577026000 | D38: =RANCANGAN!P50 -> 938340000 | E38: =RANCANGAN!R50 -> 1219842000 | F38: =RANCANGAN!T50 -> 1585794600 | G38: =RANCANGAN!V50 -> 2061532980 | H38: =RANCANGAN!X50 -> 2679992874 | I38: =H38 -> 2679992874
A39: 7 | B39: Persentase Pemeliharaan Rutin / Berkala Peralatan Gedung Kantor | C39: 942969806 | D39: =RANCANGAN!P51 -> 1080610960 | E39: =RANCANGAN!R51 -> 1188672056 | F39: =RANCANGAN!T51 -> 1.3075393e+09 | G39: =RANCANGAN!V51 -> 1.4382932e+09 | H39: =RANCANGAN!X51 -> 1.5821225e+09 | I39: =H39 -> 1.5821225e+09
A40: 8 | B40: Jumlah Pakaian Dinas | C40: 0 | D40: =RANCANGAN!P52 -> 525000000 | E40: =RANCANGAN!R52 -> 577500000 | F40: =RANCANGAN!T52 -> 635250000 | G40: =RANCANGAN!V52 -> 698775000 | H40: =RANCANGAN!X52 -> 768652500 | I40: =H40 -> 768652500
A41: V | B41: Terciptanya tertib administrasi pengelolaan aset dan terwujudnya pengelolaan aset yang profesional | C41: 0 | D41: =RANCANGAN!#REF! -> #REF! | E41: =RANCANGAN!#REF! -> #REF! | F41: =RANCANGAN!#REF! -> #REF! | G41: =RANCANGAN!#REF! -> #REF! | H41: =RANCANGAN!#REF! -> #REF! | I41: =H41 -> #REF!
A42: 1 | B42: Tersedianya data aset yang akurat | C42: 0 | D42: =RANCANGAN!#REF! -> #REF! | E42: =RANCANGAN!#REF! -> #REF! | F42: =RANCANGAN!#REF! -> #REF! | G42: =RANCANGAN!#REF! -> #REF! | H42: =RANCANGAN!#REF! -> #REF! | I42: =H42 -> #REF!
B44: Keterangan : | G44: Jambi, April 2016
B45: Tahun dasar 2015 (tahun 0 )
G46: Kepala Biro Umum
G49: H. SUMANTRI, S.Sos
G50: Pembina Tk. I
G51: Nip. 19580203 198103 1 005

Sheet REVISI KE BAPPEDA
A2: LAMPIRAN REVISI NAMA KEGIATAN PADA RKPD / RENSTRA
A5: Tujuan | B5: Sasaran | C5: Indikator Sasaran | D5: Kode | K5: Program dan Kegiatan | L5: Indikator | M5: Tatget Kinerja | N5: Unit Kerja SKPD Penanggung Jawab | O5: Lokasi
L6: Kinerja Program ( outcome ) dan Kegiatan (output)
A8: Terwujudnya Jambi yang tertib | B8: Terwujudnya tertib administrasi Biro Umum | C8: =RANCANGAN!C7 -> Tingkat pemenuhan kebutuhan dasar operasional unit kerja dalam mendukung tugas pokok dan mendukung tupoksinya | D8: 4 | E8: 01 | F8: 4 | G8: 01 | H8: 2 | I8: 01 | K8: =RANCANGAN!L7 -> Program Pelayanan Administrasi Perkantoran | L8: =RANCANGAN!M7 -> Persentase pemenuhan kebutuhan dasar operasional unit kerja dalam mendukung tugas pokok dan fungsinya | M8: 1 | N8: Biro Umum | O8: Prov Jambi
D9: 4 | E9: 01 | F9: 4 | G9: 01 | H9: 2 | I9: 01 | J9: 01 | K9: Kegiatan Penyediaan Jasa Surat Menyurat | L9: =RANCANGAN!M8 -> Jumlah surat masuk/keluar per tahun | M9: 23500 Surat
D10: 4 | E10: 01 | F10: 4 | G10: 01 | H10: 2 | I10: 01 | J10: 02 | K10: Kegiatan Penyediaan Jasa Komunikasi , Sumberdaya air dan listrik | L10: Persentase Pembayaran Komunikasi yang difasilitasi | M10: 1
L11: Persentase Pembayaran Air yang difasilitasi
L12: Persentase Pembayaran Listrik yang difasilitasi
D13: 4 | E13: 01 | F13: 4 | G13: 01 | H13: 2 | I13: 01 | J13: 03 | K13: Kegiatan Penyediaan Jasa Peralatan dan Perlengkapan Kantor | L13: =RANCANGAN!M20 -> Persentase Jasa Peralatan dan perlengkapan Kantor yang difasilitasi | M13: 1
D14: 4 | E14: 01 | F14: 4 | G14: 01 | H14: 2 | I14: 01 | J14: 05 | K14: Kegiatan Penyediaan Jasa Jaminan Barang Milik Daerah | L14: =RANCANGAN!M21 -> Jumlah kendaraan dinas yang diasuransikan | M14: 120 Kendaraan Dinas R4
L15: =RANCANGAN!M22 -> Jumlah gedung kantor/rumah dinas yang diasuransikan | M15: 6 gedung kator, 3 rumah dinas jabatan
D16: 4 | E16: 01 | F16: 4 | G16: 01 | H16: 2 | I16: 01 | J16: 07 | K16: Kegiatan Penyediaan Jasa Administrasi Keuangan | L16: =RANCANGAN!M37 -> Jumlah pegawai yang dibayar gajinya | M16: 117 Orang
D17: 4 | E17: 01 | F17: 4 | G17: 01 | H17: 2 | I17: 01 | J17: 08 | K17: Kegiatan Penyediaan Jasa Kebersihan Kantor | L17: =RANCANGAN!M44 -> Score IKM Kebersihan Kantor | M17: B
C18: * | D18: 4 | E18: 06 | F18: 4 | G18: 06 | H18: 02 | I18: 01 | J18: 10 | K18: Kegiatan Penyediaan Alat Tulis Kantor | L18: =RANCANGAN!M9 -> Persentase Kebutuhan ATK yang difasilitasi
D19: 4 | E19: 01 | F19: 4 | G19: 01 | H19: 2 | I19: 01 | J19: 11 | K19: Kegiatan Penyediaan Barang Cetakan dan Penggandaan | L19: =RANCANGAN!M10 -> Persentase Kebutuhan barang cetakan dan penggandan yang difasilitasi | M19: 1
D20: 4 | E20: 01 | F20: 4 | G20: 01 | H20: 2 | I20: 01 | J20: 12 | K20: Kegiatan Penyediaan Komponen Instalasi listrik/penerangan bangunan kantor | L20: =RANCANGAN!M45 -> Persentase Komponen Instalasi listrik/penerangan bangunan kantor yang di fasilitasi | M20: 1
D21: 4 | E21: 01 | F21: 4 | G21: 01 | H21: 2 | I21: 01 | J21: 16 | K21: Kegiatan Penyediaan Bahan Logistik Kantor | L21: =RANCANGAN!M23 -> Persentase bahan logistik kantor yang difasilitasi | M21: 1
D22: 4 | E22: 01 | F22: 4 | G22: 01 | H22: 2 | I22: 01 | J22: 18 | K22: Kegiatan Rapat-rapat Koordinasi dan Konsultasi Keluar Daerah | L22: =RANCANGAN!M38 -> Jumlah rapat koordinasi dan konsultasi yanga difasilitasi | M22: 700 Kali
D23: 4 | E23: 01 | F23: 4 | G23: 01 | H23: 2 | I23: 01 | J23: 19 | K23: Kegiatan Penataan Admnistrasi Tata Usaha Biro Provinsi Jambi | L23: Jumlah Laporan Perencanaan | M23: 3 Dokumen
L24: Jumlah Laporan Evaluasi Kinerja | M24: 13 Dokumen
L25: Jumlah Laporan Kegiatan Penataan Adm Tata Usaha Biro | M25: 4 Dokumen
C27: * | D27: 4 | E27: 01 | F27: 4 | G27: 01 | H27: 2 | I27: 01 | J27: 25 | K27: Kegiatan Rapat, Monitoring dan Evaluasi ke dalam Daerah | L27: =RANCANGAN!M39 -> Jumlah Rapat, Monitoring dan Evaluasi ke dalam Daerah yang difasilitasi | M27: 1750 Kali
C28: diubah menjadi | K28: Kegiatan Pelayanan Rapat , Monitoring dan Evaluasi Kedalam Daerah KDH/WKDH. | L28: Jumlah rapat Monitoring dan Evaluasi Kedalam Daerah KDH/WKDH yang falitasi | M28: 1750 Kali
D29: 4 | E29: 01 | F29: 4 | G29: 01 | H29: 2 | I29: 01 | J29: 20 | K29: Kegiatan Penyediaan jasa keamanan kantor | L29: Pesrsentase peyediaan jasa Kemanan Gedung Kantor,rumah dinas/jabatan | M29: 1
B30: Terwujudnya pemenuhan kebutuhan dasar operasional unit kerja dalam mendukung tugas pokok dan fungsinya | C30: =RANCANGAN!C16 -> Tingkat pemenuhan kebutuhan dasar operasional unit kerja dalam mendukung tugas pokok dan mendukung tupoksinya | D30: 4 | E30: 01 | F30: 4 | G30: 01 | H30: 2 | I30: 02 | K30: =[2]Sheet1!$J$21 -> Program Peningkatan Sarana dan Prasarana Aparatur | L30: ='[1]pem dan hukum'!$I$7 -> Persentase pemenuhan kebutuhan sarana dan prasarana kerja aparatur sesuai standar daerah | M30: 1 | N30: Biro Umum | O30: Prov Jambi
D31: 4 | E31: 06 | F31: 4 | G31: 06 | H31: 02 | I31: 02 | J31: 06 | K31: =[2]Sheet1!$J$23 -> Kegiatan Pengadaan Perlengkapan Rumah Jabatan / Dinas | L31: =RANCANGAN!M26 -> Persentase perlengkapan Rumah Jabatan/Dinas yang difasilitasi
D32: 4 | E32: 01 | F32: 4 | G32: 01 | H32: 2 | I32: 02 | J32: 21 | K32: =[2]Sheet1!$J$25 -> Kegiatan Pemeliharaan Rutin/Berkala Rumah Dinas | L32: =RANCANGAN!M27 -> Jumlah Rumah dinas yang dipelihara | M32: 3 Rumah Dinas
D33: 4 | E33: 01 | F33: 4 | G33: 01 | H33: 2 | I33: 02 | J33: 22 | K33: =[2]Sheet1!$J$26 -> Kegiatan Pemeliharaan Rutin/Berkala Gedung Kantor | L33: =RANCANGAN!M50 -> Jumlah gedung kantor yang dipelihara | M33: 1 Sekretariat
D34: 4 | E34: 01 | F34: 4 | G34: 01 | H34: 2 | I34: 02 | J34: 24 | K34: =[2]Sheet1!$J$27 -> Kegiatan Pemeliharaan Rutin / Berkala Kendaraan Dinas / Operasional | L34: =RANCANGAN!M28 -> Jumlah Kendaraan dinas / operasional yang dipelihara | M34: 4 bus R6,76 Minibus R4,208 Knedaraan R2
D35: 4 | E35: 01 | F35: 4 | G35: 01 | H35: 2 | I35: 02 | J35: 28 | K35: =[2]Sheet1!$J$28 -> Kegiatan Pemeliharaan Rutin / Berkala Peralatan Gedung Kantor | L35: =RANCANGAN!M51 -> Persentase peralatan gedung kantor yang difasilitasi | M35: 1
D36: 4 | E36: 01 | F36: 4 | G36: 01 | H36: 2 | I36: 02 | J36: 45 | K36: Kegiatan Pemeliharaan rutin Taman Kantor Gubernur dan lingkungannya | L36: Persentase Pemeliharaan rutin Taman Kantor Gubernur dan lingkungannya yang di fasilitasi | M36: 1
D37: 4 | E37: 01 | F37: 4 | G37: 01 | H37: 2 | I37: 06 | K37: ='[1]pem dan hukum'!$H$8 -> Program Peningkatan Pengembangan Sistem Pelaporan Capaian Kinerja dan Keuangan | L37: Persentase peningkatan Pengembangan Sisem Pelaporan Capaian Kinerja dan keuangan | M37: 1 | N37: Biro Umum | O37: Prov Jambi
D38: 4 | E38: 01 | F38: 4 | G38: 01 | H38: 2 | I38: 06 | J38: 07 | K38: =[2]Sheet1!$J$32 -> Kegiatan Penyusunan Pelaporan Keuangan | L38: =RANCANGAN!M41 -> Jumlah laporan Keuangan | M38: 1 Dokumen
D39: 4 | E39: 01 | F39: 4 | G39: 01 | H39: 2 | I39: 26 | K39: =[2]Sheet1!$J$35 -> Program Penunjang Pelayanan Kedinasan Kepala Daerah / Wakil Kepala Daerah | L39: ='[1]pem dan hukum'!$I$9 -> Persentase pelayanan Kedinasan Kepala Daerah / Wakil Kepala Daerah yang difalitsi | M39: 1 | N39: Biro Umum | O39: Prov Jambi
D40: 4 | E40: 01 | F40: 4 | G40: 01 | H40: 2 | I40: 26 | J40: 01 | K40: =[2]Sheet1!$J$36 -> Kegiatan Dialog / Audiensi dengan Tokoh-Tokoh Masyarakat,Pimpinan / Anggota Organisasi Sosial dan Kemasyarakatan | L40: =RANCANGAN!M32 -> Jumlah Dialog/Audiensi antara Kepala Daerah dengan Tokoh Masyarakat, Pimpinan/ Anggota Organisasi Sosial dan Masyarakat difasilitasi | M40: 100 Dialog/audiensi
D41: 4 | E41: 01 | F41: 4 | G41: 01 | H41: 2 | I41: 26 | J41: 02 | K41: =[2]Sheet1!$J$37 -> Kegiatan Penerimaan Kunjungan Kerja Pejabat Negara / Departemen / Lembaga Pemerintah Non Departemen / Luar Negeri | L41: =RANCANGAN!M33 -> Jumlah Penerimaan Kunjungan Kerja Pejabat Negara / Departemen / Lembaga Pemerintah Non Departemen / Luar Negeri yang difasilitasi | M41: 250 Kunjungan
C42: * | D42: 4 | E42: 01 | F42: 4 | G42: 01 | H42: 2 | I42: 26 | J42: 06 | K42: =[2]Sheet1!$J$38 -> Kegiatan Koordinasi dengan Pemerintah Pusat dan Pemerintah Daerah Lainnya | L42: =RANCANGAN!M34 -> Jumlah Koordinasi dengan Pemerintah Pusat dan Pemerintah Daerah Lainnya yang difasilitasi | M42: 150 Kali
D43: 4 | E43: 01 | F43: 4 | G43: 01 | H43: 2 | I43: 26 | J43: 04 | K43: =[2]Sheet1!$J$39 -> Kegiatan Pelayanan Kedinasan Kepala Daerah / Wakil Kepala Daerah | L43: =RANCANGAN!M35 -> Persentase Pelayanan Kedinasan Kepala Daerah / Wakil Kepala Daerah yang difalitasi | M43: 1
D44: 4 | E44: 06 | F44: 4 | G44: 06 | H44: 02 | I44: 56 | K44: Program Peningkatan Pelayanan Kedinasan Kepala Daerah / Wakil Kepala Daerah | L44: Persentase Pelayanan Kedinasan Kepala Daerah / Wakil Kepala Daerah | M44: 1
D45: 4 | E45: 06 | F45: 4 | G45: 06 | H45: 02 | I45: 56 | J45: 01 | K45: Kegiatan Pengkajian Rekomendasi Staf Ahli bagi Kepala Daerah/Wakil Kepala Daerah dalam menyelenggarakan tugas, wewenang dan kewajibannya | L45: Persentase Pengkajian Rekomendasi Staf Ahli bagi Kepala Daerah/Wakil Kepala Daerah dalam menyelenggarakan tugas, wewenang dan kewajiban yang difasilitasi | M45: 1
L48: Jambi, Desember 2017
A50: Catatan : | L50: Kepala Biro Umum
A52: * | B52: = Dihilangkan dari Progam Kegiatan Biro Umum
B54: = Diubah nama kegiatannya | L54: OTIN SUPANDI, S.Sos
L55: Pembina Tk. I
L56: Nip. 19620215 198503 1 007

Sheet REVISI RENTRA 2019
A1: Tabel 5.1. Rencana Program, Kegiatan, Indikator Kinerja, Kelompok Sasaran dan Pendanaan Indikatif Sekretariat Daerah Provinsi Jambi
A2: DRAFT REVISI BIRO UMUM
A3: ( Revisi)
A4: Biro Umum Setda Provinsi Jambi
A6: Tujuan | B6: Sasaran | C6: Indikator Sasaran | D6: Kode | K6: Program dan Kegiatan | L6: Indikator | M6: KONDISI AWAL ( 2015) | N6: Target Kinerja Program dan Kerangka Pendanaan | AB6: Unit Kerja SKPD Penanggung Jawab | AC6: Lokasi
L7: Kinerja Program ( outcome) dan Kegiatan (output) | N7: Tahun 2016 | P7: Tahun 2017 | R7: Tahun 2018 | T7: Tahun 2019 | V7: Tahun 2020 | X7: Tahun 2021 | Z7: Kondisi Kinerja pada Akhir periode Renstra SKPD
N8: Target | O8: Rp | P8: Target | Q8: Rp | R8: Target | S8: Rp | T8: Target | U8: Rp | V8: Target | W8: Rp | X8: Target | Y8: Rp | Z8: Target | AA8: Rp
A9: Terwujudnya Reformasi Birokrasi Pemerintah Provinsi Jambi | B9: Meningkatnya kualitas Pelayanan Publik , Akuntanbilitas Kinerja, dan Keuangan | C9: Indeks Kepuasan Masyarakat terhadap pelayanan Biro Umum | D9: 4 | E9: 01 | F9: 4 | G9: 01 | H9: 2 | I9: 01 | K9: =RANCANGAN!L7 -> Program Pelayanan Administrasi Perkantoran | L9: Persentase pemenuhan kebutuhan dasar operasional unit kerja dalam mendukung tugas pokok dan fungsinya | M9: 0.7 | N9: 0.75 | O9: =SUM(O10:O31) -> 15981701500 | P9: 1 | Q9: =SUM(Q10:Q31) -> 20399520050 | R9: 1 | S9: =SUM(S10:S31) -> 25883900808 | T9: 1 | U9: =SUM(U10:U31) -> 3.0826232e+10 | V9: 1 | W9: =SUM(W10:W31) -> 3.6023112e+10 | X9: 1 | Y9: =SUM(Y10:Y31) -> 4.2179674e+10 | Z9: ='[1]pem dan hukum'!$W$6 -> 1 | AA9: =SUM(AA10:AA31) -> 4.414612e+10 | AB9: Biro Umum | AC9: Prov Jambi
D10: 4 | E10: 01 | F10: 4 | G10: 01 | H10: 2 | I10: 01 | J10: 01 | K10: Kegiatan Penyediaan Jasa Surat Menyurat | L10: =RANCANGAN!M8 -> Jumlah surat masuk/keluar per tahun | M10: 22000 surat | N10: 23000 surat | O10: =[2]Sheet1!$L$6 -> 85468000 | P10: =RANCANGAN!O8 -> 23000 surat | Q10: =O10*10% -> 8546800 | R10: 23500 surat | S10: =[2]Sheet1!$P$6 -> 103416280 | T10: 24000 surat | U10: =[2]Sheet1!$R$6 -> 113757908 | V10: 24500 surat | W10: =[2]Sheet1!$T$6 -> 1.251337e+08 | X10: 2500 surat | Y10: =[2]Sheet1!$V$6 -> 1.3764707e+08 | Z10: 2550 surat | AA10: =Y10 -> 1.3764707e+08
D11: 4 | E11: 01 | F11: 4 | G11: 01 | H11: 2 | I11: 01 | J11: 02 | K11: Kegiatan Penyediaan Jasa Komunikasi , Sumberdaya air dan listrik | L11: =RANCANGAN!M17 -> Persentase Pembayaran komunikasi yang difasilitasi | M11: 1 | N11: 1 | O11: =[2]Sheet1!$L$7 -> 3887122000 | P11: 1 | Q11: =[2]Sheet1!$N$7 -> 5053258600 | R11: =P11 -> 1 | S11: =RANCANGAN!R17 -> 6569236180 | T11: =R11 -> 1 | U11: =RANCANGAN!T17 -> 8540007034 | V11: =T11 -> 1 | W11: =RANCANGAN!V17 -> 1.0248008e+10 | X11: =V11 -> 1 | Y11: =RANCANGAN!X17 -> 1.229761e+10 | Z11: =X11 -> 1 | AA11: =RANCANGAN!Z17 -> 1.229761e+10
L12: =RANCANGAN!M18 -> Persentase Pembayaran Air yang difasilitasi
L13: =RANCANGAN!M19 -> Persentase Pembayaran Listrik ayng difasilitasi
D14: 4 | E14: 01 | F14: 4 | G14: 01 | H14: 2 | I14: 01 | J14: 03 | K14: Kegiatan Penyediaan Jasa Peralatan dan Perlengkapan Kantor | L14: =RANCANGAN!M20 -> Persentase Jasa Peralatan dan perlengkapan Kantor yang difasilitasi | M14: 1 | N14: 1 | O14: =[2]Sheet1!$L$8 -> 405020000 | P14: 1 | Q14: =[2]Sheet1!$N$8 -> 526526000 | R14: 1 | S14: =[2]Sheet1!$P$8 -> 684483800 | T14: 1 | U14: =[2]Sheet1!$R$8 -> 889828940 | V14: 1 | W14: =[2]Sheet1!$T$8 -> 1156777622 | X14: 1 | Y14: =[2]Sheet1!$V$8 -> 1.5038109e+09 | Z14: 1 | AA14: =Y14 -> 1.5038109e+09
D15: 4 | E15: 01 | F15: 4 | G15: 01 | H15: 2 | I15: 01 | J15: 05 | K15: Kegiatan Penyediaan Jasa Jaminan Barang Milik Daerah | L15: =RANCANGAN!M21 -> Jumlah kendaraan dinas yang diasuransikan | M15: =N15 -> 94 Kendaraan dinas R4 | N15: 94 Kendaraan dinas R4 | O15: =[2]Sheet1!$L$9 -> 797573000 | P15: 94 Kendaraan dinas R4 | Q15: =[2]Sheet1!$N$9 -> 877330300 | R15: 118 Kendaraan dinas R4 | S15: =[2]Sheet1!$P$9 -> 965063330 | T15: 125 Kendaraan dinas R4 | U15: =[2]Sheet1!$R$9 -> 1061569663 | V15: 135 Kendaraan dinas R4 | W15: =[2]Sheet1!$T$9 -> 1.1677266e+09 | X15: 145 Kendaraan dinas R4 | Y15: =[2]Sheet1!$V$9 -> 1.2844993e+09 | Z15: 145 Kendaraan dinas R4 | AA15: =Y15 -> 1.2844993e+09
L16: =RANCANGAN!M22 -> Jumlah gedung kantor/rumah dinas yang diasuransikan | M16: =N16 -> 6 Gedung kantor, 3 Rumah dinas jabatan | N16: 6 Gedung kantor, 3 Rumah dinas jabatan | P16: 6 Gedung kantor, 3 Rumah dinas jabatan | R16: 6 Gedung kantor, 3 Rumah dinas jabatan | T16: 6 Gedung kantor, 3 Rumah dinas jabatan | V16: 6 Gedung kantor, 3 Rumah dinas jabatan | X16: 6 Gedung kantor, 3 Rumah dinas jabatan | Z16: 6 Gedung kantor, 3 Rumah dinas jabatan
D17: 4 | E17: 01 | F17: 4 | G17: 01 | H17: 2 | I17: 01 | J17: 07 | K17: Kegiatan Penyediaan Jasa Administrasi Keuangan | L17: =RANCANGAN!M37 -> Jumlah pegawai yang dibayar gajinya | M17: 105 orang | N17: 105 orang | O17: 2672352000 | P17: 105 orang | Q17: =[2]Sheet1!$N$10 -> 3073204800 | R17: 117 Orang | S17: =[2]Sheet1!$P$10 -> 3534185520 | T17: 117 Orang | U17: =[2]Sheet1!$R$10 -> 4064313348 | V17: 117 Orang | W17: =[2]Sheet1!$T$10 -> 4.6739604e+09 | Y17: =[2]Sheet1!$V$10 -> 5.3750544e+09 | AA17: =Y17 -> 5.3750544e+09
D18: 4 | E18: 01 | F18: 4 | G18: 01 | H18: 2 | I18: 01 | J18: 08 | K18: Kegiatan Penyediaan Jasa Kebersihan Kantor | L18: =RANCANGAN!M44 -> Score IKM Kebersihan Kantor | M18: 0 | N18: B | O18: 1199280000 | P18: B | Q18: =[2]Sheet1!$N$11 -> 1379172000 | S18: =[2]Sheet1!$P$11 -> 1586047800 | U18: =[2]Sheet1!$R$11 -> 1823954970 | W18: =[2]Sheet1!$T$11 -> 2.0975482e+09 | Y18: =[2]Sheet1!$V$11 -> 2.4121804e+09 | AA18: =Y18 -> 2.4121804e+09
C19: Kegiatan Sebelum Revisi | K19: Kegiatan Penyediaan Alat Tulis Kantor | L19: Persentse Kebutuhan ATK yang di fasilitasi | M19: 1 | N19: 1 | O19: 282412500 | P19: 0 | Q19: 0 | R19: 0 | S19: 0 | T19: 0 | U19: 0 | V19: 0 | W19: 0 | X19: 0 | Y19: 0 | Z19: 1 | AA19: 282412500
D20: 4 | E20: 01 | F20: 4 | G20: 01 | H20: 2 | I20: 01 | J20: 11 | K20: Kegiatan Penyediaan Barang Cetakan dan Penggandaan | L20: =RANCANGAN!M10 -> Persentase Kebutuhan barang cetakan dan penggandan yang difasilitasi | M20: 1 | N20: 1 | O20: 423554000 | P20: 1 | Q20: =RANCANGAN!P10 -> 465909400 | R20: 1 | S20: =[2]Sheet1!$P$13 -> 512500340 | T20: 1 | U20: =[2]Sheet1!$R$13 -> 563750374 | V20: 1 | W20: =[2]Sheet1!$T$13 -> 6.2012541e+08 | X20: 1 | Y20: =[2]Sheet1!$V$13 -> 6.8213795e+08 | Z20: 1 | AA20: =Y20 -> 6.8213795e+08
M21: 0 | N21: 0 | P21: 6 Dokumen Penyediaan barang cetak dan poenggandaan | R21: 6 Dokumen Penyediaan barang cetak dan poenggandaan | T21: 6 Dokumen Penyediaan barang cetak dan poenggandaan | V21: 6 Dokumen Penyediaan barang cetak dan poenggandaan | X21: 6 Dokumen Penyediaan barang cetak dan poenggandaan | Z21: 6 Dokumen Penyediaan barang cetak dan poenggandaan
D22: 4 | E22: 01 | F22: 4 | G22: 01 | H22: 2 | I22: 01 | J22: 12 | K22: Kegiatan Penyediaan Komponen Instalasi listrik/penerangan bangunan kantor | L22: =RANCANGAN!M45 -> Persentase Komponen Instalasi listrik/penerangan bangunan kantor yang di fasilitasi | M22: 1 | N22: 1 | O22: 731100000 | P22: 1 | Q22: =RANCANGAN!P45 -> 804210000 | R22: 1 | S22: =[2]Sheet1!$P$14 -> 884631000 | T22: 1 | U22: =[2]Sheet1!$R$14 -> 973094100 | V22: 1 | W22: =[2]Sheet1!$T$14 -> 1070403510 | X22: 1 | Y22: =[2]Sheet1!$V$14 -> 1177443861 | Z22: 1 | AA22: =Y22 -> 1177443861
D23: 4 | E23: 01 | F23: 4 | G23: 01 | H23: 2 | I23: 01 | J23: 16 | K23: Kegiatan Penyediaan Bahan Logistik Kantor | L23: =RANCANGAN!M23 -> Persentase bahan logistik kantor yang difasilitasi | M23: 1 | N23: 1 | O23: 960340000 | P23: 1 | Q23: =RANCANGAN!P23 -> 1200425000 | R23: 1 | S23: =[2]Sheet1!$P$15 -> 1500531250 | T23: 1 | U23: =[2]Sheet1!$R$15 -> 1.8756641e+09 | V23: 1 | W23: =[2]Sheet1!$T$15 -> 2.3445801e+09 | X23: 1 | Y23: =[2]Sheet1!$V$15 -> 2.9307251e+09 | Z23: 1 | AA23: =Y23 -> 2.9307251e+09
D24: 4 | E24: 01 | F24: 4 | G24: 01 | H24: 2 | I24: 01 | J24: 18 | K24: Kegiatan Rapat-rapat Koordinasi dan Konsultasi Keluar Daerah | L24: =RANCANGAN!M38 -> Jumlah rapat koordinasi dan konsultasi yanga difasilitasi | M24: 650 Kali | N24: =P24 -> 700 kali | O24: 2931290000 | P24: =RANCANGAN!O38 -> 700 kali | Q24: =RANCANGAN!P38 -> 3517548000 | S24: =[2]Sheet1!$P$16 -> 4221057600 | U24: =[2]Sheet1!$R$16 -> 5065269120 | W24: =[2]Sheet1!$T$16 -> 6078322944 | Y24: =[2]Sheet1!$V$16 -> 7.2939875e+09 | AA24: =Y24 -> 7.2939875e+09
D25: 4 | E25: 01 | F25: 4 | G25: 01 | H25: 2 | I25: 01 | J25: 19 | K25: Kegiatan Penataan Admnistrasi Tata Usaha Biro Provinsi Jambi | L25: Persentse Kebutuhan ATK yang di fasilitasi | M25: 1 | N25: 1 | P25: 1 | R25: 1 | T25: 1 | V25: 1 | X25: 1 | Z25: 1
L26: =RANCANGAN!M11 -> 3 Dokumen Laporan Perencanaan | M26: 0 | N26: =L26 -> 3 Dokumen Laporan Perencanaan | O26: 75250000 | P26: =N26 -> 3 Dokumen Laporan Perencanaan | Q26: 309355150 | R26: =P26 -> 3 Dokumen Laporan Perencanaan | S26: =Q26+15467758 -> 324822908 | T26: =R26 -> 3 Dokumen Laporan Perencanaan | U26: =S26+32482291 -> 357305199 | V26: =T26 -> 3 Dokumen Laporan Perencanaan | W26: =U26+35730520 -> 393035719 | X26: =V26 -> 3 Dokumen Laporan Perencanaan | Y26: =W26+39303572 -> 432339291 | Z26: =X26 -> 3 Dokumen Laporan Perencanaan | AA26: =Y26 -> 432339291
L27: =RANCANGAN!M12 -> 13 Dokumen Laporan Evaluasi Kinerja | N27: =L27 -> 13 Dokumen Laporan Evaluasi Kinerja | P27: =N27 -> 13 Dokumen Laporan Evaluasi Kinerja | R27: =P27 -> 13 Dokumen Laporan Evaluasi Kinerja | T27: =R27 -> 13 Dokumen Laporan Evaluasi Kinerja | V27: =N27 -> 13 Dokumen Laporan Evaluasi Kinerja | X27: =V27 -> 13 Dokumen Laporan Evaluasi Kinerja | Z27: =X27 -> 13 Dokumen Laporan Evaluasi Kinerja
L28: =RANCANGAN!M13 -> 4 Dokumen Kegiatan Penataan Adm. T.U Biro Provinsi Jambi | N28: =L28 -> 4 Dokumen Kegiatan Penataan Adm. T.U Biro Provinsi Jambi | P28: =N28 -> 4 Dokumen Kegiatan Penataan Adm. T.U Biro Provinsi Jambi | R28: =P28 -> 4 Dokumen Kegiatan Penataan Adm. T.U Biro Provinsi Jambi | T28: =R28 -> 4 Dokumen Kegiatan Penataan Adm. T.U Biro Provinsi Jambi | V28: =N28 -> 4 Dokumen Kegiatan Penataan Adm. T.U Biro Provinsi Jambi | X28: =V28 -> 4 Dokumen Kegiatan Penataan Adm. T.U Biro Provinsi Jambi | Z28: =X28 -> 4 Dokumen Kegiatan Penataan Adm. T.U Biro Provinsi Jambi
C29: Kegiatan Sebelum Revisi | D29: 4 | E29: 01 | F29: 4 | G29: 01 | H29: 2 | I29: 01 | J29: 25 | K29: ='REVISI KE BAPPEDA'!K27 -> Kegiatan Rapat, Monitoring dan Evaluasi ke dalam Daerah | L29: ='REVISI KE BAPPEDA'!L27 -> Jumlah Rapat, Monitoring dan Evaluasi ke dalam Daerah yang difasilitasi | M29: 1500 kali | N29: 1500 kali | O29: 1530940000 | P29: =RANCANGAN!O39 -> 1700 kali | Q29: =RANCANGAN!P39 -> 1684034000 | R29: 0 | S29: 0 | T29: 0 | U29: 0 | V29: 0 | W29: 0 | X29: 0 | Y29: 0 | Z29: =P29 -> 1700 kali | AA29: =Q29 -> 1684034000
C30: Kegiatan Setelah Revisi | K30: Kegiatan Pelayanan Rapat, Monitoring dan Evaluasi ke Dalam Daerah KDH/WKDH | L30: =RANCANGAN!M39 -> Jumlah Rapat, Monitoring dan Evaluasi ke dalam Daerah yang difasilitasi | M30: 0 | N30: 0 | O30: 0 | P30: 0 | Q30: 0 | R30: 1750 kali | S30: =1852437400+1495487400 -> 3347924800 | T30: 1750 kali | U30: =2037681140+1645036140 -> 3682717280 | V30: =T30 -> 1750 kali | W30: =2241449254+1809539754 -> 4050989008 | X30: =V30 -> 1750 kali | Y30: =2465594179+1990493729 -> 4456087908 | Z30: =X30 -> 1750 kali | AA30: =Y30 -> 4456087908
D31: 4 | E31: 01 | F31: 4 | G31: 01 | H31: 2 | I31: 01 | J31: 20 | K31: Kegiatan Penyediaan jasa keamanan kantor | L31: ='REVISI KE BAPPEDA'!L29 -> Pesrsentase peyediaan jasa Kemanan Gedung Kantor,rumah dinas/jabatan | M31: 0 | N31: 0 | O31: 0 | P31: 0 | Q31: 1500000000 | R31: 1 | S31: =[2]Sheet1!$P$19 -> 1650000000 | T31: 1 | U31: 1815000000 | V31: 1 | W31: 1996500000 | X31: 1 | Y31: 2196150000 | Z31: 1 | AA31: =Y31 -> 2196150000
K32: =[2]Sheet1!$J$21 -> Program Peningkatan Sarana dan Prasarana Aparatur | L32: Persentase pemenuhan kebutuhan sarana dan prasarana kerja aparatur sesuai standar daerah | M32: ='[1]pem dan hukum'!$J$7 -> 0.65 | N32: ='[1]pem dan hukum'!$K$7 -> 0.7 | O32: =SUM(O33:O40) -> 7016804600 | P32: ='[1]pem dan hukum'!$M$7 -> 0.7 | Q32: =SUM(Q33:Q40) -> 8058221970 | R32: ='[1]pem dan hukum'!$O$7 -> 0.75 | S32: =SUM(S33:S40) -> 8.8376588e+09 | T32: ='[1]pem dan hukum'!$Q$7 -> 0.8 | U32: =SUM(U33:U40) -> 1.0218086e+10 | V32: ='[1]pem dan hukum'!$S$7 -> 0.85 | W32: =SUM(W33:W40) -> 1.184765e+10 | X32: ='[1]pem dan hukum'!$U$7 -> 0.9 | Y32: =SUM(Y33:Y40) -> 1.3778907e+10 | Z32: ='[1]pem dan hukum'!$W$7 -> 0.95 | AA32: =SUM(AA33:AA40) -> 1.4612003e+10 | AB32: Biro Umum | AC32: Prov Jambi
C33: Setelah Revisi (Kegiatan Di Rasionalisasi) | K33: =[2]Sheet1!$J$23 -> Kegiatan Pengadaan Perlengkapan Rumah Jabatan / Dinas | L33: =RANCANGAN!M26 -> Persentase perlengkapan Rumah Jabatan/Dinas yang difasilitasi | M33: 1 | N33: 1 | O33: =[2]Sheet1!$L$23 -> 757360000 | P33: 1 | Q33: =[2]Sheet1!$N$23 -> 833096000 | Z33: =P33 -> 1 | AA33: =Q33 -> 833096000
K34: =[2]Sheet1!$J$25 -> Kegiatan Pemeliharaan Rutin/Berkala Rumah Dinas | L34: =RANCANGAN!M27 -> Jumlah Rumah dinas yang dipelihara | M34: 2 Rumah Dinas | N34: 2 Rumah Dinas | O34: =[2]Sheet1!$L$25 -> 733832800 | P34: 2 Rumah Dinas | Q34: =[2]Sheet1!$N$25 -> 807216080 | R34: 3 Rumah Dinas | S34: =[2]Sheet1!$P$25 -> 887937688 | T34: 3 Rumah Dinas | U34: =[2]Sheet1!$R$25 -> 9.7673146e+08 | V34: 3 Rumah Dinas | W34: =[2]Sheet1!$T$25 -> 1.0744046e+09 | X34: 3 Rumah Dinas | Y34: =[2]Sheet1!$V$25 -> 1.1818451e+09 | Z34: 3 Rumah Dinas | AA34: =Y34 -> 1.1818451e+09
K35: =[2]Sheet1!$J$26 -> Kegiatan Pemeliharaan Rutin/Berkala Gedung Kantor | L35: =RANCANGAN!M50 -> Jumlah gedung kantor yang dipelihara | M35: 1 Sekretariat | N35: 1 Sekretariat | O35: =[2]Sheet1!$L$26 -> 721800000 | P35: 1 Sekretariat | Q35: =[2]Sheet1!$N$26 -> 938340000 | R35: 1 Sekretariat | S35: =[2]Sheet1!$P$26 -> 1219842000 | T35: 1 Sekretariat | U35: =[2]Sheet1!$R$26 -> 1585794600 | V35: 1 Sekretariat | W35: =[2]Sheet1!$T$26 -> 2061532980 | X35: 1 Sekretariat | Y35: =[2]Sheet1!$V$26 -> 2679992874 | Z35: 1 Sekretariat | AA35: =Y35 -> 2679992874
K36: =[2]Sheet1!$J$27 -> Kegiatan Pemeliharaan Rutin / Berkala Kendaraan Dinas / Operasional | L36: =RANCANGAN!M28 -> Jumlah Kendaraan dinas / operasional yang dipelihara | M36: =N36 -> 4 Bus R 6 | N36: =RANCANGAN!O28 -> 4 Bus R 6 | O36: =[2]Sheet1!$L$27 -> 3821438200 | P36: =RANCANGAN!Q28 -> 4 Bus R 6 | Q36: =[2]Sheet1!$N$27 -> 4394653930 | R36: =RANCANGAN!S28 -> 4 Bus R 6 | S36: =[2]Sheet1!$P$27 -> 5.053852e+09 | T36: =RANCANGAN!U28 -> 4 Bus R 6 | U36: =[2]Sheet1!$R$27 -> 5.8119298e+09 | V36: =RANCANGAN!W28 -> 4 Bus R 6 | W36: =[2]Sheet1!$T$27 -> 6.6837193e+09 | X36: =RANCANGAN!Y28 -> 4 Bus R 6 | Y36: =[2]Sheet1!$V$27 -> 7.6862772e+09 | Z36: =X36 -> 4 Bus R 6 | AA36: =Y36 -> 7.6862772e+09
M37: =N37 -> 76 minibus R4 | N37: =P37 -> 76 minibus R4 | P37: =RANCANGAN!Q29 -> 76 minibus R4 | R37: 118 minibus R4 | T37: 125 minibus R4 | V37: 135 minibus R4 | X37: 145 minibus R4 | Z37: =X37 -> 145 minibus R4
M38: =N38 -> 208 Unit R2 | N38: =RANCANGAN!O30 -> 208 Unit R2 | P38: =RANCANGAN!Q30 -> 208 Unit R2 | R38: 170 Unit R2 | T38: 180 Unit R2 | V38: 190 Unit R2 | X38: 200 Unit R2 | Z38: =X38 -> 200 Unit R2
K39: =[2]Sheet1!$J$28 -> Kegiatan Pemeliharaan Rutin / Berkala Peralatan Gedung Kantor | L39: =RANCANGAN!M51 -> Persentase peralatan gedung kantor yang difasilitasi | M39: 1 | N39: 1 | O39: =[2]Sheet1!$L$28 -> 982373600 | P39: 1 | Q39: =[2]Sheet1!$N$28 -> 1080610960 | R39: 1 | S39: =[2]Sheet1!$P$28 -> 1188672056 | T39: 1 | U39: =[2]Sheet1!$R$28 -> 1.3075393e+09 | V39: 1 | W39: =[2]Sheet1!$T$28 -> 1.4382932e+09 | X39: 1 | Y39: =[2]Sheet1!$V$28 -> 1.5821225e+09 | Z39: 1 | AA39: =Y39 -> 1.5821225e+09
K40: Kegiatan Pemeliharaan rutin Taman Kantor Gubernur dan lingkungannya | L40: Persentase Pemeliharaan rutin Taman Kantor Gubernur dan lingkungannya yang di fasilitasi | M40: 0 | N40: 1 | O40: 0 | P40: 0 | Q40: 4305000 | R40: 1 | S40: 487355000 | T40: 1 | U40: 536090500 | V40: 1 | W40: 589699550 | X40: 1 | Y40: 648669505 | Z40: 1 | AA40: 648669505
C41: Opini atas Laporan Keuangan Sekretariat | K41: ='[1]pem dan hukum'!$H$8 -> Program Peningkatan Pengembangan Sistem Pelaporan Capaian Kinerja dan Keuangan | L41: Persentase peningkatan Pengembangan Sisem Pelaporan Capaian Kinerja dan keuangan | M41: 1 | N41: 1 | O41: =SUM(O43:O43) -> 295000000 | P41: 1 | Q41: =SUM(Q43:Q43) -> 309750000 | R41: 1 | S41: =SUM(S43:S43) -> 325237500 | T41: 1 | U41: =SUM(U43:U43) -> 341499375 | V41: 1 | W41: =SUM(W43:W43) -> 3.5857434e+08 | X41: 1 | Y41: =SUM(Y43:Y43) -> 3.7650306e+08 | Z41: 1 | AA41: =Y41 -> 3.7650306e+08 | AB41: Biro Umum | AC41: Prov Jambi
C42: Laporan Keuangan Sesuai SAP
K43: =[2]Sheet1!$J$32 -> Kegiatan Penyusunan Pelaporan Keuangan | L43: =RANCANGAN!M41 -> Jumlah laporan Keuangan | M43: 1 Dokumen | N43: 1 Dokumen | O43: =[2]Sheet1!$L$32 -> 295000000 | P43: 1 Dokumen | Q43: =[2]Sheet1!$N$32 -> 309750000 | R43: 1 Dokumen | S43: =[2]Sheet1!$P$32 -> 325237500 | T43: 1 Dokumen | U43: =[2]Sheet1!$R$32 -> 341499375 | V43: 1 Dokumen | W43: =[2]Sheet1!$T$32 -> 3.5857434e+08 | X43: 1 Dokumen | Y43: =[2]Sheet1!$V$32 -> 3.7650306e+08 | Z43: 1 Dokumen | AA43: =Y43 -> 3.7650306e+08
A44: Meningkatnya Penyelenggaraan Pemerintahan Umum, dan Otonomi Daerah | B44: Meningkatnya fasilitasi pelayanan kedinasan Kepala Daerah dan Wakil Kepala Daerah | C44: Persentase peningkatan pelayanan kedinasan Kepala Daerah/Wakil Kepala Daerah | K44: =[2]Sheet1!$J$35 -> Program Penunjang Pelayanan Kedinasan Kepala Daerah / Wakil Kepala Daerah | L44: Persentase Pelayanan Kedinasan Kepala Daerah / Wakil Kepala Daerah yang difalitasi | M44: ='[1]pem dan hukum'!$J$9 -> 1 | N44: ='[1]pem dan hukum'!$J$9 -> 1 | O44: =SUM(O45:O48) -> 6862440000 | P44: ='[1]pem dan hukum'!$J$9 -> 1 | Q44: =SUM(Q45:Q48) -> 7548684000 | R44: ='[1]pem dan hukum'!$J$9 -> 1 | S44: =SUM(S45:S48) -> 6808065000 | T44: ='[1]pem dan hukum'!$J$9 -> 1 | U44: =SUM(U45:U48) -> 7488871500 | V44: ='[1]pem dan hukum'!$J$9 -> 1 | W44: =SUM(W45:W48) -> 8237758650 | X44: ='[1]pem dan hukum'!$J$9 -> 1 | Y44: =SUM(Y45:Y48) -> 9061534515 | Z44: ='[1]pem dan hukum'!$J$9 -> 1 | AA44: =Y44 -> 9061534515 | AB44: Biro Umum | AC44: Prov Jambi
K45: =[2]Sheet1!$J$36 -> Kegiatan Dialog / Audiensi dengan Tokoh-Tokoh Masyarakat,Pimpinan / Anggota Organisasi Sosial dan Kemasyarakatan | L45: =RANCANGAN!M32 -> Jumlah Dialog/Audiensi antara Kepala Daerah dengan Tokoh Masyarakat, Pimpinan/ Anggota Organisasi Sosial dan Masyarakat difasilitasi | M45: 90 dialog/audiensi | N45: =RANCANGAN!O32 -> 100 dialog/audiensi | O45: =[2]Sheet1!$L$36 -> 568280000 | P45: =RANCANGAN!Q32 -> 100 dialog/audiensi | Q45: =[2]Sheet1!$N$36 -> 625108000 | R45: =RANCANGAN!S32 -> 100 dialog/audiensi | S45: =[2]Sheet1!$P$36 -> 687618800 | T45: =R45 -> 100 dialog/audiensi | U45: =[2]Sheet1!$R$36 -> 756380680 | V45: =T45 -> 100 dialog/audiensi | W45: =[2]Sheet1!$T$36 -> 832018748 | X45: =V45 -> 100 dialog/audiensi | Y45: =[2]Sheet1!$V$36 -> 9.1522062e+08 | Z45: =X45 -> 100 dialog/audiensi | AA45: =Y45 -> 9.1522062e+08
K46: =[2]Sheet1!$J$37 -> Kegiatan Penerimaan Kunjungan Kerja Pejabat Negara / Departemen / Lembaga Pemerintah Non Departemen / Luar Negeri | L46: =RANCANGAN!M33 -> Jumlah Penerimaan Kunjungan Kerja Pejabat Negara / Departemen / Lembaga Pemerintah Non Departemen / Luar Negeri yang difasilitasi | M46: 230 kunjungan | N46: =RANCANGAN!O33 -> 250 Kunjungan | O46: =[2]Sheet1!$L$37 -> 780280000 | P46: =RANCANGAN!Q33 -> 250 Kunjungan | Q46: =[2]Sheet1!$N$37 -> 858308000 | R46: =RANCANGAN!S33 -> 250 Kunjungan | S46: =[2]Sheet1!$P$37 -> 944138800 | T46: =R46 -> 250 Kunjungan | U46: =[2]Sheet1!$R$37 -> 1038552680 | V46: =T46 -> 250 Kunjungan | W46: =[2]Sheet1!$T$37 -> 1142407948 | X46: =V46 -> 250 Kunjungan | Y46: =[2]Sheet1!$V$37 -> 1.2566487e+09 | Z46: =X46 -> 250 Kunjungan | AA46: =Y46 -> 1.2566487e+09
C47: Setelah Revisi (Kegiatan di Rasionalisasi) | K47: =[2]Sheet1!$J$38 -> Kegiatan Koordinasi dengan Pemerintah Pusat dan Pemerintah Daerah Lainnya | L47: =RANCANGAN!M34 -> Jumlah Koordinasi dengan Pemerintah Pusat dan Pemerintah Daerah Lainnya yang difasilitasi | M47: 145 kali | N47: =RANCANGAN!O34 -> 150 kali | O47: =[2]Sheet1!$L$38 -> 1235940000 | P47: =RANCANGAN!Q34 -> 150 kali | Q47: =[2]Sheet1!$N$38 -> 1359534000 | Z47: =P47 -> 150 kali | AA47: =Q47 -> 1359534000
K48: =[2]Sheet1!$J$39 -> Kegiatan Pelayanan Kedinasan Kepala Daerah / Wakil Kepala Daerah | L48: =RANCANGAN!M35 -> Persentase Pelayanan Kedinasan Kepala Daerah / Wakil Kepala Daerah yang difalitasi | M48: 0.6 | N48: =RANCANGAN!O35 -> 0.6 | O48: =[2]Sheet1!$L$39 -> 4277940000 | P48: 0.65 | Q48: =[2]Sheet1!$N$39 -> 4705734000 | R48: 0.7 | S48: =[2]Sheet1!$P$39 -> 5176307400 | T48: 0.75 | U48: =[2]Sheet1!$R$39 -> 5693938140 | V48: 0.8 | W48: =[2]Sheet1!$T$39 -> 6263331954 | X48: 0.85 | Y48: =[2]Sheet1!$V$39 -> 6.8896651e+09 | Z48: 0.9 | AA48: =Y48 -> 6.8896651e+09
K49: Program Peningkatan Pelayanan Kedinasan Kepala Daerah / Wakil Kepala Daerah | L49: Persentase Pelayanan Kedinasan Kepala Daerah / Wakil Kepala Daerah yang di fasilitasi | M49: 0 | N49: 0 | O49: 0 | P49: 1 | Q49: =SUM(Q50) -> 221647900 | R49: 1 | S49: =SUM(S50) -> 243812690 | T49: 1 | U49: =SUM(U50) -> 268193959 | V49: 1 | W49: =SUM(W50) -> 295013355 | X49: 1 | Y49: =SUM(Y50) -> 324514690 | Z49: 1 | AA49: =SUM(AA50) -> 324514690
K50: Kegiatan Pengkajian Rekomendasi Staf Ahli bagi Kepala Daerah/Wakil Kepala Daerah dalam menyelenggarakan tugas, wewenang dan kewajibannya | L50: Persentase Pengkajian Rekomendasi Staf Ahli bagi Kepala Daerah/Wakil Kepala Daerah dalam menyelenggarakan tugas, wewenang dan kewajiban yang difasilitasi | M50: 0 | N50: 0 | O50: 0 | P50: 1 | Q50: 221647900 | R50: 1 | S50: 243812690 | T50: 1 | U50: 268193959 | V50: 1 | W50: 295013355 | X50: 1 | Y50: 324514690 | Z50: 1 | AA50: 324514690
N51: Total | O51: =O9+O32+O41+O44 -> 30155946100 | P51: Total | Q51: =Q9+Q32+Q41+Q44+Q49 -> 36537823920 | R51: Total | S51: =S9+S32+S41+S44+S49 -> 4.2098675e+10 | T51: Total | U51: =U9+U32+U41+U44+U49 -> 4.9142882e+10 | V51: Total | W51: =W9+W32+W41+W44+W49 -> 5.6762108e+10 | X51: Total | Y51: =Y9+Y32+Y41+Y44+Y49 -> 6.5721133e+10 | Z51: Total | AA51: =AA9+AA32+AA41+AA44+AA49 -> 6.8520676e+10
Z54: Jambi, Januari 2019
Z55: KEPALA BIRO UMUM
Z59: OTIN SUPANDI, S.Sos
Z60: Pembina Tk. I
Z61: NIP. 19620215 198503 1 00
