Workbook

Sheet BI INTRA 2026 smt 1
A1: BUKU INVENTARIS PENYUSUTAN
A2: PER 1 Januari s.d 30 Juni 2026
A4: SKPD | C4: : DINAS PEMBERDAYAAN PEREMPUAN, PERLINDUNGAN ANAK, DAN PENGENDALIAN PENDUDUK PROVINSI JAMBI | R4: Rumus Penyusutan = Nilai Perolehan - Nilai Residu / Masa manfaat
A5: KABUPATEN / KOTA | C5: : JAMBI
A6: PROVINSI | C6: : JAMBI | AB6: NO. KODE LOKASI : | AC6: 11.05.00.15.03
A7: TAHUN | C7: : 2026
A9: NOMOR | E9: SPESIFIKASI BARANG | I9: Bahan | J9: Asal / Cara Perolehan Barang | K9: Tahun Perolehan | L9: Ukuran Barang/ Konstruksi (P,S,D) | M9: Satuan | N9: Keadaan Barang (B/KB/RB) | O9: JUMLAH | Q9: Kolom untuk pengolahan Kapitalisasi atas adanya Rehab dll | R9: Nilai residu | S9: Nilai Perolehan setelah dikurangi nilai Residu | T9: Masa manfaat (tahun) | U9: Beban Penyusutan per tahun | V9: Beban Penyusutan Periode ini | AA9: Penyusutan tahun ke | AB9: Akumulasi Penyusutan | AC9: Nilai Buku | AD9: Lokasi Barang
A10: No. Urut | B10: Kode Barang | C10: Register | D10: Nama Barang Berdasarkan Kodefikasi | E10: Nama / Jenis Barang | F10: NAMA ASET 108 | G10: Merk/Type | H10: No. Sertifikat No. Pabrik No. Chasis No. Mesin, No. Polisi No. BPKB | O10: Barang | P10: Harga | V10: Semester I | X10: Semester II | Z10: Beban Tahun Ini
V11: Waktu | W11: Nilai | X11: Waktu | Y11: Nilai
A12: 1 | B12: 2 | C12: 3 | E12: 4 | G12: 5 | H12: 6 | I12: 7 | J12: 8 | K12: 9 | L12: 10 | M12: 11 | N12: 12 | O12: 13 | P12: 14 | Q12: 15 | R12: 16 | S12: 17 | T12: 18 | U12: 19 | V12: 20 | W12: 21 | X12: 22 | Y12: 23 | Z12: 24 | AA12: 25 | AB12: 26 | AC12: 27 | AD12: 28
A14: 01. | B14: TANAH | C14: - | E14: - | G14: - | H14: - | I14: - | J14: - | K14: - | L14: - | M14: - | N14: - | O14: - | P14: - | AD14: -
A16: 02. | B16: PERALATAN DAN MESIN | F16: =F14-F15 -> 0 | O16: =O17+O53+O200+O219+O224+O226+O228 -> 271 | P16: =P17+P53+P200+P219+P224+P226+P228 -> 3940215519 | S16: =S17+S53+S200+S219+S224+S226+S228 -> 3940215519 | U16: =U17+U53+U200+U219+U224+U226+U228 -> 3.7977253e+08 | W16: =W17+W53+W200+W219+W224+W226+W228 -> 29415714 | Y16: =Y17+Y53+Y200+Y219+Y224+Y226+Y228 -> 0 | Z16: =Z17+Z53+Z200+Z219+Z224+Z226+Z228 -> 29415714 | AB16: =AB17+AB53+AB200+AB219+AB228 -> 3.9206917e+09 | AC16: =AC17+AC53+AC200+AC219+AC224+AC226+AC228 -> 19523810 | AE16: ='BI INTRA 2025'!AB16+'BI INTRA 2026 smt 1'!Y16 -> 3.8621203e+09 | AF16: =AB16-AE16 -> 58571429
B17: 1.3.2.02 | C17: a. Alat - Alat Besar | O17: =O19 -> 23 | P17: =P19 -> 2518491500 | S17: =S19 -> 2518491500 | U17: =U19 -> 1.7690593e+08 | W17: =W19 -> 29285714 | Y17: =Y19 -> 0 | Z17: =Z19 -> 29285714 | AB17: =AB19 -> 2.4989677e+09 | AC17: =AC19 -> 19523810 | AE17: ='BI INTRA 2025'!AB17+'BI INTRA 2026 smt 1'!Y17 -> 2.4403963e+09 | AF17: =AB17-AE17 -> 58571429
B18: - | C18: - | E18: - | G18: - | H18: - | I18: - | J18: - | K18: - | L18: - | M18: - | N18: - | O18: - | P18: - | AE18: ='BI INTRA 2025'!AB18+'BI INTRA 2026 smt 1'!Y18 -> 0 | AF18: =AB18-AE18 -> 0
B19: 1.3.2.02 | C19: ALAT ANGKUTAN | O19: =O20 -> 23 | P19: =P20 -> 2518491500 | S19: =S20 -> 2518491500 | U19: =U20 -> 1.7690593e+08 | W19: =W20 -> 29285714 | Y19: =Y20 -> 0 | Z19: =Z20 -> 29285714 | AB19: =AB20 -> 2.4989677e+09 | AC19: =AC20 -> 19523810 | AE19: ='BI INTRA 2025'!AB19+'BI INTRA 2026 smt 1'!Y19 -> 2.4403963e+09 | AF19: =AB19-AE19 -> 58571429
B20: 1.3.2.02.02 | C20: ALAT ANGKUTAN DARAT BERMOTOR | O20: =O21+O33+O36 -> 23 | P20: =P21+P33+P36 -> 2518491500 | S20: =S21+S33+S36 -> 2518491500 | U20: =U21+U33+U36 -> 1.7690593e+08 | W20: =W21+W33+W36 -> 29285714 | Y20: =Y21+Y33+Y36 -> 0 | Z20: =Z21+Z33+Z36 -> 29285714 | AB20: =AB21+AB33+AB36 -> 2.4989677e+09 | AC20: =AC21+AC33+AC36 -> 19523810 | AE20: ='BI INTRA 2025'!AB20+'BI INTRA 2026 smt 1'!Y20 -> 2.4403963e+09 | AF20: =AB20-AE20 -> 58571429
B21: 1.3.2.02.01.01 | C21: KENDARAAN DINAS BERMOTOR PERORANGAN | O21: =SUM(O22:O32) -> 10 | P21: =SUM(P22:P32) -> 2069500000 | S21: =SUM(S22:S32) -> 2069500000 | U21: =SUM(U22:U32) -> 1.5628571e+08 | W21: =SUM(W22:W32) -> 29285714 | Y21: =SUM(Y22:Y32) -> 0 | Z21: =SUM(Z22:Z32) -> 29285714 | AB21: =SUM(AB22:AB32) -> 2.0499762e+09 | AC21: =SUM(AC22:AC32) -> 19523810 | AE21: ='BI INTRA 2025'!AB21+'BI INTRA 2026 smt 1'!Y21 -> 1.9914048e+09 | AF21: =AB21-AE21 -> 58571429
B22: 1.3.2.02.01.01.004 | C22: 0002 | E22: Mini Bus | F22: =VLOOKUP(B22,[1]Sheet1!$H$4:$I$15682,2,FALSE) -> Multi Purpose Vehicle (MPV) | G22: Kijang Inova | H22: MHFXW42G2A2161605, 1TR-6931093, BH 1949 Z, H-02365306 F | I22: Besi | J22: APBD | K22: 2010 | L22: - | M22: unit | N22: B | O22: 1 | P22: 218800000 | R22: 0 | S22: =SUM(P22-R22) -> 218800000 | T22: 7 | AA22: 7 | AB22: 218800000 | AC22: =SUM(S22-AB22) -> 0 | AD22: Amirzan, S. E | AE22: ='BI INTRA 2025'!AB22+'BI INTRA 2026 smt 1'!Y22 -> 218800000 | AF22: =AB22-AE22 -> 0
B23: 1.3.2.02.01.01.004 | C23: 0003 | E23: Mini Bus | F23: =VLOOKUP(B23,[1]Sheet1!$H$4:$I$15682,2,FALSE) -> Multi Purpose Vehicle (MPV) | G23: Toyota Avanza | H23: MHFM1BA3JAK233888, DF 62852, BH 1916 Z, H-02365307 F | I23: Besi | J23: APBD | K23: 2010 | L23: - | M23: unit | N23: B | O23: 1 | P23: 147100000 | R23: 0 | S23: =SUM(P23-R23) -> 147100000 | T23: 7 | AA23: 7 | AB23: 147100000 | AC23: =SUM(S23-AB23) -> 0 | AD23: Basri, S. Th. I, M. M | AE23: ='BI INTRA 2025'!AB23+'BI INTRA 2026 smt 1'!Y23 -> 147100000 | AF23: =AB23-AE23 -> 0
B24: 1.3.2.02.01.01.004 | C24: 0004 | E24: Mini Bus | F24: =VLOOKUP(B24,[1]Sheet1!$H$4:$I$15682,2,FALSE) -> Multi Purpose Vehicle (MPV) | G24: Micro Bus 110 ST PS | H24: MHFC1JUX1A5000720, W04DT-PJ11979, BH 7102 HZ, H-01644121 F | I24: Besi | J24: APBD | K24: 2010 | L24: - | M24: unit | N24: B | O24: 1 | P24: 310000000 | R24: 0 | S24: =SUM(P24-R24) -> 310000000 | T24: 7 | AA24: 7 | AB24: 310000000 | AC24: =SUM(S24-AB24) -> 0 | AD24: Pool | AE24: ='BI INTRA 2025'!AB24+'BI INTRA 2026 smt 1'!Y24 -> 310000000 | AF24: =AB24-AE24 -> 0
B25: 1.3.2.02.01.01.004 | C25: 0005 | E25: Mini Bus | F25: =VLOOKUP(B25,[1]Sheet1!$H$4:$I$15682,2,FALSE) -> Multi Purpose Vehicle (MPV) | G25: Toyota Avanza | H25: MHFM1BA3JBK322328, DH58588, BH 1369 Z, H-11430265 F | I25: Besi | J25: APBD | K25: 2011 | L25: - | M25: unit | N25: B | O25: 1 | P25: 150600000 | R25: 0 | S25: =SUM(P25-R25) -> 150600000 | T25: 7 | AA25: 7 | AB25: 150600000 | AC25: =SUM(S25-AB25) -> 0 | AD25: Nene Triana, S. STP, M. T | AE25: ='BI INTRA 2025'!AB25+'BI INTRA 2026 smt 1'!Y25 -> 150600000 | AF25: =AB25-AE25 -> 0
B26: 1.3.2.02.01.01.004 | C26: 0006 | E26: Mini Bus | F26: =VLOOKUP(B26,[1]Sheet1!$H$4:$I$15682,2,FALSE) -> Multi Purpose Vehicle (MPV) | G26: Toyota Avanza New G M/T | H26: MHKM1BA3JCK062489, DL08917, BH 1969 AZ, I-10999848 F | I26: Besi | J26: APBD | K26: 2012 | L26: - | M26: unit | N26: B | O26: 1 | P26: 149000000 | R26: 0 | S26: =SUM(P26-R26) -> 149000000 | T26: 7 | AA26: 7 | AB26: 149000000 | AC26: =SUM(S26-AB26) -> 0 | AD26: Drs. Achyar | AE26: ='BI INTRA 2025'!AB26+'BI INTRA 2026 smt 1'!Y26 -> 149000000 | AF26: =AB26-AE26 -> 0
B27: 1.3.2.02.01.01.004 | C27: 0008 | E27: Mini Bus | F27: =VLOOKUP(B27,[1]Sheet1!$H$4:$I$15682,2,FALSE) -> Multi Purpose Vehicle (MPV) | G27: Toyota Rush 1500 G VVTI Manual | H27: MHFE2CJ2JDK034537, DDH5106, BH 1049 AZ, 100513.R00196, K-00103804 F | I27: Besi | J27: APBD | K27: 2013 | L27: - | M27: unit | N27: B | O27: 1 | P27: 186050000 | R27: 0 | S27: =SUM(P27-R27) -> 186050000 | T27: 7 | U27: =SUM(S27/T27) -> 26578571 | AA27: 7 | AB27: =SUM(U27*AA27) -> 186050000 | AC27: =SUM(S27-AB27) -> 0 | AD27: Hj. Zahnidar, S. Pd, M. M | AE27: ='BI INTRA 2025'!AB27+'BI INTRA 2026 smt 1'!Y27 -> 186050000 | AF27: =AB27-AE27 -> 0
B28: 1.3.2.02.01.01.004 | C28: 0009 | E28: Mini Bus | F28: =VLOOKUP(B28,[1]Sheet1!$H$4:$I$15682,2,FALSE) -> Multi Purpose Vehicle (MPV) | G28: Toyota Rush 1500 G VVTI Manual | H28: MHFE2CJ2JDK034526, DDH5242, BH 1050 HZ, 100513.R00194, K-00103805 F | I28: Besi | J28: APBD | K28: 2013 | L28: - | M28: unit | N28: B | O28: 1 | P28: 186050000 | R28: 0 | S28: =SUM(P28-R28) -> 186050000 | T28: 7 | U28: =SUM(S28/T28) -> 26578571 | AA28: 7 | AB28: =SUM(U28*AA28) -> 186050000 | AC28: =SUM(S28-AB28) -> 0 | AD28: Chairun Nasichin, S. Sos, M. Si | AE28: ='BI INTRA 2025'!AB28+'BI INTRA 2026 smt 1'!Y28 -> 186050000 | AF28: =AB28-AE28 -> 0
B29: 1.3.2.02.01.01.004 | C29: 0010 | E29: Mini Bus | F29: =VLOOKUP(B29,[1]Sheet1!$H$4:$I$15682,2,FALSE) -> Multi Purpose Vehicle (MPV) | G29: Phanter | H29: MHCTBR54BXC071458, E071458, BH 1240 AZ, A. No. 8115379 F | I29: Besi | J29: APBD | K29: 1999 | L29: - | M29: unit | N29: B | O29: 1 | P29: 80000000 | R29: 0 | S29: =SUM(P29-R29) -> 80000000 | T29: 7 | U29: =SUM(S29/T29) -> 11428571 | AA29: 7 | AB29: =SUM(U29*AA29) -> 80000000 | AC29: =SUM(S29-AB29) -> 0 | AD29: Pool | AE29: ='BI INTRA 2025'!AB29+'BI INTRA 2026 smt 1'!Y29 -> 80000000 | AF29: =AB29-AE29 -> 0
B30: 1.3.2.02.01.01.004 | C30: 0011 | E30: Mini Bus | F30: =VLOOKUP(B30,[1]Sheet1!$H$4:$I$15682,2,FALSE) -> Multi Purpose Vehicle (MPV) | G30: Daihatsu Luxio | H30: MHKW3CA3JGK016302, 3SZDFZ0435, BH 1406 Z, L-0862978 F | I30: Besi | J30: Hibah dari Kemen PP dan PA RI | K30: 2017 | L30: - | M30: unit | N30: B | O30: 1 | P30: 231900000 | R30: 0 | S30: =SUM(P30-R30) -> 231900000 | T30: 7 | U30: =SUM(S30/T30) -> 33128571 | AA30: 7 | AB30: 231900000 | AC30: =SUM(S30-AB30) -> 0 | AD30: UPTD Perlindungan Perempuan dan Anak (UPTD PPA) | AE30: ='BI INTRA 2025'!AB30+'BI INTRA 2026 smt 1'!Y30 -> 231900000 | AF30: =AB30-AE30 -> 0
B31: 1.3.2.02.01.01.004 | C31: 0012 | E31: Mini Bus | F31: =VLOOKUP(B31,[1]Sheet1!$H$4:$I$15682,2,FALSE) -> Multi Purpose Vehicle (MPV) | G31: Toyota Innova | H31: MHFAW8EM2K0213830,1TRA670110, BH 41, P06386906 F | I31: Besi | J31: APBD | K31: 2019 | L31: - | M31: unit | N31: B | O31: 1 | P31: 410000000 | R31: 0 | S31: =SUM(P31-R31) -> 410000000 | T31: 7 | U31: =SUM(S31/T31) -> 58571429 | V31: 0.5 | W31: =U31*V31 -> 29285714 | X31: 0 | Y31: =U31*X31 -> 0 | Z31: =W31+Y31 -> 29285714 | AA31: =2026-K31+V31+X31-10/12 -> 6.6666667 | AB31: =U31*AA31 -> 3.9047619e+08 | AC31: =S31-AB31 -> 19523810 | AD31: Drs. R. Najmi | AE31: ='BI INTRA 2025'!AB31+'BI INTRA 2026 smt 1'!Y31 -> 3.3190476e+08 | AF31: =AB31-AE31 -> 58571429 | AI31: (koreksi kurang susut)
AE32: ='BI INTRA 2025'!AB32+'BI INTRA 2026 smt 1'!Y32 -> 0 | AF32: =AB32-AE32 -> 0
B33: 1.3.2.02.01.03 | C33: KENDARAAN BERMOTOR ANGKUTAN BARANG | O33: =O34 -> 1 | P33: =P34 -> 304650000 | S33: =S34 -> 304650000 | U33: =U34 -> 0 | W33: =W34 -> 0 | Y33: =Y34 -> 0 | Z33: =Z34 -> 0 | AB33: =AB34 -> 304650000 | AC33: =AC34 -> 0 | AE33: ='BI INTRA 2025'!AB33+'BI INTRA 2026 smt 1'!Y33 -> 304650000 | AF33: =AB33-AE33 -> 0
B34: 1.3.2.02.01.03.002 | C34: 0007 | E34: Mini Bus | F34: =VLOOKUP(B34,[1]Sheet1!$H$4:$I$15682,2,FALSE) -> Pick Up | G34: HILUX DC 2.5 G | H34: MR0FR22G4C0613587, 2KD-S061952, BH 9685 AZ, K-00103631 F | I34: Besi | J34: APBD | K34: 2012 | L34: - | M34: unit | N34: B | O34: 1 | P34: 304650000 | R34: 0 | S34: =SUM(P34-R34) -> 304650000 | T34: 7 | AA34: 7 | AB34: 304650000 | AC34: =SUM(S34-AB34) -> 0 | AD34: Pool | AE34: ='BI INTRA 2025'!AB34+'BI INTRA 2026 smt 1'!Y34 -> 304650000 | AF34: =AB34-AE34 -> 0
AE35: ='BI INTRA 2025'!AB35+'BI INTRA 2026 smt 1'!Y35 -> 0 | AF35: =AB35-AE35 -> 0
B36: 1.3.2.02.01.04 | C36: KENDARAAN BERMOTOR BERODA DUA | O36: =SUM(O37:O48) -> 12 | P36: =SUM(P37:P48) -> 144341500 | S36: =SUM(S37:S48) -> 144341500 | U36: =SUM(U37:U48) -> 20620214 | W36: =SUM(W37:W48) -> 0 | Y36: =SUM(Y37:Y48) -> 0 | Z36: =SUM(Z37:Z48) -> 0 | AB36: =SUM(AB37:AB48) -> 144341500 | AC36: =SUM(AC37:AC48) -> 9.3132257e-10 | AE36: ='BI INTRA 2025'!AB36+'BI INTRA 2026 smt 1'!Y36 -> 144341500 | AF36: =AB36-AE36 -> 0
B37: 1.3.2.02.01.04.001 | C37: 0001 | E37: Sepeda Motor | F37: =VLOOKUP(B37,[1]Sheet1!$H$4:$I$15682,2,FALSE) -> Sepeda Motor | G37: Honda Win | H37: MH3.3HB0005TK151, HAE20530338, BH 6718 AZ | I37: Besi | J37: APBD | K37: 1995 | L37: - | M37: unit | N37: B | O37: 1 | P37: 4800000 | R37: 0 | S37: =SUM(P37-R37) -> 4800000 | T37: 7 | U37: =SUM(S37/T37) -> 685714.29 | V37: 0 | W37: =SUM(U37*V37) -> 0 | X37: 0 | Y37: =SUM(U37*X37) -> 0 | Z37: =SUM(W37+Y37) -> 0 | AA37: 7 | AB37: =SUM(U37*AA37) -> 4800000 | AC37: =SUM(S37-AB37) -> 0 | AD37: DP3AP2 | AE37: ='BI INTRA 2025'!AB37+'BI INTRA 2026 smt 1'!Y37 -> 4800000 | AF37: =AB37-AE37 -> 0
B38: 1.3.2.02.01.04.001 | C38: 0002 | E38: Sepeda Motor | F38: =VLOOKUP(B38,[1]Sheet1!$H$4:$I$15682,2,FALSE) -> Sepeda Motor | G38: Yamaha RX 115 | H38: HK117535332, 3HB140259, BH 4839 AZ | I38: Besi | J38: APBD | K38: 1995 | L38: - | M38: unit | N38: B | O38: 1 | P38: 9000000 | R38: 0 | S38: =SUM(P38-R38) -> 9000000 | T38: 7 | U38: =SUM(S38/T38) -> 1285714.3 | V38: 0 | W38: =SUM(U38*V38) -> 0 | X38: 0 | Y38: =SUM(U38*X38) -> 0 | Z38: =SUM(W38+Y38) -> 0 | AA38: 7 | AB38: =SUM(U38*AA38) -> 9000000 | AC38: =SUM(S38-AB38) -> 0 | AD38: Muflihan Chandra, S. H | AE38: ='BI INTRA 2025'!AB38+'BI INTRA 2026 smt 1'!Y38 -> 9000000 | AF38: =AB38-AE38 -> 0
B39: 1.3.2.02.01.04.001 | C39: 0003 | E39: Sepeda Motor | F39: =VLOOKUP(B39,[1]Sheet1!$H$4:$I$15682,2,FALSE) -> Sepeda Motor | G39: Honda Star | H39: MH1GGHA17WK016607, GGHAE-1016478, BH 5720 AZ, A No. 8042328 F | I39: Besi | J39: APBD | K39: 1998 | L39: - | M39: unit | N39: B | O39: 1 | P39: 7400000 | R39: 0 | S39: =SUM(P39-R39) -> 7400000 | T39: 7 | U39: =SUM(S39/T39) -> 1057142.9 | V39: 0 | W39: =SUM(U39*V39) -> 0 | X39: 0 | Y39: =SUM(U39*X39) -> 0 | Z39: =SUM(W39+Y39) -> 0 | AA39: 7 | AB39: =SUM(U39*AA39) -> 7400000 | AC39: =SUM(S39-AB39) -> 9.3132257e-10 | AD39: UP | AE39: ='BI INTRA 2025'!AB39+'BI INTRA 2026 smt 1'!Y39 -> 7400000 | AF39: =AB39-AE39 -> 0
B40: 1.3.2.02.01.04.001 | C40: 0004 | E40: Sepeda Motor | F40: =VLOOKUP(B40,[1]Sheet1!$H$4:$I$15682,2,FALSE) -> Sepeda Motor | G40: Honda Supra X 125 | H40: MH1JB41146K058990, JB41E-1058415, BH 2498 Z | I40: Besi | J40: APBD | K40: 2006 | L40: - | M40: unit | N40: B | O40: 1 | P40: 9000000 | R40: 0 | S40: =SUM(P40-R40) -> 9000000 | T40: 7 | U40: =SUM(S40/T40) -> 1285714.3 | V40: 0 | W40: =SUM(U40*V40) -> 0 | X40: 0 | Y40: =SUM(U40*X40) -> 0 | Z40: =SUM(W40+Y40) -> 0 | AA40: 7 | AB40: =SUM(U40*AA40) -> 9000000 | AC40: =SUM(S40-AB40) -> 0 | AD40: Hendri | AE40: ='BI INTRA 2025'!AB40+'BI INTRA 2026 smt 1'!Y40 -> 9000000 | AF40: =AB40-AE40 -> 0
B41: 1.3.2.02.01.04.001 | C41: 0005 | E41: Sepeda Motor | F41: =VLOOKUP(B41,[1]Sheet1!$H$4:$I$15682,2,FALSE) -> Sepeda Motor | G41: Honda Supra 125 | H41: MH1JB51196K77335, JB51E-1770055, BH 4733 AZ, E No. 1991703 F | I41: Besi | J41: APBD | K41: 2007 | L41: - | M41: unit | N41: B | O41: 1 | P41: 4800000 | R41: 0 | S41: =SUM(P41-R41) -> 4800000 | T41: 7 | U41: =SUM(S41/T41) -> 685714.29 | V41: 0 | W41: =SUM(U41*V41) -> 0 | X41: 0 | Y41: =SUM(U41*X41) -> 0 | Z41: =SUM(W41+Y41) -> 0 | AA41: 7 | AB41: =SUM(U41*AA41) -> 4800000 | AC41: =SUM(S41-AB41) -> 0 | AD41: Pool | AE41: ='BI INTRA 2025'!AB41+'BI INTRA 2026 smt 1'!Y41 -> 4800000 | AF41: =AB41-AE41 -> 0
B42: 1.3.2.02.01.04.001 | C42: 0010 | E42: Sepeda Motor | F42: =VLOOKUP(B42,[1]Sheet1!$H$4:$I$15682,2,FALSE) -> Sepeda Motor | G42: Honda New Supra X 125 CW | H42: MHIJB9128BK600088, JB91E-2590978, BH 2930 HZ, I-00593971 F | I42: Besi | J42: APBD | K42: 2011 | L42: - | M42: unit | N42: B | O42: 1 | P42: 14300000 | R42: 0 | S42: =SUM(P42-R42) -> 14300000 | T42: 7 | U42: =SUM(S42/T42) -> 2042857.1 | V42: =6/12 -> 0.5 | X42: 0 | Y42: =SUM(U42*X42) -> 0 | Z42: =SUM(W42+Y42) -> 0 | AA42: 7 | AB42: =SUM(U42*AA42) -> 14300000 | AC42: =SUM(S42-AB42) -> 0 | AD42: Eti Subiarti, S.E | AE42: ='BI INTRA 2025'!AB42+'BI INTRA 2026 smt 1'!Y42 -> 14300000 | AF42: =AB42-AE42 -> 0
B43: 1.3.2.02.01.04.001 | C43: 0011 | E43: Sepeda Motor | F43: =VLOOKUP(B43,[1]Sheet1!$H$4:$I$15682,2,FALSE) -> Sepeda Motor | G43: Honda New Supra X 125 CW | H43: MH1JB9123BK600239, JB91E-2591195, BH 2927 HZ, I-00593970 F | I43: Besi | J43: APBD | K43: 2011 | L43: - | M43: unit | N43: B | O43: 1 | P43: 14300000 | R43: 0 | S43: =SUM(P43-R43) -> 14300000 | T43: 7 | U43: =SUM(S43/T43) -> 2042857.1 | V43: =6/12 -> 0.5 | X43: 0 | Y43: =SUM(U43*X43) -> 0 | Z43: =SUM(W43+Y43) -> 0 | AA43: 7 | AB43: =SUM(U43*AA43) -> 14300000 | AC43: =SUM(S43-AB43) -> 0 | AD43: Subbag Program | AE43: ='BI INTRA 2025'!AB43+'BI INTRA 2026 smt 1'!Y43 -> 14300000 | AF43: =AB43-AE43 -> 0
B44: 1.3.2.02.01.04.001 | C44: 0012 | E44: Sepeda Motor | F44: =VLOOKUP(B44,[1]Sheet1!$H$4:$I$15682,2,FALSE) -> Sepeda Motor | G44: Honda New Supra X 125 CW | H44: MH1JB9129BK613738, JB91E-2604124, BH 2926 HZ, I-00593969 F | I44: Besi | J44: APBD | K44: 2011 | L44: - | M44: unit | N44: B | O44: 1 | P44: 14300000 | R44: 0 | S44: =SUM(P44-R44) -> 14300000 | T44: 7 | U44: =SUM(S44/T44) -> 2042857.1 | V44: =6/12 -> 0.5 | X44: 0 | Y44: =SUM(U44*X44) -> 0 | Z44: =SUM(W44+Y44) -> 0 | AA44: 7 | AB44: =SUM(U44*AA44) -> 14300000 | AC44: =SUM(S44-AB44) -> 0 | AD44: Ulil Fahmi, S. Th. I | AE44: ='BI INTRA 2025'!AB44+'BI INTRA 2026 smt 1'!Y44 -> 14300000 | AF44: =AB44-AE44 -> 0
B45: 1.3.2.02.01.04.001 | C45: 0013 | E45: Sepeda Motor | F45: =VLOOKUP(B45,[1]Sheet1!$H$4:$I$15682,2,FALSE) -> Sepeda Motor | G45: Suzuki Axelo | H45: MH8BF45SADJ 176985, F496-1D 448065, BH 3771 HZ, K-03781638 F | I45: Besi | J45: APBD | K45: 2013 | L45: - | M45: unit | N45: B | O45: 1 | P45: 14914500 | R45: 0 | S45: =SUM(P45-R45) -> 14914500 | T45: 7 | U45: =SUM(S45/T45) -> 2130642.9 | V45: 0 | W45: 0 | X45: 0 | Y45: =SUM(U45*X45) -> 0 | Z45: =SUM(W45+Y45) -> 0 | AA45: 7 | AB45: =SUM(U45*AA45) -> 14914500 | AC45: =SUM(S45-AB45) -> 0 | AD45: Febyanto, S. Th. I | AE45: ='BI INTRA 2025'!AB45+'BI INTRA 2026 smt 1'!Y45 -> 14914500 | AF45: =AB45-AE45 -> 0
B46: 1.3.2.02.01.04.001 | C46: 0014 | E46: Sepeda Motor | F46: =VLOOKUP(B46,[1]Sheet1!$H$4:$I$15682,2,FALSE) -> Sepeda Motor | G46: Suzuki Sky Drive Racing | H46: MH8CF48NADJ 252494, F4A9-ID 252513, BH 3770 HZ, K-03781644 F | I46: Besi | J46: APBD | K46: 2013 | L46: - | M46: unit | N46: B | O46: 1 | P46: 13685000 | R46: 0 | S46: =SUM(P46-R46) -> 13685000 | T46: 7 | U46: =SUM(S46/T46) -> 1955000 | V46: 0 | W46: 0 | X46: 0 | Y46: =SUM(U46*X46) -> 0 | Z46: =SUM(W46+Y46) -> 0 | AA46: 7 | AB46: =SUM(U46*AA46) -> 13685000 | AC46: =SUM(S46-AB46) -> 0 | AD46: Novi Muthia, S. STP, M. AP | AE46: ='BI INTRA 2025'!AB46+'BI INTRA 2026 smt 1'!Y46 -> 13685000 | AF46: =AB46-AE46 -> 0
B47: 1.3.2.02.01.04.001 | C47: 0015 | E47: Sepeda Motor | F47: =VLOOKUP(B47,[1]Sheet1!$H$4:$I$15682,2,FALSE) -> Sepeda Motor | G47: Honda | H47: MH1JFV111GK512916, JFV1E1520205, B 3129 PEQ | I47: Besi | J47: Hibah dari Kemen PP dan PA RI | K47: 2017 | L47: - | M47: unit | N47: B | O47: 1 | P47: 18921000 | R47: 0 | S47: =P47-R47 -> 18921000 | T47: 7 | U47: =SUM(S47/T47) -> 2703000 | V47: 0 | W47: 0 | X47: 0 | Y47: 0 | Z47: 0 | AA47: 7 | AB47: 18921000 | AC47: =SUM(S47-AB47) -> 0 | AD47: Petugas P2TP2A (Ferdia Prakarsa, S.H) | AE47: ='BI INTRA 2025'!AB47+'BI INTRA 2026 smt 1'!Y47 -> 18921000 | AF47: =AB47-AE47 -> 0
B48: 1.3.2.02.01.04.001 | C48: 0016 | E48: Sepeda Motor | F48: =VLOOKUP(B48,[1]Sheet1!$H$4:$I$15682,2,FALSE) -> Sepeda Motor | G48: Honda | H48: MH1JFV116GK514340, JFV1E1520661, B 3040 PEQ, N-00445728 | I48: Besi | J48: Hibah dari Kemen PP dan PA RI | K48: 2017 | L48: - | M48: unit | N48: B | O48: 1 | P48: 18921000 | R48: 0 | S48: =P48-R48 -> 18921000 | T48: 7 | U48: =SUM(S48/T48) -> 2703000 | V48: 0 | W48: 0 | X48: 0 | Y48: 0 | Z48: 0 | AA48: 7 | AB48: 18921000 | AC48: =SUM(S48-AB48) -> 0 | AD48: Petugas P2TP2A (R. Ardiansyah, S. H) | AE48: ='BI INTRA 2025'!AB48+'BI INTRA 2026 smt 1'!Y48 -> 18921000 | AF48: =AB48-AE48 -> 0
B49: c. Alat - Alat Bengkel dan Alat Ukur | AE49: ='BI INTRA 2025'!AB49+'BI INTRA 2026 smt 1'!Y49 -> 0 | AF49: =AB49-AE49 -> 0
B50: - | C50: - | E50: - | G50: - | H50: - | I50: - | K50: - | L50: - | M50: - | N50: - | O50: - | P50: - | AD50: - | AE50: ='BI INTRA 2025'!AB50+'BI INTRA 2026 smt 1'!Y50 -> 0 | AF50: =AB50-AE50 -> 0
B51: d. Alat - Alat Pertanian / Peternakan | AE51: ='BI INTRA 2025'!AB51+'BI INTRA 2026 smt 1'!Y51 -> 0 | AF51: =AB51-AE51 -> 0
B52: - | C52: - | E52: - | G52: - | H52: - | I52: - | K52: - | L52: - | M52: - | N52: - | O52: - | AE52: ='BI INTRA 2025'!AB52+'BI INTRA 2026 smt 1'!Y52 -> 0 | AF52: =AB52-AE52 -> 0
A53: 3 | B53: 1.3.2.05 | C53: ALAT KANTOR DAN RUMAH TANGGA | O53: =O54+O101+O175 -> 179 | P53: =P54+P101+P175 -> 786410300 | S53: =S54+S101+S175 -> 786410300 | U53: =U54+U101+U175 -> 115984860 | W53: =W54+W101+W175 -> 0 | Y53: =Y54+Y101+Y175 -> 0 | Z53: =Z54+Z101+Z175 -> 0 | AB53: =AB54+AB101+AB175 -> 786410300 | AC53: =AC54+AC101+AC175 -> 0 | AD53: =P53-AB53 -> 0 | AE53: ='BI INTRA 2025'!AB53+'BI INTRA 2026 smt 1'!Y53 -> 786410300 | AF53: =AB53-AE53 -> 0
B54: 1.3.2.05.01 | C54: ALAT KANTOR | O54: =O55+O56+O57+O60+O93 -> 60 | P54: =P55+P56+P57+P60+P93 -> 294170000 | S54: =S55+S56+S57+S60+S93 -> 294170000 | U54: =U55+U56+U57+U60+U93 -> 30046800 | W54: =W55+W56+W57+W60+W93 -> 0 | Y54: =Y55+Y56+Y57+Y60+Y93 -> 0 | Z54: =Z55+Z56+Z57+Z60+Z93 -> 0 | AB54: =AB55+AB56+AB57+AB60+AB93 -> 294170000 | AC54: =AC55+AC56+AC57+AC60+AC93 -> 0 | AD54: =P54-AB54 -> 0 | AE54: ='BI INTRA 2025'!AB54+'BI INTRA 2026 smt 1'!Y54 -> 294170000 | AF54: =AB54-AE54 -> 0
B55: 1.3.2.05.01.01 | C55: MESIN KETIK | AE55: ='BI INTRA 2025'!AB55+'BI INTRA 2026 smt 1'!Y55 -> 0 | AF55: =AB55-AE55 -> 0
B56: 1.3.2.05.01.02 | C56: MESIN HITUNG/MESIN JUMLAH | AE56: ='BI INTRA 2025'!AB56+'BI INTRA 2026 smt 1'!Y56 -> 0 | AF56: =AB56-AE56 -> 0
B57: 1.3.2.05.01.03 | C57: ALAT REPRODUKSI (PENGGANDAAN) | O57: =O58 -> 1 | P57: =P58 -> 68736000 | S57: =S58 -> 68736000 | U57: =U58 -> 0 | W57: =W58 -> 0 | Y57: =Y58 -> 0 | Z57: =Z58 -> 0 | AB57: =AB58 -> 68736000 | AC57: =AC58 -> 0 | AE57: ='BI INTRA 2025'!AB57+'BI INTRA 2026 smt 1'!Y57 -> 68736000 | AF57: =AB57-AE57 -> 0
B58: 1.3.2.05.01.03.007 | C58: 0001 | E58: Mesin Foto Copy | F58: =VLOOKUP(B58,[1]Sheet1!$H$4:$I$15682,2,FALSE) -> Mesin Fotocopy Folio | G58: Canon | H58: - | I58: Besi | J58: APBD | K58: 2014 | L58: - | M58: buah | N58: B | O58: 1 | P58: 68736000 | R58: 0 | S58: =SUM(P58-R58) -> 68736000 | T58: 5 | AA58: 5 | AB58: 68736000 | AC58: =SUM(S58-AB58) -> 0 | AD58: Subbag Umum & Kepegawaian | AE58: ='BI INTRA 2025'!AB58+'BI INTRA 2026 smt 1'!Y58 -> 68736000 | AF58: =AB58-AE58 -> 0
AE59: ='BI INTRA 2025'!AB59+'BI INTRA 2026 smt 1'!Y59 -> 0 | AF59: =AB59-AE59 -> 0
B60: 1.3.2.05.01.04 | C60: ALAT PENYIMPAN PERLENGKAPAN KANTOR | O60: =SUM(O61:O92) -> 51 | P60: =SUM(P61:P92) -> 140304000 | S60: =SUM(S61:S92) -> 140304000 | U60: =SUM(U61:U92) -> 24020800 | W60: =SUM(W61:W92) -> 0 | Y60: =SUM(Y61:Y92) -> 0 | Z60: =SUM(Z61:Z92) -> 0 | AB60: =SUM(AB61:AB92) -> 140304000 | AC60: =SUM(AC61:AC92) -> 0 | AD60: =P60-AB60 -> 0 | AE60: ='BI INTRA 2025'!AB60+'BI INTRA 2026 smt 1'!Y60 -> 140304000 | AF60: =AB60-AE60 -> 0
B61: 1.3.2.05.01.04.002 | C61: 0001 | E61: Almari Kaca | F61: =VLOOKUP(B61,[1]Sheet1!$H$4:$I$15682,2,FALSE) -> Lemari Kayu | G61: 3 Pintu | H61: - | I61: Kayu/Kaca | J61: APBD | K61: 2009 | L61: - | M61: buah | N61: B | O61: 1 | P61: 1800000 | R61: 0 | S61: =SUM(P61-R61) -> 1800000 | T61: 5 | U61: =SUM(S61/T61) -> 360000 | V61: 0 | W61: =SUM(U61*V61) -> 0 | X61: 0 | Y61: =SUM(U61*X61) -> 0 | Z61: =SUM(W61+Y61) -> 0 | AA61: 5 | AB61: =SUM(U61*AA61) -> 1800000 | AC61: =SUM(S61-AB61) -> 0 | AD61: Kabid Pemdes / Kelurahan | AE61: ='BI INTRA 2025'!AB61+'BI INTRA 2026 smt 1'!Y61 -> 1800000 | AF61: =AB61-AE61 -> 0
B62: 1.3.2.05.01.04.002 | C62: 0002 | E62: Almari Kaca | F62: =VLOOKUP(B62,[1]Sheet1!$H$4:$I$15682,2,FALSE) -> Lemari Kayu | G62: 3 Pintu | H62: - | I62: Kayu/Kaca | J62: APBD | K62: 2009 | L62: - | M62: buah | N62: B | O62: 1 | P62: 1800000 | R62: 0 | S62: =SUM(P62-R62) -> 1800000 | T62: 5 | U62: =SUM(S62/T62) -> 360000 | V62: 0 | W62: =SUM(U62*V62) -> 0 | X62: 0 | Y62: =SUM(U62*X62) -> 0 | Z62: =SUM(W62+Y62) -> 0 | AA62: 5 | AB62: =SUM(U62*AA62) -> 1800000 | AC62: =SUM(S62-AB62) -> 0 | AD62: Kabid Pemberdayaan Masyarakat Desa | AE62: ='BI INTRA 2025'!AB62+'BI INTRA 2026 smt 1'!Y62 -> 1800000 | AF62: =AB62-AE62 -> 0
B63: 1.3.2.05.01.04.002 | C63: 0003 | E63: Almari Kaca | F63: =VLOOKUP(B63,[1]Sheet1!$H$4:$I$15682,2,FALSE) -> Lemari Kayu | G63: 3 Pintu | H63: - | I63: Kayu/Kaca | J63: APBD | K63: 2009 | L63: - | M63: buah | N63: B | O63: 1 | P63: 1800000 | R63: 0 | S63: =SUM(P63-R63) -> 1800000 | T63: 5 | U63: =SUM(S63/T63) -> 360000 | V63: 0 | W63: =SUM(U63*V63) -> 0 | X63: 0 | Y63: =SUM(U63*X63) -> 0 | Z63: =SUM(W63+Y63) -> 0 | AA63: 5 | AB63: =SUM(U63*AA63) -> 1800000 | AC63: =SUM(S63-AB63) -> 0 | AD63: Kabid Pengendalian Penduduk dan KB | AE63: ='BI INTRA 2025'!AB63+'BI INTRA 2026 smt 1'!Y63 -> 1800000 | AF63: =AB63-AE63 -> 0
B64: 1.3.2.05.01.04.002 | C64: 0004 | E64: Almari Kaca | F64: =VLOOKUP(B64,[1]Sheet1!$H$4:$I$15682,2,FALSE) -> Lemari Kayu | G64: 3 Pintu | H64: - | I64: Kayu/Kaca | J64: APBD | K64: 2009 | L64: - | M64: buah | N64: B | O64: 1 | P64: 1800000 | R64: 0 | S64: =SUM(P64-R64) -> 1800000 | T64: 5 | U64: =SUM(S64/T64) -> 360000 | V64: 0 | W64: =SUM(U64*V64) -> 0 | X64: 0 | Y64: =SUM(U64*X64) -> 0 | Z64: =SUM(W64+Y64) -> 0 | AA64: 5 | AB64: =SUM(U64*AA64) -> 1800000 | AC64: =SUM(S64-AB64) -> 0 | AD64: Kabid Perlindungan Anak | AE64: ='BI INTRA 2025'!AB64+'BI INTRA 2026 smt 1'!Y64 -> 1800000 | AF64: =AB64-AE64 -> 0
B65: 1.3.2.05.01.04.002 | C65: 0001 | E65: Almari Arsip | F65: =VLOOKUP(B65,[1]Sheet1!$H$4:$I$15682,2,FALSE) -> Lemari Kayu | G65: Lokal | H65: - | I65: Kayu/Kaca | J65: APBD | K65: 2009 | L65: - | M65: buah | N65: B | O65: 1 | P65: 2170000 | R65: 0 | S65: =SUM(P65-R65) -> 2170000 | T65: 5 | U65: =SUM(S65/T65) -> 434000 | V65: 0 | W65: =SUM(U65*V65) -> 0 | X65: 0 | Y65: =SUM(U65*X65) -> 0 | Z65: =SUM(W65+Y65) -> 0 | AA65: 5 | AB65: =SUM(U65*AA65) -> 2170000 | AC65: =SUM(S65-AB65) -> 0 | AD65: Kepala Dinas | AE65: ='BI INTRA 2025'!AB65+'BI INTRA 2026 smt 1'!Y65 -> 2170000 | AF65: =AB65-AE65 -> 0
B66: 1.3.2.05.01.04.002 | C66: 0002 | E66: Almari Arsip | F66: =VLOOKUP(B66,[1]Sheet1!$H$4:$I$15682,2,FALSE) -> Lemari Kayu | G66: Lokal | H66: - | I66: Kayu/Kaca | J66: APBD | K66: 2009 | L66: - | M66: buah | N66: B | O66: 1 | P66: 2170000 | R66: 0 | S66: =SUM(P66-R66) -> 2170000 | T66: 5 | U66: =SUM(S66/T66) -> 434000 | V66: 0 | W66: =SUM(U66*V66) -> 0 | X66: 0 | Y66: =SUM(U66*X66) -> 0 | Z66: =SUM(W66+Y66) -> 0 | AA66: 5 | AB66: =SUM(U66*AA66) -> 2170000 | AC66: =SUM(S66-AB66) -> 0 | AD66: Sekretaris Dinas | AE66: ='BI INTRA 2025'!AB66+'BI INTRA 2026 smt 1'!Y66 -> 2170000 | AF66: =AB66-AE66 -> 0
B67: 1.3.2.05.01.04.002 | C67: 0003-0005 | E67: Almari Arsip | F67: =VLOOKUP(B67,[1]Sheet1!$H$4:$I$15682,2,FALSE) -> Lemari Kayu | G67: Lokal | H67: - | I67: Kayu/Kaca | J67: APBD | K67: 2009 | L67: - | M67: buah | N67: B | O67: 3 | P67: 6510000 | R67: 0 | S67: =SUM(P67-R67) -> 6510000 | T67: 5 | U67: =SUM(S67/T67) -> 1302000 | V67: 0 | W67: =SUM(U67*V67) -> 0 | X67: 0 | Y67: =SUM(U67*X67) -> 0 | Z67: =SUM(W67+Y67) -> 0 | AA67: 5 | AB67: =SUM(U67*AA67) -> 6510000 | AC67: =SUM(S67-AB67) -> 0 | AD67: Subbag Umum & Kepegawaian | AE67: ='BI INTRA 2025'!AB67+'BI INTRA 2026 smt 1'!Y67 -> 6510000 | AF67: =AB67-AE67 -> 0
B68: 1.3.2.05.01.04.002 | C68: 0006 | E68: Almari Arsip | F68: =VLOOKUP(B68,[1]Sheet1!$H$4:$I$15682,2,FALSE) -> Lemari Kayu | G68: Lokal | H68: - | I68: Kayu/Kaca | J68: APBD | K68: 2009 | L68: - | M68: buah | N68: B | O68: 1 | P68: 2170000 | R68: 0 | S68: =SUM(P68-R68) -> 2170000 | T68: 5 | U68: =SUM(S68/T68) -> 434000 | V68: 0 | W68: =SUM(U68*V68) -> 0 | X68: 0 | Y68: =SUM(U68*X68) -> 0 | Z68: =SUM(W68+Y68) -> 0 | AA68: 5 | AB68: =SUM(U68*AA68) -> 2170000 | AC68: =SUM(S68-AB68) -> 0 | AD68: Subbag Keuangan | AE68: ='BI INTRA 2025'!AB68+'BI INTRA 2026 smt 1'!Y68 -> 2170000 | AF68: =AB68-AE68 -> 0
B69: 1.3.2.05.01.04.002 | C69: 0007-0008 | E69: Almari Arsip | F69: =VLOOKUP(B69,[1]Sheet1!$H$4:$I$15682,2,FALSE) -> Lemari Kayu | G69: Lokal | H69: - | I69: Kayu/Kaca | J69: APBD | K69: 2009 | L69: - | M69: buah | N69: B | O69: 2 | P69: 4340000 | R69: 0 | S69: =SUM(P69-R69) -> 4340000 | T69: 5 | U69: =SUM(S69/T69) -> 868000 | V69: 0 | W69: =SUM(U69*V69) -> 0 | X69: 0 | Y69: =SUM(U69*X69) -> 0 | Z69: =SUM(W69+Y69) -> 0 | AA69: 5 | AB69: =SUM(U69*AA69) -> 4340000 | AC69: =SUM(S69-AB69) -> 0 | AD69: Bidang Pemdes / Kelurahan | AE69: ='BI INTRA 2025'!AB69+'BI INTRA 2026 smt 1'!Y69 -> 4340000 | AF69: =AB69-AE69 -> 0
B70: 1.3.2.05.01.04.002 | C70: 0009-00011 | E70: Almari Arsip | F70: =VLOOKUP(B70,[1]Sheet1!$H$4:$I$15682,2,FALSE) -> Lemari Kayu | G70: Lokal | H70: - | I70: Kayu/Kaca | J70: APBD | K70: 2009 | L70: - | M70: buah | N70: B | O70: 3 | P70: 6510000 | R70: 0 | S70: =SUM(P70-R70) -> 6510000 | T70: 5 | U70: =SUM(S70/T70) -> 1302000 | V70: 0 | W70: =SUM(U70*V70) -> 0 | X70: 0 | Y70: =SUM(U70*X70) -> 0 | Z70: =SUM(W70+Y70) -> 0 | AA70: 5 | AB70: =SUM(U70*AA70) -> 6510000 | AC70: =SUM(S70-AB70) -> 0 | AD70: Bidang Pemberdayaan Masyarakat Desa | AE70: ='BI INTRA 2025'!AB70+'BI INTRA 2026 smt 1'!Y70 -> 6510000 | AF70: =AB70-AE70 -> 0
B71: 1.3.2.05.01.04.002 | C71: 0012-0013 | E71: Almari Arsip | F71: =VLOOKUP(B71,[1]Sheet1!$H$4:$I$15682,2,FALSE) -> Lemari Kayu | G71: Lokal | H71: - | I71: Kayu/Kaca | J71: APBD | K71: 2009 | L71: - | M71: buah | N71: B | O71: 2 | P71: 4340000 | R71: 0 | S71: =SUM(P71-R71) -> 4340000 | T71: 5 | U71: =SUM(S71/T71) -> 868000 | V71: 0 | W71: =SUM(U71*V71) -> 0 | X71: 0 | Y71: =SUM(U71*X71) -> 0 | Z71: =SUM(W71+Y71) -> 0 | AA71: 5 | AB71: =SUM(U71*AA71) -> 4340000 | AC71: =SUM(S71-AB71) -> 0 | AD71: Bidang Pengendalian Penduduk dan KB | AE71: ='BI INTRA 2025'!AB71+'BI INTRA 2026 smt 1'!Y71 -> 4340000 | AF71: =AB71-AE71 -> 0
B72: 1.3.2.05.01.04.002 | C72: 0014 | E72: Almari Arsip | F72: =VLOOKUP(B72,[1]Sheet1!$H$4:$I$15682,2,FALSE) -> Lemari Kayu | G72: Lokal | H72: - | I72: Kayu/Kaca | J72: APBD | K72: 2009 | L72: - | M72: buah | N72: B | O72: 1 | P72: 2170000 | R72: 0 | S72: =SUM(P72-R72) -> 2170000 | T72: 5 | U72: =SUM(S72/T72) -> 434000 | V72: 0 | W72: =SUM(U72*V72) -> 0 | X72: 0 | Y72: =SUM(U72*X72) -> 0 | Z72: =SUM(W72+Y72) -> 0 | AA72: 5 | AB72: =SUM(U72*AA72) -> 2170000 | AC72: =SUM(S72-AB72) -> 0 | AD72: Bidang Pemberdayaan Perempuan | AE72: ='BI INTRA 2025'!AB72+'BI INTRA 2026 smt 1'!Y72 -> 2170000 | AF72: =AB72-AE72 -> 0
B73: 1.3.2.05.01.04.002 | C73: 0001 | E73: Almari Arsip | F73: =VLOOKUP(B73,[1]Sheet1!$H$4:$I$15682,2,FALSE) -> Lemari Kayu | G73: Lokal | H73: - | I73: Kayu | J73: APBD | K73: 2013 | L73: - | M73: unit | N73: B | O73: 1 | P73: 3385000 | R73: 0 | S73: =SUM(P73-R73) -> 3385000 | T73: 5 | U73: =SUM(S73/T73) -> 677000 | V73: 0 | W73: 0 | X73: 0 | Y73: =SUM(U73*X73) -> 0 | Z73: 0 | AA73: 5 | AB73: =SUM(U73*AA73) -> 3385000 | AC73: =SUM(S73-AB73) -> 0 | AD73: Bidang Pengendalian Penduduk dan KB | AE73: ='BI INTRA 2025'!AB73+'BI INTRA 2026 smt 1'!Y73 -> 3385000 | AF73: =AB73-AE73 -> 0
B74: 1.3.2.05.01.04.002 | C74: 0002 | E74: Almari Arsip | F74: =VLOOKUP(B74,[1]Sheet1!$H$4:$I$15682,2,FALSE) -> Lemari Kayu | G74: Lokal | H74: - | I74: Kayu | J74: APBD | K74: 2013 | L74: - | M74: unit | N74: B | O74: 1 | P74: 3385000 | R74: 0 | S74: =SUM(P74-R74) -> 3385000 | T74: 5 | U74: =SUM(S74/T74) -> 677000 | V74: 0 | W74: 0 | X74: 0 | Y74: =SUM(U74*X74) -> 0 | Z74: 0 | AA74: 5 | AB74: 3385000 | AC74: =SUM(S74-AB74) -> 0 | AD74: Subbag Program | AE74: ='BI INTRA 2025'!AB74+'BI INTRA 2026 smt 1'!Y74 -> 3385000 | AF74: =AB74-AE74 -> 0
B75: 1.3.2.05.01.04.001 | C75: 0003 | E75: Lemari | F75: =VLOOKUP(B75,[1]Sheet1!$H$4:$I$15682,2,FALSE) -> Lemari Besi/Metal | G75: Frontline | H75: - | I75: Besi | J75: APBD | K75: 2019 | L75: - | M75: unit | N75: B | O75: 1 | P75: 4290000 | R75: 0 | S75: =SUM(P75-R75) -> 4290000 | T75: 5 | U75: =SUM(S75/T75) -> 858000 | V75: 0 | W75: 0 | X75: 0 | Y75: 0 | Z75: 0 | AA75: 5 | AB75: 4290000 | AC75: =SUM(S75-AB75) -> 0 | AD75: UPTD PPA | AE75: ='BI INTRA 2025'!AB75+'BI INTRA 2026 smt 1'!Y75 -> 4290000 | AF75: =AB75-AE75 -> 0
B76: 1.3.2.05.01.04.001 | C76: 0004 | E76: Lemari | F76: =VLOOKUP(B76,[1]Sheet1!$H$4:$I$15682,2,FALSE) -> Lemari Besi/Metal | G76: Frontline | H76: - | I76: Besi | J76: APBD | K76: 2019 | L76: - | M76: unit | N76: B | O76: 1 | P76: 4290000 | R76: 0 | S76: =SUM(P76-R76) -> 4290000 | T76: 5 | U76: =SUM(S76/T76) -> 858000 | V76: 0 | W76: 0 | X76: 0 | Y76: 0 | Z76: 0 | AA76: 5 | AB76: 4290000 | AC76: =SUM(S76-AB76) -> 0 | AD76: UPTD PPA | AE76: ='BI INTRA 2025'!AB76+'BI INTRA 2026 smt 1'!Y76 -> 4290000 | AF76: =AB76-AE76 -> 0
B77: 1.3.2.05.01.04.007 | C77: 0001 | E77: Brankas | F77: =VLOOKUP(B77,[1]Sheet1!$H$4:$I$15682,2,FALSE) -> Brankas | G77: Lokal | H77: - | I77: Besi | J77: APBD | K77: 2009 | L77: - | M77: buah | N77: B | O77: 1 | P77: 8000000 | R77: 0 | S77: =SUM(P77-R77) -> 8000000 | T77: 5 | U77: =SUM(S77/T77) -> 1600000 | V77: 0 | W77: =SUM(U77*V77) -> 0 | X77: 0 | Y77: =SUM(U77*X77) -> 0 | Z77: =SUM(W77+Y77) -> 0 | AA77: 5 | AB77: =SUM(U77*AA77) -> 8000000 | AC77: =SUM(S77-AB77) -> 0 | AD77: Subbag Keuangan | AE77: ='BI INTRA 2025'!AB77+'BI INTRA 2026 smt 1'!Y77 -> 8000000 | AF77: =AB77-AE77 -> 0
B78: 1.3.2.05.01.04.005 | C78: 0001-0002 | E78: Filling Cabinet | F78: =VLOOKUP(B78,[1]Sheet1!$H$4:$I$15682,2,FALSE) -> Filing Cabinet Besi | G78: Lion '4 Laci | H78: - | I78: Besi | J78: APBD | K78: 2009 | L78: - | M78: buah | N78: B | O78: 2 | P78: 5440000 | R78: 0 | S78: =SUM(P78-R78) -> 5440000 | T78: 5 | U78: =SUM(S78/T78) -> 1088000 | V78: 0 | W78: =SUM(U78*V78) -> 0 | X78: 0 | Y78: =SUM(U78*X78) -> 0 | Z78: =SUM(W78+Y78) -> 0 | AA78: 5 | AB78: =SUM(U78*AA78) -> 5440000 | AC78: =SUM(S78-AB78) -> 0 | AD78: Subbag Umum & Kepegawaian | AE78: ='BI INTRA 2025'!AB78+'BI INTRA 2026 smt 1'!Y78 -> 5440000 | AF78: =AB78-AE78 -> 0
B79: 1.3.2.05.01.04.005 | C79: 0003-0006 | E79: Filling Cabinet | F79: =VLOOKUP(B79,[1]Sheet1!$H$4:$I$15682,2,FALSE) -> Filing Cabinet Besi | G79: Lion '4 Laci | H79: - | I79: Besi | J79: APBD | K79: 2009 | L79: - | M79: buah | N79: B | O79: 4 | P79: 10880000 | R79: 0 | S79: =SUM(P79-R79) -> 10880000 | T79: 5 | U79: =SUM(S79/T79) -> 2176000 | V79: 0 | W79: =SUM(U79*V79) -> 0 | X79: 0 | Y79: =SUM(U79*X79) -> 0 | Z79: =SUM(W79+Y79) -> 0 | AA79: 5 | AB79: =SUM(U79*AA79) -> 10880000 | AC79: =SUM(S79-AB79) -> 0 | AD79: Subbag Keuangan | AE79: ='BI INTRA 2025'!AB79+'BI INTRA 2026 smt 1'!Y79 -> 10880000 | AF79: =AB79-AE79 -> 0
B80: 1.3.2.05.01.04.005 | C80: 0007 | E80: Filling Cabinet | F80: =VLOOKUP(B80,[1]Sheet1!$H$4:$I$15682,2,FALSE) -> Filing Cabinet Besi | G80: Lion '4 Laci | H80: - | I80: Besi | J80: APBD | K80: 2009 | L80: - | M80: buah | N80: B | O80: 1 | P80: 2720000 | R80: 0 | S80: =SUM(P80-R80) -> 2720000 | T80: 5 | U80: =SUM(S80/T80) -> 544000 | V80: 0 | W80: =SUM(U80*V80) -> 0 | X80: 0 | Y80: =SUM(U80*X80) -> 0 | Z80: =SUM(W80+Y80) -> 0 | AA80: 5 | AB80: =SUM(U80*AA80) -> 2720000 | AC80: =SUM(S80-AB80) -> 0 | AD80: Subbag Program | AE80: ='BI INTRA 2025'!AB80+'BI INTRA 2026 smt 1'!Y80 -> 2720000 | AF80: =AB80-AE80 -> 0
B81: 1.3.2.05.01.04.005 | C81: 0008-0009 | E81: Filling Cabinet | F81: =VLOOKUP(B81,[1]Sheet1!$H$4:$I$15682,2,FALSE) -> Filing Cabinet Besi | G81: Lion '4 Laci | H81: - | I81: Besi | J81: APBD | K81: 2009 | L81: - | M81: buah | N81: B | O81: 2 | P81: 5440000 | R81: 0 | S81: =SUM(P81-R81) -> 5440000 | T81: 5 | U81: =SUM(S81/T81) -> 1088000 | V81: 0 | W81: =SUM(U81*V81) -> 0 | X81: 0 | Y81: =SUM(U81*X81) -> 0 | Z81: =SUM(W81+Y81) -> 0 | AA81: 5 | AB81: =SUM(U81*AA81) -> 5440000 | AC81: =SUM(S81-AB81) -> 0 | AD81: Bidang Pemdes / Kelurahan | AE81: ='BI INTRA 2025'!AB81+'BI INTRA 2026 smt 1'!Y81 -> 5440000 | AF81: =AB81-AE81 -> 0
B82: 1.3.2.05.01.04.005 | C82: 0010-0011 | E82: Filling Cabinet | F82: =VLOOKUP(B82,[1]Sheet1!$H$4:$I$15682,2,FALSE) -> Filing Cabinet Besi | G82: Lion '4 Laci | H82: - | I82: Besi | J82: APBD | K82: 2009 | L82: - | M82: buah | N82: B | O82: 2 | P82: 5440000 | R82: 0 | S82: =SUM(P82-R82) -> 5440000 | T82: 5 | U82: =SUM(S82/T82) -> 1088000 | V82: 0 | W82: =SUM(U82*V82) -> 0 | X82: 0 | Y82: =SUM(U82*X82) -> 0 | Z82: =SUM(W82+Y82) -> 0 | AA82: 5 | AB82: =SUM(U82*AA82) -> 5440000 | AC82: =SUM(S82-AB82) -> 0 | AD82: Bidang Pemberdayaan Masyarakat Desa | AE82: ='BI INTRA 2025'!AB82+'BI INTRA 2026 smt 1'!Y82 -> 5440000 | AF82: =AB82-AE82 -> 0
B83: 1.3.2.05.01.04.005 | C83: 0012 | E83: Filling Cabinet | F83: =VLOOKUP(B83,[1]Sheet1!$H$4:$I$15682,2,FALSE) -> Filing Cabinet Besi | G83: Lion '4 Laci | H83: - | I83: Besi | J83: APBD | K83: 2009 | L83: - | M83: buah | N83: B | O83: 1 | P83: 2720000 | R83: 0 | S83: =SUM(P83-R83) -> 2720000 | T83: 5 | U83: =SUM(S83/T83) -> 544000 | V83: 0 | W83: =SUM(U83*V83) -> 0 | X83: 0 | Y83: =SUM(U83*X83) -> 0 | Z83: =SUM(W83+Y83) -> 0 | AA83: 5 | AB83: =SUM(U83*AA83) -> 2720000 | AC83: =SUM(S83-AB83) -> 0 | AD83: Kabid Pengendalian Penduduk dan KB | AE83: ='BI INTRA 2025'!AB83+'BI INTRA 2026 smt 1'!Y83 -> 2720000 | AF83: =AB83-AE83 -> 0
B84: 1.3.2.05.01.04.005 | C84: 0013 | E84: Filling Cabinet | F84: =VLOOKUP(B84,[1]Sheet1!$H$4:$I$15682,2,FALSE) -> Filing Cabinet Besi | G84: Lion '4 Laci | H84: - | I84: Besi | J84: APBD | K84: 2009 | L84: - | M84: buah | N84: B | O84: 1 | P84: 2720000 | R84: 0 | S84: =SUM(P84-R84) -> 2720000 | T84: 5 | U84: =SUM(S84/T84) -> 544000 | V84: 0 | W84: =SUM(U84*V84) -> 0 | X84: 0 | Y84: =SUM(U84*X84) -> 0 | Z84: =SUM(W84+Y84) -> 0 | AA84: 5 | AB84: =SUM(U84*AA84) -> 2720000 | AC84: =SUM(S84-AB84) -> 0 | AD84: Bidang Pengendalian Penduduk dan KB | AE84: ='BI INTRA 2025'!AB84+'BI INTRA 2026 smt 1'!Y84 -> 2720000 | AF84: =AB84-AE84 -> 0
B85: 1.3.2.05.01.04.005 | C85: 0014-0015 | E85: Filling Cabinet | F85: =VLOOKUP(B85,[1]Sheet1!$H$4:$I$15682,2,FALSE) -> Filing Cabinet Besi | G85: Lion '4 Laci | H85: - | I85: Besi | J85: APBD | K85: 2009 | L85: - | M85: buah | N85: B | O85: 2 | P85: 5440000 | R85: 0 | S85: =SUM(P85-R85) -> 5440000 | T85: 5 | U85: =SUM(S85/T85) -> 1088000 | V85: 0 | W85: =SUM(U85*V85) -> 0 | X85: 0 | Y85: =SUM(U85*X85) -> 0 | Z85: =SUM(W85+Y85) -> 0 | AA85: 5 | AB85: =SUM(U85*AA85) -> 5440000 | AC85: =SUM(S85-AB85) -> 0 | AD85: Bidang Pemberdayaan Perempuan | AE85: ='BI INTRA 2025'!AB85+'BI INTRA 2026 smt 1'!Y85 -> 5440000 | AF85: =AB85-AE85 -> 0
B86: 1.3.2.05.01.04.005 | C86: 0016-0020 | E86: Filling Cabinet | F86: =VLOOKUP(B86,[1]Sheet1!$H$4:$I$15682,2,FALSE) -> Filing Cabinet Besi | G86: Lion '4 Laci | H86: - | I86: Besi | J86: APBD | K86: 2009 | L86: - | M86: buah | N86: B | O86: 5 | P86: 13600000 | R86: 0 | S86: =SUM(P86-R86) -> 13600000 | T86: 5 | U86: =SUM(S86/T86) -> 2720000 | V86: 0 | W86: =SUM(U86*V86) -> 0 | X86: 0 | Y86: =SUM(U86*X86) -> 0 | Z86: =SUM(W86+Y86) -> 0 | AA86: 5 | AB86: =SUM(U86*AA86) -> 13600000 | AC86: =SUM(S86-AB86) -> 0 | AD86: Bidang Perlindungan Anak | AE86: ='BI INTRA 2025'!AB86+'BI INTRA 2026 smt 1'!Y86 -> 13600000 | AF86: =AB86-AE86 -> 0
B87: 1.3.2.05.01.04.005 | C87: 0021 | E87: Filling Cabinet | F87: =VLOOKUP(B87,[1]Sheet1!$H$4:$I$15682,2,FALSE) -> Filing Cabinet Besi | G87: TOP | H87: - | I87: Besi | J87: APBD | K87: 2019 | L87: - | M87: buah | N87: B | O87: 1 | P87: 2387000 | R87: 0 | S87: =SUM(P87-R87) -> 2387000 | T87: 5 | U87: =SUM(S87/T87) -> 477400 | V87: 0 | W87: 0 | X87: 0 | Y87: 0 | Z87: 0 | AA87: 5 | AB87: 2387000 | AC87: =SUM(S87-AB87) -> 0 | AD87: UPTD PPA | AE87: ='BI INTRA 2025'!AB87+'BI INTRA 2026 smt 1'!Y87 -> 2387000 | AF87: =AB87-AE87 -> 0
B88: 1.3.2.05.01.04.005 | C88: 0022 | E88: Filling Cabinet | F88: =VLOOKUP(B88,[1]Sheet1!$H$4:$I$15682,2,FALSE) -> Filing Cabinet Besi | G88: TOP | H88: - | I88: Besi | J88: APBD | K88: 2019 | L88: - | M88: buah | N88: B | O88: 1 | P88: 2387000 | R88: 0 | S88: =SUM(P88-R88) -> 2387000 | T88: 5 | U88: =SUM(S88/T88) -> 477400 | V88: 0 | W88: 0 | X88: 0 | Y88: 0 | Z88: 0 | AA88: 5 | AB88: 2387000 | AC88: =SUM(S88-AB88) -> 0 | AD88: UPTD PPA | AE88: ='BI INTRA 2025'!AB88+'BI INTRA 2026 smt 1'!Y88 -> 2387000 | AF88: =AB88-AE88 -> 0
B89: 1.3.2.05.01.04.029 | C89: 0001-0002 | E89: Lemari Buku | F89: =VLOOKUP(B89,[1]Sheet1!$H$4:$I$15682,2,FALSE) -> Lemari Arsip | G89: Lokal | H89: - | I89: Kayu/Kaca | J89: APBD | K89: 2011 | L89: - | M89: unit | N89: B | O89: 2 | P89: 8400000 | R89: 0 | S89: =SUM(P89-R89) -> 8400000 | T89: 5 | AA89: 5 | AB89: 8400000 | AC89: =SUM(S89-AB89) -> 0 | AD89: Rumah Aman | AE89: ='BI INTRA 2025'!AB89+'BI INTRA 2026 smt 1'!Y89 -> 8400000 | AF89: =AB89-AE89 -> 0
B90: 1.3.2.05.01.04.002 | C90: 0001-0002 | E90: Lemari Pakaian | F90: =VLOOKUP(B90,[1]Sheet1!$H$4:$I$15682,2,FALSE) -> Lemari Kayu | G90: Lokal | H90: - | I90: Kayu | J90: APBD | K90: 2011 | L90: - | M90: unit | N90: B | O90: 2 | P90: 7000000 | R90: 0 | S90: =SUM(P90-R90) -> 7000000 | T90: 5 | AA90: 5 | AB90: 7000000 | AC90: =SUM(S90-AB90) -> 0 | AD90: Rumah Aman | AE90: ='BI INTRA 2025'!AB90+'BI INTRA 2026 smt 1'!Y90 -> 7000000 | AF90: =AB90-AE90 -> 0
B91: 1.3.2.05.01.04.005 | C91: 0021-0022 | E91: Filling Cabinet | F91: =VLOOKUP(B91,[1]Sheet1!$H$4:$I$15682,2,FALSE) -> Filing Cabinet Besi | G91: Lion | H91: - | I91: Besi | J91: APBD | K91: 2011 | L91: - | M91: unit | N91: B | O91: 2 | P91: 4800000 | R91: 0 | S91: =SUM(P91-R91) -> 4800000 | T91: 5 | AA91: 5 | AB91: 4800000 | AC91: =SUM(S91-AB91) -> 0 | AD91: Rumah Aman | AE91: ='BI INTRA 2025'!AB91+'BI INTRA 2026 smt 1'!Y91 -> 4800000 | AF91: =AB91-AE91 -> 0
AE92: ='BI INTRA 2025'!AB92+'BI INTRA 2026 smt 1'!Y92 -> 0 | AF92: =AB92-AE92 -> 0
B93: 1.3.2.05.01.05 | C93: ALAT KANTOR LAINNYA | O93: =SUM(O94:O100) -> 8 | P93: =SUM(P94:P100) -> 85130000 | S93: =SUM(S94:S100) -> 85130000 | U93: =SUM(U94:U100) -> 6026000 | W93: =SUM(W94:W100) -> 0 | Y93: =SUM(Y94:Y100) -> 0 | Z93: =SUM(Z94:Z100) -> 0 | AB93: =SUM(AB94:AB100) -> 85130000 | AC93: =SUM(AC94:AC100) -> 0 | AE93: ='BI INTRA 2025'!AB93+'BI INTRA 2026 smt 1'!Y93 -> 85130000 | AF93: =AB93-AE93 -> 0
B94: 1.3.2.05.01.05.012 | C94: 0001 | E94: Mesin Absensi | F94: =VLOOKUP(B94,[1]Sheet1!$H$4:$I$15682,2,FALSE) -> Mesin Absensi | G94: Premium Series | H94: - | I94: Besi | J94: APBD | K94: 2010 | L94: - | M94: buah | N94: KB | O94: 1 | P94: 20000000 | R94: 0 | S94: =SUM(P94-R94) -> 20000000 | T94: 5 | AA94: 5 | AB94: 20000000 | AC94: =SUM(S94-AB94) -> 0 | AD94: Subbag Umum & Kepegawaian | AE94: ='BI INTRA 2025'!AB94+'BI INTRA 2026 smt 1'!Y94 -> 20000000 | AF94: =AB94-AE94 -> 0
B95: 1.3.2.05.01.05.077 | C95: 0001 | E95: Papan Data | F95: =VLOOKUP(B95,[1]Sheet1!$H$4:$I$15682,2,FALSE) -> Papan Pengumuman | G95: Lokal | H95: - | I95: Mika | J95: APBD | K95: 2010 | L95: - | M95: unit | N95: B | O95: 1 | P95: 5000000 | R95: 0 | S95: =SUM(P95-R95) -> 5000000 | T95: 5 | AA95: 5 | AB95: 5000000 | AC95: =SUM(S95-AB95) -> 0 | AD95: Ajudan (ADC) | AE95: ='BI INTRA 2025'!AB95+'BI INTRA 2026 smt 1'!Y95 -> 5000000 | AF95: =AB95-AE95 -> 0
B96: 1.3.2.05.01.05.043 | C96: 0001-0002 | E96: Infocus | F96: =VLOOKUP(B96,[1]Sheet1!$H$4:$I$15682,2,FALSE) -> LCD Projector/Infocus | G96: Acer X 1261 1 | H96: - | I96: Besi | J96: APBD | K96: 2010 | L96: - | M96: unit | N96: B | O96: 2 | P96: 18900000 | R96: 0 | S96: =SUM(P96-R96) -> 18900000 | T96: 5 | U96: =SUM(S96/T96) -> 3780000 | V96: 0 | W96: =SUM(U96*V96) -> 0 | X96: 0 | Y96: =SUM(U96*X96) -> 0 | Z96: =SUM(W96+Y96) -> 0 | AA96: 5 | AB96: =SUM(U96*AA96) -> 18900000 | AC96: =SUM(S96-AB96) -> 0 | AD96: Penyimpan Barang | AE96: ='BI INTRA 2025'!AB96+'BI INTRA 2026 smt 1'!Y96 -> 18900000 | AF96: =AB96-AE96 -> 0
B97: 1.3.2.05.01.05.053 | C97: 0001-0002 | E97: Screen/Layar Infocus | F97: =VLOOKUP(B97,[1]Sheet1!$H$4:$I$15682,2,FALSE) -> Focusing Screen/Layar LCD Projector | G97: 84 " Tripod | H97: - | I97: Besi | J97: APBD | K97: 2010 | L97: - | M97: unit | N97: B | O97: 2 | P97: 3400000 | R97: 0 | S97: =SUM(P97-R97) -> 3400000 | T97: 5 | U97: =SUM(S97/T97) -> 680000 | V97: 0 | W97: =SUM(U97*V97) -> 0 | X97: 0 | Y97: =SUM(U97*X97) -> 0 | Z97: =SUM(W97+Y97) -> 0 | AA97: 5 | AB97: =SUM(U97*AA97) -> 3400000 | AC97: =SUM(S97-AB97) -> 0 | AD97: Penyimpan Barang | AE97: ='BI INTRA 2025'!AB97+'BI INTRA 2026 smt 1'!Y97 -> 3400000 | AF97: =AB97-AE97 -> 0
B98: 1.3.2.05.01.05.077 | C98: 0002 | E98: Papan Data | F98: =VLOOKUP(B98,[1]Sheet1!$H$4:$I$15682,2,FALSE) -> Papan Pengumuman | G98: Lokal | H98: - | I98: Mika | J98: APBD | K98: 2012 | L98: - | M98: unit | N98: B | O98: 1 | P98: 30000000 | R98: 0 | S98: =SUM(P98-R98) -> 30000000 | T98: 5 | AA98: 5 | AB98: 30000000 | AC98: =SUM(S98-AB98) -> 0 | AD98: Sekretariat PKK | AE98: ='BI INTRA 2025'!AB98+'BI INTRA 2026 smt 1'!Y98 -> 30000000 | AF98: =AB98-AE98 -> 0
B99: 1.3.2.05.01.05.023 | C99: 0001 | E99: Proyektor | F99: =VLOOKUP(B99,[1]Sheet1!$H$4:$I$15682,2,FALSE) -> Overhead Projector | I99: Ebonik | J99: APBD | K99: 2015 | M99: unit | N99: B | O99: 1 | P99: 7830000 | R99: 0 | S99: =SUM(P99-R99) -> 7830000 | T99: 5 | U99: =SUM(S99/T99) -> 1566000 | AA99: 5 | AB99: 7830000 | AC99: =SUM(S99-AB99) -> 0 | AD99: Penyimpan Barang | AE99: ='BI INTRA 2025'!AB99+'BI INTRA 2026 smt 1'!Y99 -> 7830000 | AF99: =AB99-AE99 -> 0
AE100: ='BI INTRA 2025'!AB100+'BI INTRA 2026 smt 1'!Y100 -> 0 | AF100: =AB100-AE100 -> 0
B101: 1.3.2.05.02 | C101: ALAT RUMAH TANGGA | O101: =O102+O120+O122+O125+O145+O147+O172 -> 96 | P101: =P102+P120+P122+P125+P145+P147+P172 -> 431640300 | S101: =S102+S120+S122+S125+S145+S147+S172 -> 431640300 | U101: =U102+U120+U122+U125+U145+U147+U172 -> 73818060 | W101: =W102+W120+W122+W125+W145+W147+W172 -> 0 | Y101: =Y102+Y120+Y122+Y125+Y145+Y147+Y172 -> 0 | Z101: =Z102+Z120+Z122+Z125+Z145+Z147+Z172 -> 0 | AB101: =AB102+AB120+AB122+AB125+AB145+AB147+AB172 -> 431640300 | AC101: =AC102+AC120+AC122+AC125+AC145+AC147+AC172 -> 0 | AD101: =P101-AB101 -> 0 | AE101: ='BI INTRA 2025'!AB101+'BI INTRA 2026 smt 1'!Y101 -> 431640300 | AF101: =AB101-AE101 -> 0
B102: 1.3.2.05.02.01 | C102: MEUBELAIR | O102: =SUM(O103:O119) -> 41 | P102: =SUM(P103:P119) -> 94358300 | S102: =SUM(S103:S119) -> 94358300 | U102: =SUM(U103:U119) -> 12961660 | W102: =SUM(W103:W119) -> 0 | Y102: =SUM(Y103:Y119) -> 0 | Z102: =SUM(Z103:Z119) -> 0 | AB102: =SUM(AB103:AB118) -> 94358300 | AC102: =SUM(AC103:AC119) -> 0 | AD102: =P102-AB102 -> 0 | AE102: ='BI INTRA 2025'!AB102+'BI INTRA 2026 smt 1'!Y102 -> 94358300 | AF102: =AB102-AE102 -> 0
B103: 1.3.2.05.02.01.008 | C103: 0001 | E103: Meja Rapat Oval | F103: =VLOOKUP(B103,[1]Sheet1!$H$4:$I$15682,2,FALSE) -> Meja Rapat | G103: Lokal | H103: - | I103: Kayu | J103: APBD | K103: 2009 | L103: - | M103: buah | N103: B | O103: 1 | P103: 4950000 | R103: 0 | S103: =SUM(P103-R103) -> 4950000 | T103: 5 | U103: =SUM(S103/T103) -> 990000 | V103: 0 | W103: =SUM(U103*V103) -> 0 | X103: 0 | Y103: =SUM(U103*X103) -> 0 | Z103: =SUM(W103+Y103) -> 0 | AA103: 5 | AB103: =SUM(U103*AA103) -> 4950000 | AC103: =SUM(S103-AB103) -> 0 | AD103: Ruang Rapat Kepala Dinas | AE103: ='BI INTRA 2025'!AB103+'BI INTRA 2026 smt 1'!Y103 -> 4950000 | AF103: =AB103-AE103 -> 0
B104: 1.3.2.05.02.01.008 | C104: 0001-0003 | E104: Meja Rapat Panjang | F104: =VLOOKUP(B104,[1]Sheet1!$H$4:$I$15682,2,FALSE) -> Meja Rapat | G104: Lokal | H104: - | I104: Kayu | J104: APBD | K104: 2009 | L104: - | M104: buah | N104: B | O104: 3 | P104: 4950000 | R104: 0 | S104: =SUM(P104-R104) -> 4950000 | T104: 5 | U104: =SUM(S104/T104) -> 990000 | V104: 0 | W104: =SUM(U104*V104) -> 0 | X104: 0 | Y104: =SUM(U104*X104) -> 0 | Z104: =SUM(W104+Y104) -> 0 | AA104: 5 | AB104: =SUM(U104*AA104) -> 4950000 | AC104: =SUM(S104-AB104) -> 0 | AD104: Aula | AE104: ='BI INTRA 2025'!AB104+'BI INTRA 2026 smt 1'!Y104 -> 4950000 | AF104: =AB104-AE104 -> 0
...

Sheet BI INTRA 2025
A1: BUKU INVENTARIS PENYUSUTAN
A2: PER 1 Januari s.d 30 Juni 2025
A4: SKPD | C4: : DINAS PEMBERDAYAAN PEREMPUAN, PERLINDUNGAN ANAK, DAN PENGENDALIAN PENDUDUK PROVINSI JAMBI | R4: Rumus Penyusutan = Nilai Perolehan - Nilai Residu / Masa manfaat
A5: KABUPATEN / KOTA | C5: : JAMBI
A6: PROVINSI | C6: : JAMBI | AB6: NO. KODE LOKASI : | AC6: 11.05.00.15.03
A7: TAHUN | C7: : 2025
A9: NOMOR | E9: SPESIFIKASI BARANG | I9: Bahan | J9: Asal / Cara Perolehan Barang | K9: Tahun Perolehan | L9: Ukuran Barang/ Konstruksi (P,S,D) | M9: Satuan | N9: Keadaan Barang (B/KB/RB) | O9: JUMLAH | Q9: Kolom untuk pengolahan Kapitalisasi atas adanya Rehab dll | R9: Nilai residu | S9: Nilai Perolehan setelah dikurangi nilai Residu | T9: Masa manfaat (tahun) | U9: Beban Penyusutan per tahun | V9: Beban Penyusutan Periode ini | AA9: Penyusutan tahun ke | AB9: Akumulasi Penyusutan | AC9: Nilai Buku | AD9: Lokasi Barang
A10: No. Urut | B10: Kode Barang | C10: Register | D10: Nama Barang Berdasarkan Kodefikasi | E10: Nama / Jenis Barang | F10: NAMA ASET 108 | G10: Merk/Type | H10: No. Sertifikat No. Pabrik No. Chasis No. Mesin, No. Polisi No. BPKB | O10: Barang | P10: Harga | V10: Semester I | X10: Semester II | Z10: Beban Tahun Ini
V11: Waktu | W11: Nilai | X11: Waktu | Y11: Nilai
A12: 1 | B12: 2 | C12: 3 | E12: 4 | G12: 5 | H12: 6 | I12: 7 | J12: 8 | K12: 9 | L12: 10 | M12: 11 | N12: 12 | O12: 13 | P12: 14 | Q12: 15 | R12: 16 | S12: 17 | T12: 18 | U12: 19 | V12: 20 | W12: 21 | X12: 22 | Y12: 23 | Z12: 24 | AA12: 25 | AB12: 26 | AC12: 27 | AD12: 28
A14: 01. | B14: TANAH | C14: - | E14: - | G14: - | H14: - | I14: - | J14: - | K14: - | L14: - | M14: - | N14: - | O14: - | P14: - | AD14: -
A16: 02. | B16: PERALATAN DAN MESIN | F16: =F14-F15 -> 0 | O16: =O17+O53+O200+O219+O224+O226+O228 -> 271 | P16: =P17+P53+P200+P219+P224+P226+P228 -> 3940215519 | S16: =S17+S53+S200+S219+S224+S226+S228 -> 3940215519 | U16: =U17+U53+U200+U219+U224+U226+U228 -> 3.7977253e+08 | W16: =W17+W53+W200+W219+W224+W226+W228 -> 29415714 | Y16: =Y17+Y53+Y200+Y219+Y224+Y226+Y228 -> 0 | Z16: =Z17+Z53+Z200+Z219+Z224+Z226+Z228 -> 29415714 | AB16: =AB17+AB53+AB200+AB219+AB228 -> 3.8621203e+09 | AC16: =AC17+AC53+AC200+AC219+AC224+AC226+AC228 -> 78095238
B17: 1.3.2.02 | C17: a. Alat - Alat Besar | O17: =O19 -> 23 | P17: =P19 -> 2518491500 | S17: =S19 -> 2518491500 | U17: =U19 -> 1.7690593e+08 | W17: =W19 -> 29285714 | Y17: =Y19 -> 0 | Z17: =Z19 -> 29285714 | AB17: =AB19 -> 2.4403963e+09 | AC17: =AC19 -> 78095238
B18: - | C18: - | E18: - | G18: - | H18: - | I18: - | J18: - | K18: - | L18: - | M18: - | N18: - | O18: - | P18: -
B19: 1.3.2.02 | C19: ALAT ANGKUTAN | O19: =O20 -> 23 | P19: =P20 -> 2518491500 | S19: =S20 -> 2518491500 | U19: =U20 -> 1.7690593e+08 | W19: =W20 -> 29285714 | Y19: =Y20 -> 0 | Z19: =Z20 -> 29285714 | AB19: =AB20 -> 2.4403963e+09 | AC19: =AC20 -> 78095238
B20: 1.3.2.02.02 | C20: ALAT ANGKUTAN DARAT BERMOTOR | O20: =O21+O33+O36 -> 23 | P20: =P21+P33+P36 -> 2518491500 | S20: =S21+S33+S36 -> 2518491500 | U20: =U21+U33+U36 -> 1.7690593e+08 | W20: =W21+W33+W36 -> 29285714 | Y20: =Y21+Y33+Y36 -> 0 | Z20: =Z21+Z33+Z36 -> 29285714 | AB20: =AB21+AB33+AB36 -> 2.4403963e+09 | AC20: =AC21+AC33+AC36 -> 78095238
B21: 1.3.2.02.01.01 | C21: KENDARAAN DINAS BERMOTOR PERORANGAN | O21: =SUM(O22:O32) -> 10 | P21: =SUM(P22:P32) -> 2069500000 | S21: =SUM(S22:S32) -> 2069500000 | U21: =SUM(U22:U32) -> 1.5628571e+08 | W21: =SUM(W22:W32) -> 29285714 | Y21: =SUM(Y22:Y32) -> 0 | Z21: =SUM(Z22:Z32) -> 29285714 | AB21: =SUM(AB22:AB32) -> 1.9914048e+09 | AC21: =SUM(AC22:AC32) -> 78095238
B22: 1.3.2.02.01.01.004 | C22: 0002 | E22: Mini Bus | F22: =VLOOKUP(B22,[2]Sheet1!$H$4:$I$15682,2,FALSE) -> Multi Purpose Vehicle (MPV) | G22: Kijang Inova | H22: MHFXW42G2A2161605, 1TR-6931093, BH 1949 Z, H-02365306 F | I22: Besi | J22: APBD | K22: 2010 | L22: - | M22: unit | N22: B | O22: 1 | P22: 218800000 | R22: 0 | S22: =SUM(P22-R22) -> 218800000 | T22: 7 | AA22: 7 | AB22: 218800000 | AC22: =SUM(S22-AB22) -> 0 | AD22: Nurbaiti, S. Sos, M. Si
B23: 1.3.2.02.01.01.004 | C23: 0003 | E23: Mini Bus | F23: =VLOOKUP(B23,[2]Sheet1!$H$4:$I$15682,2,FALSE) -> Multi Purpose Vehicle (MPV) | G23: Toyota Avanza | H23: MHFM1BA3JAK233888, DF 62852, BH 1916 Z, H-02365307 F | I23: Besi | J23: APBD | K23: 2010 | L23: - | M23: unit | N23: B | O23: 1 | P23: 147100000 | R23: 0 | S23: =SUM(P23-R23) -> 147100000 | T23: 7 | AA23: 7 | AB23: 147100000 | AC23: =SUM(S23-AB23) -> 0 | AD23: Basri, S. Th. I, M. M
B24: 1.3.2.02.01.01.004 | C24: 0004 | E24: Mini Bus | F24: =VLOOKUP(B24,[2]Sheet1!$H$4:$I$15682,2,FALSE) -> Multi Purpose Vehicle (MPV) | G24: Micro Bus 110 ST PS | H24: MHFC1JUX1A5000720, W04DT-PJ11979, BH 7102 HZ, H-01644121 F | I24: Besi | J24: APBD | K24: 2010 | L24: - | M24: unit | N24: B | O24: 1 | P24: 310000000 | R24: 0 | S24: =SUM(P24-R24) -> 310000000 | T24: 7 | AA24: 7 | AB24: 310000000 | AC24: =SUM(S24-AB24) -> 0 | AD24: Pool
B25: 1.3.2.02.01.01.004 | C25: 0005 | E25: Mini Bus | F25: =VLOOKUP(B25,[2]Sheet1!$H$4:$I$15682,2,FALSE) -> Multi Purpose Vehicle (MPV) | G25: Toyota Avanza | H25: MHFM1BA3JBK322328, DH58588, BH 1369 Z, H-11430265 F | I25: Besi | J25: APBD | K25: 2011 | L25: - | M25: unit | N25: B | O25: 1 | P25: 150600000 | R25: 0 | S25: =SUM(P25-R25) -> 150600000 | T25: 7 | AA25: 7 | AB25: 150600000 | AC25: =SUM(S25-AB25) -> 0 | AD25: Mirzah Hasinah, S. E
B26: 1.3.2.02.01.01.004 | C26: 0006 | E26: Mini Bus | F26: =VLOOKUP(B26,[2]Sheet1!$H$4:$I$15682,2,FALSE) -> Multi Purpose Vehicle (MPV) | G26: Toyota Avanza New G M/T | H26: MHKM1BA3JCK062489, DL08917, BH 1969 AZ, I-10999848 F | I26: Besi | J26: APBD | K26: 2012 | L26: - | M26: unit | N26: B | O26: 1 | P26: 149000000 | R26: 0 | S26: =SUM(P26-R26) -> 149000000 | T26: 7 | AA26: 7 | AB26: 149000000 | AC26: =SUM(S26-AB26) -> 0 | AD26: Drs. Achyar
B27: 1.3.2.02.01.01.004 | C27: 0008 | E27: Mini Bus | F27: =VLOOKUP(B27,[2]Sheet1!$H$4:$I$15682,2,FALSE) -> Multi Purpose Vehicle (MPV) | G27: Toyota Rush 1500 G VVTI Manual | H27: MHFE2CJ2JDK034537, DDH5106, BH 1049 AZ, 100513.R00196, K-00103804 F | I27: Besi | J27: APBD | K27: 2013 | L27: - | M27: unit | N27: B | O27: 1 | P27: 186050000 | R27: 0 | S27: =SUM(P27-R27) -> 186050000 | T27: 7 | U27: =SUM(S27/T27) -> 26578571 | AA27: 7 | AB27: =SUM(U27*AA27) -> 186050000 | AC27: =SUM(S27-AB27) -> 0 | AD27: Hj. Zahnidar, S. Pd, M. M
B28: 1.3.2.02.01.01.004 | C28: 0009 | E28: Mini Bus | F28: =VLOOKUP(B28,[2]Sheet1!$H$4:$I$15682,2,FALSE) -> Multi Purpose Vehicle (MPV) | G28: Toyota Rush 1500 G VVTI Manual | H28: MHFE2CJ2JDK034526, DDH5242, BH 1050 HZ, 100513.R00194, K-00103805 F | I28: Besi | J28: APBD | K28: 2013 | L28: - | M28: unit | N28: B | O28: 1 | P28: 186050000 | R28: 0 | S28: =SUM(P28-R28) -> 186050000 | T28: 7 | U28: =SUM(S28/T28) -> 26578571 | AA28: 7 | AB28: =SUM(U28*AA28) -> 186050000 | AC28: =SUM(S28-AB28) -> 0 | AD28: Chairun Nasichin, S. Sos, M. Si
B29: 1.3.2.02.01.01.004 | C29: 0010 | E29: Mini Bus | F29: =VLOOKUP(B29,[2]Sheet1!$H$4:$I$15682,2,FALSE) -> Multi Purpose Vehicle (MPV) | G29: Phanter | H29: MHCTBR54BXC071458, E071458, BH 1240 AZ, A. No. 8115379 F | I29: Besi | J29: APBD | K29: 1999 | L29: - | M29: unit | N29: B | O29: 1 | P29: 80000000 | R29: 0 | S29: =SUM(P29-R29) -> 80000000 | T29: 7 | U29: =SUM(S29/T29) -> 11428571 | AA29: 7 | AB29: =SUM(U29*AA29) -> 80000000 | AC29: =SUM(S29-AB29) -> 0 | AD29: Pool
B30: 1.3.2.02.01.01.004 | C30: 0011 | E30: Mini Bus | F30: =VLOOKUP(B30,[2]Sheet1!$H$4:$I$15682,2,FALSE) -> Multi Purpose Vehicle (MPV) | G30: Daihatsu Luxio | H30: MHKW3CA3JGK016302, 3SZDFZ0435, BH 1406 Z, L-0862978 F | I30: Besi | J30: Hibah dari Kemen PP dan PA RI | K30: 2017 | L30: - | M30: unit | N30: B | O30: 1 | P30: 231900000 | R30: 0 | S30: =SUM(P30-R30) -> 231900000 | T30: 7 | U30: =SUM(S30/T30) -> 33128571 | AA30: 7 | AB30: 231900000 | AC30: =SUM(S30-AB30) -> 0 | AD30: UPTD Perlindungan Perempuan dan Anak (UPTD PPA)
B31: 1.3.2.02.01.01.004 | C31: 0012 | E31: Mini Bus | F31: =VLOOKUP(B31,[2]Sheet1!$H$4:$I$15682,2,FALSE) -> Multi Purpose Vehicle (MPV) | G31: Toyota Innova | H31: MHFAW8EM2K0213830,1TRA670110, BH 41, P06386906 F | I31: Besi | J31: APBD | K31: 2019 | L31: - | M31: unit | N31: B | O31: 1 | P31: 410000000 | R31: 0 | S31: =SUM(P31-R31) -> 410000000 | T31: 7 | U31: =SUM(S31/T31) -> 58571429 | V31: 0.5 | W31: =U31*V31 -> 29285714 | Z31: =W31+Y31 -> 29285714 | AA31: =2025-K31+V31+X31-10/12 -> 5.6666667 | AB31: =U31*AA31 -> 3.3190476e+08 | AC31: =S31-AB31 -> 78095238 | AD31: Drs. R. Najmi | AI31: (koreksi kurang susut)
B33: 1.3.2.02.01.03 | C33: KENDARAAN BERMOTOR ANGKUTAN BARANG | O33: =O34 -> 1 | P33: =P34 -> 304650000 | S33: =S34 -> 304650000 | U33: =U34 -> 0 | W33: =W34 -> 0 | Y33: =Y34 -> 0 | Z33: =Z34 -> 0 | AB33: =AB34 -> 304650000 | AC33: =AC34 -> 0
B34: 1.3.2.02.01.03.002 | C34: 0007 | E34: Mini Bus | F34: =VLOOKUP(B34,[2]Sheet1!$H$4:$I$15682,2,FALSE) -> Pick Up | G34: HILUX DC 2.5 G | H34: MR0FR22G4C0613587, 2KD-S061952, BH 9685 AZ, K-00103631 F | I34: Besi | J34: APBD | K34: 2012 | L34: - | M34: unit | N34: B | O34: 1 | P34: 304650000 | R34: 0 | S34: =SUM(P34-R34) -> 304650000 | T34: 7 | AA34: 7 | AB34: 304650000 | AC34: =SUM(S34-AB34) -> 0 | AD34: Pool
B36: 1.3.2.02.01.04 | C36: KENDARAAN BERMOTOR BERODA DUA | O36: =SUM(O37:O48) -> 12 | P36: =SUM(P37:P48) -> 144341500 | S36: =SUM(S37:S48) -> 144341500 | U36: =SUM(U37:U48) -> 20620214 | W36: =SUM(W37:W48) -> 0 | Y36: =SUM(Y37:Y48) -> 0 | Z36: =SUM(Z37:Z48) -> 0 | AB36: =SUM(AB37:AB48) -> 144341500 | AC36: =SUM(AC37:AC48) -> 9.3132257e-10
B37: 1.3.2.02.01.04.001 | C37: 0001 | E37: Sepeda Motor | F37: =VLOOKUP(B37,[2]Sheet1!$H$4:$I$15682,2,FALSE) -> Sepeda Motor | G37: Honda Win | H37: MH3.3HB0005TK151, HAE20530338, BH 6718 AZ | I37: Besi | J37: APBD | K37: 1995 | L37: - | M37: unit | N37: B | O37: 1 | P37: 4800000 | R37: 0 | S37: =SUM(P37-R37) -> 4800000 | T37: 7 | U37: =SUM(S37/T37) -> 685714.29 | V37: 0 | W37: =SUM(U37*V37) -> 0 | X37: 0 | Y37: =SUM(U37*X37) -> 0 | Z37: =SUM(W37+Y37) -> 0 | AA37: 7 | AB37: =SUM(U37*AA37) -> 4800000 | AC37: =SUM(S37-AB37) -> 0 | AD37: DP3AP2
B38: 1.3.2.02.01.04.001 | C38: 0002 | E38: Sepeda Motor | F38: =VLOOKUP(B38,[2]Sheet1!$H$4:$I$15682,2,FALSE) -> Sepeda Motor | G38: Yamaha RX 115 | H38: HK117535332, 3HB140259, BH 4839 AZ | I38: Besi | J38: APBD | K38: 1995 | L38: - | M38: unit | N38: B | O38: 1 | P38: 9000000 | R38: 0 | S38: =SUM(P38-R38) -> 9000000 | T38: 7 | U38: =SUM(S38/T38) -> 1285714.3 | V38: 0 | W38: =SUM(U38*V38) -> 0 | X38: 0 | Y38: =SUM(U38*X38) -> 0 | Z38: =SUM(W38+Y38) -> 0 | AA38: 7 | AB38: =SUM(U38*AA38) -> 9000000 | AC38: =SUM(S38-AB38) -> 0 | AD38: Muflihan Chandra, S. H
B39: 1.3.2.02.01.04.001 | C39: 0003 | E39: Sepeda Motor | F39: =VLOOKUP(B39,[2]Sheet1!$H$4:$I$15682,2,FALSE) -> Sepeda Motor | G39: Honda Star | H39: MH1GGHA17WK016607, GGHAE-1016478, BH 5720 AZ, A No. 8042328 F | I39: Besi | J39: APBD | K39: 1998 | L39: - | M39: unit | N39: B | O39: 1 | P39: 7400000 | R39: 0 | S39: =SUM(P39-R39) -> 7400000 | T39: 7 | U39: =SUM(S39/T39) -> 1057142.9 | V39: 0 | W39: =SUM(U39*V39) -> 0 | X39: 0 | Y39: =SUM(U39*X39) -> 0 | Z39: =SUM(W39+Y39) -> 0 | AA39: 7 | AB39: =SUM(U39*AA39) -> 7400000 | AC39: =SUM(S39-AB39) -> 9.3132257e-10 | AD39: UP
B40: 1.3.2.02.01.04.001 | C40: 0004 | E40: Sepeda Motor | F40: =VLOOKUP(B40,[2]Sheet1!$H$4:$I$15682,2,FALSE) -> Sepeda Motor | G40: Honda Supra X 125 | H40: MH1JB41146K058990, JB41E-1058415, BH 2498 Z | I40: Besi | J40: APBD | K40: 2006 | L40: - | M40: unit | N40: B | O40: 1 | P40: 9000000 | R40: 0 | S40: =SUM(P40-R40) -> 9000000 | T40: 7 | U40: =SUM(S40/T40) -> 1285714.3 | V40: 0 | W40: =SUM(U40*V40) -> 0 | X40: 0 | Y40: =SUM(U40*X40) -> 0 | Z40: =SUM(W40+Y40) -> 0 | AA40: 7 | AB40: =SUM(U40*AA40) -> 9000000 | AC40: =SUM(S40-AB40) -> 0 | AD40: Hendri
B41: 1.3.2.02.01.04.001 | C41: 0005 | E41: Sepeda Motor | F41: =VLOOKUP(B41,[2]Sheet1!$H$4:$I$15682,2,FALSE) -> Sepeda Motor | G41: Honda Supra 125 | H41: MH1JB51196K77335, JB51E-1770055, BH 4733 AZ, E No. 1991703 F | I41: Besi | J41: APBD | K41: 2007 | L41: - | M41: unit | N41: B | O41: 1 | P41: 4800000 | R41: 0 | S41: =SUM(P41-R41) -> 4800000 | T41: 7 | U41: =SUM(S41/T41) -> 685714.29 | V41: 0 | W41: =SUM(U41*V41) -> 0 | X41: 0 | Y41: =SUM(U41*X41) -> 0 | Z41: =SUM(W41+Y41) -> 0 | AA41: 7 | AB41: =SUM(U41*AA41) -> 4800000 | AC41: =SUM(S41-AB41) -> 0 | AD41: Pool
B42: 1.3.2.02.01.04.001 | C42: 0010 | E42: Sepeda Motor | F42: =VLOOKUP(B42,[2]Sheet1!$H$4:$I$15682,2,FALSE) -> Sepeda Motor | G42: Honda New Supra X 125 CW | H42: MHIJB9128BK600088, JB91E-2590978, BH 2930 HZ, I-00593971 F | I42: Besi | J42: APBD | K42: 2011 | L42: - | M42: unit | N42: B | O42: 1 | P42: 14300000 | R42: 0 | S42: =SUM(P42-R42) -> 14300000 | T42: 7 | U42: =SUM(S42/T42) -> 2042857.1 | V42: =6/12 -> 0.5 | X42: 0 | Y42: =SUM(U42*X42) -> 0 | Z42: =SUM(W42+Y42) -> 0 | AA42: 7 | AB42: =SUM(U42*AA42) -> 14300000 | AC42: =SUM(S42-AB42) -> 0 | AD42: Eti Subiarti, S.E
B43: 1.3.2.02.01.04.001 | C43: 0011 | E43: Sepeda Motor | F43: =VLOOKUP(B43,[2]Sheet1!$H$4:$I$15682,2,FALSE) -> Sepeda Motor | G43: Honda New Supra X 125 CW | H43: MH1JB9123BK600239, JB91E-2591195, BH 2927 HZ, I-00593970 F | I43: Besi | J43: APBD | K43: 2011 | L43: - | M43: unit | N43: B | O43: 1 | P43: 14300000 | R43: 0 | S43: =SUM(P43-R43) -> 14300000 | T43: 7 | U43: =SUM(S43/T43) -> 2042857.1 | V43: =6/12 -> 0.5 | X43: 0 | Y43: =SUM(U43*X43) -> 0 | Z43: =SUM(W43+Y43) -> 0 | AA43: 7 | AB43: =SUM(U43*AA43) -> 14300000 | AC43: =SUM(S43-AB43) -> 0 | AD43: Subbag Program
B44: 1.3.2.02.01.04.001 | C44: 0012 | E44: Sepeda Motor | F44: =VLOOKUP(B44,[2]Sheet1!$H$4:$I$15682,2,FALSE) -> Sepeda Motor | G44: Honda New Supra X 125 CW | H44: MH1JB9129BK613738, JB91E-2604124, BH 2926 HZ, I-00593969 F | I44: Besi | J44: APBD | K44: 2011 | L44: - | M44: unit | N44: B | O44: 1 | P44: 14300000 | R44: 0 | S44: =SUM(P44-R44) -> 14300000 | T44: 7 | U44: =SUM(S44/T44) -> 2042857.1 | V44: =6/12 -> 0.5 | X44: 0 | Y44: =SUM(U44*X44) -> 0 | Z44: =SUM(W44+Y44) -> 0 | AA44: 7 | AB44: =SUM(U44*AA44) -> 14300000 | AC44: =SUM(S44-AB44) -> 0 | AD44: Ulil Fahmi, S. Th. I
B45: 1.3.2.02.01.04.001 | C45: 0013 | E45: Sepeda Motor | F45: =VLOOKUP(B45,[2]Sheet1!$H$4:$I$15682,2,FALSE) -> Sepeda Motor | G45: Suzuki Axelo | H45: MH8BF45SADJ 176985, F496-1D 448065, BH 3771 HZ, K-03781638 F | I45: Besi | J45: APBD | K45: 2013 | L45: - | M45: unit | N45: B | O45: 1 | P45: 14914500 | R45: 0 | S45: =SUM(P45-R45) -> 14914500 | T45: 7 | U45: =SUM(S45/T45) -> 2130642.9 | V45: 0 | W45: 0 | X45: 0 | Y45: =SUM(U45*X45) -> 0 | Z45: =SUM(W45+Y45) -> 0 | AA45: 7 | AB45: =SUM(U45*AA45) -> 14914500 | AC45: =SUM(S45-AB45) -> 0 | AD45: Febyanto, S. Th. I
B46: 1.3.2.02.01.04.001 | C46: 0014 | E46: Sepeda Motor | F46: =VLOOKUP(B46,[2]Sheet1!$H$4:$I$15682,2,FALSE) -> Sepeda Motor | G46: Suzuki Sky Drive Racing | H46: MH8CF48NADJ 252494, F4A9-ID 252513, BH 3770 HZ, K-03781644 F | I46: Besi | J46: APBD | K46: 2013 | L46: - | M46: unit | N46: B | O46: 1 | P46: 13685000 | R46: 0 | S46: =SUM(P46-R46) -> 13685000 | T46: 7 | U46: =SUM(S46/T46) -> 1955000 | V46: 0 | W46: 0 | X46: 0 | Y46: =SUM(U46*X46) -> 0 | Z46: =SUM(W46+Y46) -> 0 | AA46: 7 | AB46: =SUM(U46*AA46) -> 13685000 | AC46: =SUM(S46-AB46) -> 0 | AD46: Novi Muthia, S. STP, M. AP
B47: 1.3.2.02.01.04.001 | C47: 0015 | E47: Sepeda Motor | F47: =VLOOKUP(B47,[2]Sheet1!$H$4:$I$15682,2,FALSE) -> Sepeda Motor | G47: Honda | H47: MH1JFV111GK512916, JFV1E1520205, B 3129 PEQ | I47: Besi | J47: Hibah dari Kemen PP dan PA RI | K47: 2017 | L47: - | M47: unit | N47: B | O47: 1 | P47: 18921000 | R47: 0 | S47: =P47-R47 -> 18921000 | T47: 7 | U47: =SUM(S47/T47) -> 2703000 | V47: 0 | W47: 0 | X47: 0 | Y47: 0 | Z47: 0 | AA47: 7 | AB47: 18921000 | AC47: =SUM(S47-AB47) -> 0 | AD47: Petugas P2TP2A (Ferdia Prakarsa, S.H)
B48: 1.3.2.02.01.04.001 | C48: 0016 | E48: Sepeda Motor | F48: =VLOOKUP(B48,[2]Sheet1!$H$4:$I$15682,2,FALSE) -> Sepeda Motor | G48: Honda | H48: MH1JFV116GK514340, JFV1E1520661, B 3040 PEQ, N-00445728 | I48: Besi | J48: Hibah dari Kemen PP dan PA RI | K48: 2017 | L48: - | M48: unit | N48: B | O48: 1 | P48: 18921000 | R48: 0 | S48: =P48-R48 -> 18921000 | T48: 7 | U48: =SUM(S48/T48) -> 2703000 | V48: 0 | W48: 0 | X48: 0 | Y48: 0 | Z48: 0 | AA48: 7 | AB48: 18921000 | AC48: =SUM(S48-AB48) -> 0 | AD48: Petugas P2TP2A (R. Ardiansyah, S. H)
B49: c. Alat - Alat Bengkel dan Alat Ukur
B50: - | C50: - | E50: - | G50: - | H50: - | I50: - | K50: - | L50: - | M50: - | N50: - | O50: - | P50: - | AD50: -
B51: d. Alat - Alat Pertanian / Peternakan
B52: - | C52: - | E52: - | G52: - | H52: - | I52: - | K52: - | L52: - | M52: - | N52: - | O52: -
A53: 3 | B53: 1.3.2.05 | C53: ALAT KANTOR DAN RUMAH TANGGA | O53: =O54+O101+O175 -> 179 | P53: =P54+P101+P175 -> 786410300 | S53: =S54+S101+S175 -> 786410300 | U53: =U54+U101+U175 -> 115984860 | W53: =W54+W101+W175 -> 0 | Y53: =Y54+Y101+Y175 -> 0 | Z53: =Z54+Z101+Z175 -> 0 | AB53: =AB54+AB101+AB175 -> 786410300 | AC53: =AC54+AC101+AC175 -> 0 | AD53: =P53-AB53 -> 0
B54: 1.3.2.05.01 | C54: ALAT KANTOR | O54: =O55+O56+O57+O60+O93 -> 60 | P54: =P55+P56+P57+P60+P93 -> 294170000 | S54: =S55+S56+S57+S60+S93 -> 294170000 | U54: =U55+U56+U57+U60+U93 -> 30046800 | W54: =W55+W56+W57+W60+W93 -> 0 | Y54: =Y55+Y56+Y57+Y60+Y93 -> 0 | Z54: =Z55+Z56+Z57+Z60+Z93 -> 0 | AB54: =AB55+AB56+AB57+AB60+AB93 -> 294170000 | AC54: =AC55+AC56+AC57+AC60+AC93 -> 0 | AD54: =P54-AB54 -> 0
B55: 1.3.2.05.01.01 | C55: MESIN KETIK
B56: 1.3.2.05.01.02 | C56: MESIN HITUNG/MESIN JUMLAH
B57: 1.3.2.05.01.03 | C57: ALAT REPRODUKSI (PENGGANDAAN) | O57: =O58 -> 1 | P57: =P58 -> 68736000 | S57: =S58 -> 68736000 | U57: =U58 -> 0 | W57: =W58 -> 0 | Y57: =Y58 -> 0 | Z57: =Z58 -> 0 | AB57: =AB58 -> 68736000 | AC57: =AC58 -> 0
B58: 1.3.2.05.01.03.007 | C58: 0001 | E58: Mesin Foto Copy | F58: =VLOOKUP(B58,[2]Sheet1!$H$4:$I$15682,2,FALSE) -> Mesin Fotocopy Folio | G58: Canon | H58: - | I58: Besi | J58: APBD | K58: 2014 | L58: - | M58: buah | N58: B | O58: 1 | P58: 68736000 | R58: 0 | S58: =SUM(P58-R58) -> 68736000 | T58: 5 | AA58: 5 | AB58: 68736000 | AC58: =SUM(S58-AB58) -> 0 | AD58: Subbag Umum & Kepegawaian
B60: 1.3.2.05.01.04 | C60: ALAT PENYIMPAN PERLENGKAPAN KANTOR | O60: =SUM(O61:O92) -> 51 | P60: =SUM(P61:P92) -> 140304000 | S60: =SUM(S61:S92) -> 140304000 | U60: =SUM(U61:U92) -> 24020800 | W60: =SUM(W61:W92) -> 0 | Y60: =SUM(Y61:Y92) -> 0 | Z60: =SUM(Z61:Z92) -> 0 | AB60: =SUM(AB61:AB92) -> 140304000 | AC60: =SUM(AC61:AC92) -> 0 | AD60: =P60-AB60 -> 0
B61: 1.3.2.05.01.04.002 | C61: 0001 | E61: Almari Kaca | F61: =VLOOKUP(B61,[2]Sheet1!$H$4:$I$15682,2,FALSE) -> Lemari Kayu | G61: 3 Pintu | H61: - | I61: Kayu/Kaca | J61: APBD | K61: 2009 | L61: - | M61: buah | N61: B | O61: 1 | P61: 1800000 | R61: 0 | S61: =SUM(P61-R61) -> 1800000 | T61: 5 | U61: =SUM(S61/T61) -> 360000 | V61: 0 | W61: =SUM(U61*V61) -> 0 | X61: 0 | Y61: =SUM(U61*X61) -> 0 | Z61: =SUM(W61+Y61) -> 0 | AA61: 5 | AB61: =SUM(U61*AA61) -> 1800000 | AC61: =SUM(S61-AB61) -> 0 | AD61: Kabid Pemdes / Kelurahan
B62: 1.3.2.05.01.04.002 | C62: 0002 | E62: Almari Kaca | F62: =VLOOKUP(B62,[2]Sheet1!$H$4:$I$15682,2,FALSE) -> Lemari Kayu | G62: 3 Pintu | H62: - | I62: Kayu/Kaca | J62: APBD | K62: 2009 | L62: - | M62: buah | N62: B | O62: 1 | P62: 1800000 | R62: 0 | S62: =SUM(P62-R62) -> 1800000 | T62: 5 | U62: =SUM(S62/T62) -> 360000 | V62: 0 | W62: =SUM(U62*V62) -> 0 | X62: 0 | Y62: =SUM(U62*X62) -> 0 | Z62: =SUM(W62+Y62) -> 0 | AA62: 5 | AB62: =SUM(U62*AA62) -> 1800000 | AC62: =SUM(S62-AB62) -> 0 | AD62: Kabid Pemberdayaan Masyarakat Desa
B63: 1.3.2.05.01.04.002 | C63: 0003 | E63: Almari Kaca | F63: =VLOOKUP(B63,[2]Sheet1!$H$4:$I$15682,2,FALSE) -> Lemari Kayu | G63: 3 Pintu | H63: - | I63: Kayu/Kaca | J63: APBD | K63: 2009 | L63: - | M63: buah | N63: B | O63: 1 | P63: 1800000 | R63: 0 | S63: =SUM(P63-R63) -> 1800000 | T63: 5 | U63: =SUM(S63/T63) -> 360000 | V63: 0 | W63: =SUM(U63*V63) -> 0 | X63: 0 | Y63: =SUM(U63*X63) -> 0 | Z63: =SUM(W63+Y63) -> 0 | AA63: 5 | AB63: =SUM(U63*AA63) -> 1800000 | AC63: =SUM(S63-AB63) -> 0 | AD63: Kabid Pengendalian Penduduk dan KB
B64: 1.3.2.05.01.04.002 | C64: 0004 | E64: Almari Kaca | F64: =VLOOKUP(B64,[2]Sheet1!$H$4:$I$15682,2,FALSE) -> Lemari Kayu | G64: 3 Pintu | H64: - | I64: Kayu/Kaca | J64: APBD | K64: 2009 | L64: - | M64: buah | N64: B | O64: 1 | P64: 1800000 | R64: 0 | S64: =SUM(P64-R64) -> 1800000 | T64: 5 | U64: =SUM(S64/T64) -> 360000 | V64: 0 | W64: =SUM(U64*V64) -> 0 | X64: 0 | Y64: =SUM(U64*X64) -> 0 | Z64: =SUM(W64+Y64) -> 0 | AA64: 5 | AB64: =SUM(U64*AA64) -> 1800000 | AC64: =SUM(S64-AB64) -> 0 | AD64: Kabid Perlindungan Anak
B65: 1.3.2.05.01.04.002 | C65: 0001 | E65: Almari Arsip | F65: =VLOOKUP(B65,[2]Sheet1!$H$4:$I$15682,2,FALSE) -> Lemari Kayu | G65: Lokal | H65: - | I65: Kayu/Kaca | J65: APBD | K65: 2009 | L65: - | M65: buah | N65: B | O65: 1 | P65: 2170000 | R65: 0 | S65: =SUM(P65-R65) -> 2170000 | T65: 5 | U65: =SUM(S65/T65) -> 434000 | V65: 0 | W65: =SUM(U65*V65) -> 0 | X65: 0 | Y65: =SUM(U65*X65) -> 0 | Z65: =SUM(W65+Y65) -> 0 | AA65: 5 | AB65: =SUM(U65*AA65) -> 2170000 | AC65: =SUM(S65-AB65) -> 0 | AD65: Kepala Dinas
B66: 1.3.2.05.01.04.002 | C66: 0002 | E66: Almari Arsip | F66: =VLOOKUP(B66,[2]Sheet1!$H$4:$I$15682,2,FALSE) -> Lemari Kayu | G66: Lokal | H66: - | I66: Kayu/Kaca | J66: APBD | K66: 2009 | L66: - | M66: buah | N66: B | O66: 1 | P66: 2170000 | R66: 0 | S66: =SUM(P66-R66) -> 2170000 | T66: 5 | U66: =SUM(S66/T66) -> 434000 | V66: 0 | W66: =SUM(U66*V66) -> 0 | X66: 0 | Y66: =SUM(U66*X66) -> 0 | Z66: =SUM(W66+Y66) -> 0 | AA66: 5 | AB66: =SUM(U66*AA66) -> 2170000 | AC66: =SUM(S66-AB66) -> 0 | AD66: Sekretaris Dinas
B67: 1.3.2.05.01.04.002 | C67: 0003-0005 | E67: Almari Arsip | F67: =VLOOKUP(B67,[2]Sheet1!$H$4:$I$15682,2,FALSE) -> Lemari Kayu | G67: Lokal | H67: - | I67: Kayu/Kaca | J67: APBD | K67: 2009 | L67: - | M67: buah | N67: B | O67: 3 | P67: 6510000 | R67: 0 | S67: =SUM(P67-R67) -> 6510000 | T67: 5 | U67: =SUM(S67/T67) -> 1302000 | V67: 0 | W67: =SUM(U67*V67) -> 0 | X67: 0 | Y67: =SUM(U67*X67) -> 0 | Z67: =SUM(W67+Y67) -> 0 | AA67: 5 | AB67: =SUM(U67*AA67) -> 6510000 | AC67: =SUM(S67-AB67) -> 0 | AD67: Subbag Umum & Kepegawaian
B68: 1.3.2.05.01.04.002 | C68: 0006 | E68: Almari Arsip | F68: =VLOOKUP(B68,[2]Sheet1!$H$4:$I$15682,2,FALSE) -> Lemari Kayu | G68: Lokal | H68: - | I68: Kayu/Kaca | J68: APBD | K68: 2009 | L68: - | M68: buah | N68: B | O68: 1 | P68: 2170000 | R68: 0 | S68: =SUM(P68-R68) -> 2170000 | T68: 5 | U68: =SUM(S68/T68) -> 434000 | V68: 0 | W68: =SUM(U68*V68) -> 0 | X68: 0 | Y68: =SUM(U68*X68) -> 0 | Z68: =SUM(W68+Y68) -> 0 | AA68: 5 | AB68: =SUM(U68*AA68) -> 2170000 | AC68: =SUM(S68-AB68) -> 0 | AD68: Subbag Keuangan
B69: 1.3.2.05.01.04.002 | C69: 0007-0008 | E69: Almari Arsip | F69: =VLOOKUP(B69,[2]Sheet1!$H$4:$I$15682,2,FALSE) -> Lemari Kayu | G69: Lokal | H69: - | I69: Kayu/Kaca | J69: APBD | K69: 2009 | L69: - | M69: buah | N69: B | O69: 2 | P69: 4340000 | R69: 0 | S69: =SUM(P69-R69) -> 4340000 | T69: 5 | U69: =SUM(S69/T69) -> 868000 | V69: 0 | W69: =SUM(U69*V69) -> 0 | X69: 0 | Y69: =SUM(U69*X69) -> 0 | Z69: =SUM(W69+Y69) -> 0 | AA69: 5 | AB69: =SUM(U69*AA69) -> 4340000 | AC69: =SUM(S69-AB69) -> 0 | AD69: Bidang Pemdes / Kelurahan
B70: 1.3.2.05.01.04.002 | C70: 0009-00011 | E70: Almari Arsip | F70: =VLOOKUP(B70,[2]Sheet1!$H$4:$I$15682,2,FALSE) -> Lemari Kayu | G70: Lokal | H70: - | I70: Kayu/Kaca | J70: APBD | K70: 2009 | L70: - | M70: buah | N70: B | O70: 3 | P70: 6510000 | R70: 0 | S70: =SUM(P70-R70) -> 6510000 | T70: 5 | U70: =SUM(S70/T70) -> 1302000 | V70: 0 | W70: =SUM(U70*V70) -> 0 | X70: 0 | Y70: =SUM(U70*X70) -> 0 | Z70: =SUM(W70+Y70) -> 0 | AA70: 5 | AB70: =SUM(U70*AA70) -> 6510000 | AC70: =SUM(S70-AB70) -> 0 | AD70: Bidang Pemberdayaan Masyarakat Desa
B71: 1.3.2.05.01.04.002 | C71: 0012-0013 | E71: Almari Arsip | F71: =VLOOKUP(B71,[2]Sheet1!$H$4:$I$15682,2,FALSE) -> Lemari Kayu | G71: Lokal | H71: - | I71: Kayu/Kaca | J71: APBD | K71: 2009 | L71: - | M71: buah | N71: B | O71: 2 | P71: 4340000 | R71: 0 | S71: =SUM(P71-R71) -> 4340000 | T71: 5 | U71: =SUM(S71/T71) -> 868000 | V71: 0 | W71: =SUM(U71*V71) -> 0 | X71: 0 | Y71: =SUM(U71*X71) -> 0 | Z71: =SUM(W71+Y71) -> 0 | AA71: 5 | AB71: =SUM(U71*AA71) -> 4340000 | AC71: =SUM(S71-AB71) -> 0 | AD71: Bidang Pengendalian Penduduk dan KB
B72: 1.3.2.05.01.04.002 | C72: 0014 | E72: Almari Arsip | F72: =VLOOKUP(B72,[2]Sheet1!$H$4:$I$15682,2,FALSE) -> Lemari Kayu | G72: Lokal | H72: - | I72: Kayu/Kaca | J72: APBD | K72: 2009 | L72: - | M72: buah | N72: B | O72: 1 | P72: 2170000 | R72: 0 | S72: =SUM(P72-R72) -> 2170000 | T72: 5 | U72: =SUM(S72/T72) -> 434000 | V72: 0 | W72: =SUM(U72*V72) -> 0 | X72: 0 | Y72: =SUM(U72*X72) -> 0 | Z72: =SUM(W72+Y72) -> 0 | AA72: 5 | AB72: =SUM(U72*AA72) -> 2170000 | AC72: =SUM(S72-AB72) -> 0 | AD72: Bidang Pemberdayaan Perempuan
B73: 1.3.2.05.01.04.002 | C73: 0001 | E73: Almari Arsip | F73: =VLOOKUP(B73,[2]Sheet1!$H$4:$I$15682,2,FALSE) -> Lemari Kayu | G73: Lokal | H73: - | I73: Kayu | J73: APBD | K73: 2013 | L73: - | M73: unit | N73: B | O73: 1 | P73: 3385000 | R73: 0 | S73: =SUM(P73-R73) -> 3385000 | T73: 5 | U73: =SUM(S73/T73) -> 677000 | V73: 0 | W73: 0 | X73: 0 | Y73: =SUM(U73*X73) -> 0 | Z73: 0 | AA73: 5 | AB73: =SUM(U73*AA73) -> 3385000 | AC73: =SUM(S73-AB73) -> 0 | AD73: Bidang Pengendalian Penduduk dan KB
B74: 1.3.2.05.01.04.002 | C74: 0002 | E74: Almari Arsip | F74: =VLOOKUP(B74,[2]Sheet1!$H$4:$I$15682,2,FALSE) -> Lemari Kayu | G74: Lokal | H74: - | I74: Kayu | J74: APBD | K74: 2013 | L74: - | M74: unit | N74: B | O74: 1 | P74: 3385000 | R74: 0 | S74: =SUM(P74-R74) -> 3385000 | T74: 5 | U74: =SUM(S74/T74) -> 677000 | V74: 0 | W74: 0 | X74: 0 | Y74: =SUM(U74*X74) -> 0 | Z74: 0 | AA74: 5 | AB74: 3385000 | AC74: =SUM(S74-AB74) -> 0 | AD74: Subbag Program
B75: 1.3.2.05.01.04.001 | C75: 0003 | E75: Lemari | F75: =VLOOKUP(B75,[2]Sheet1!$H$4:$I$15682,2,FALSE) -> Lemari Besi/Metal | G75: Frontline | H75: - | I75: Besi | J75: APBD | K75: 2019 | L75: - | M75: unit | N75: B | O75: 1 | P75: 4290000 | R75: 0 | S75: =SUM(P75-R75) -> 4290000 | T75: 5 | U75: =SUM(S75/T75) -> 858000 | V75: 0 | W75: 0 | X75: 0 | Y75: 0 | Z75: 0 | AA75: 5 | AB75: 4290000 | AC75: =SUM(S75-AB75) -> 0 | AD75: UPTD PPA
B76: 1.3.2.05.01.04.001 | C76: 0004 | E76: Lemari | F76: =VLOOKUP(B76,[2]Sheet1!$H$4:$I$15682,2,FALSE) -> Lemari Besi/Metal | G76: Frontline | H76: - | I76: Besi | J76: APBD | K76: 2019 | L76: - | M76: unit | N76: B | O76: 1 | P76: 4290000 | R76: 0 | S76: =SUM(P76-R76) -> 4290000 | T76: 5 | U76: =SUM(S76/T76) -> 858000 | V76: 0 | W76: 0 | X76: 0 | Y76: 0 | Z76: 0 | AA76: 5 | AB76: 4290000 | AC76: =SUM(S76-AB76) -> 0 | AD76: UPTD PPA
B77: 1.3.2.05.01.04.007 | C77: 0001 | E77: Brankas | F77: =VLOOKUP(B77,[2]Sheet1!$H$4:$I$15682,2,FALSE) -> Brankas | G77: Lokal | H77: - | I77: Besi | J77: APBD | K77: 2009 | L77: - | M77: buah | N77: B | O77: 1 | P77: 8000000 | R77: 0 | S77: =SUM(P77-R77) -> 8000000 | T77: 5 | U77: =SUM(S77/T77) -> 1600000 | V77: 0 | W77: =SUM(U77*V77) -> 0 | X77: 0 | Y77: =SUM(U77*X77) -> 0 | Z77: =SUM(W77+Y77) -> 0 | AA77: 5 | AB77: =SUM(U77*AA77) -> 8000000 | AC77: =SUM(S77-AB77) -> 0 | AD77: Subbag Keuangan
B78: 1.3.2.05.01.04.005 | C78: 0001-0002 | E78: Filling Cabinet | F78: =VLOOKUP(B78,[2]Sheet1!$H$4:$I$15682,2,FALSE) -> Filing Cabinet Besi | G78: Lion '4 Laci | H78: - | I78: Besi | J78: APBD | K78: 2009 | L78: - | M78: buah | N78: B | O78: 2 | P78: 5440000 | R78: 0 | S78: =SUM(P78-R78) -> 5440000 | T78: 5 | U78: =SUM(S78/T78) -> 1088000 | V78: 0 | W78: =SUM(U78*V78) -> 0 | X78: 0 | Y78: =SUM(U78*X78) -> 0 | Z78: =SUM(W78+Y78) -> 0 | AA78: 5 | AB78: =SUM(U78*AA78) -> 5440000 | AC78: =SUM(S78-AB78) -> 0 | AD78: Subbag Umum & Kepegawaian
B79: 1.3.2.05.01.04.005 | C79: 0003-0006 | E79: Filling Cabinet | F79: =VLOOKUP(B79,[2]Sheet1!$H$4:$I$15682,2,FALSE) -> Filing Cabinet Besi | G79: Lion '4 Laci | H79: - | I79: Besi | J79: APBD | K79: 2009 | L79: - | M79: buah | N79: B | O79: 4 | P79: 10880000 | R79: 0 | S79: =SUM(P79-R79) -> 10880000 | T79: 5 | U79: =SUM(S79/T79) -> 2176000 | V79: 0 | W79: =SUM(U79*V79) -> 0 | X79: 0 | Y79: =SUM(U79*X79) -> 0 | Z79: =SUM(W79+Y79) -> 0 | AA79: 5 | AB79: =SUM(U79*AA79) -> 10880000 | AC79: =SUM(S79-AB79) -> 0 | AD79: Subbag Keuangan
B80: 1.3.2.05.01.04.005 | C80: 0007 | E80: Filling Cabinet | F80: =VLOOKUP(B80,[2]Sheet1!$H$4:$I$15682,2,FALSE) -> Filing Cabinet Besi | G80: Lion '4 Laci | H80: - | I80: Besi | J80: APBD | K80: 2009 | L80: - | M80: buah | N80: B | O80: 1 | P80: 2720000 | R80: 0 | S80: =SUM(P80-R80) -> 2720000 | T80: 5 | U80: =SUM(S80/T80) -> 544000 | V80: 0 | W80: =SUM(U80*V80) -> 0 | X80: 0 | Y80: =SUM(U80*X80) -> 0 | Z80: =SUM(W80+Y80) -> 0 | AA80: 5 | AB80: =SUM(U80*AA80) -> 2720000 | AC80: =SUM(S80-AB80) -> 0 | AD80: Subbag Program
B81: 1.3.2.05.01.04.005 | C81: 0008-0009 | E81: Filling Cabinet | F81: =VLOOKUP(B81,[2]Sheet1!$H$4:$I$15682,2,FALSE) -> Filing Cabinet Besi | G81: Lion '4 Laci | H81: - | I81: Besi | J81: APBD | K81: 2009 | L81: - | M81: buah | N81: B | O81: 2 | P81: 5440000 | R81: 0 | S81: =SUM(P81-R81) -> 5440000 | T81: 5 | U81: =SUM(S81/T81) -> 1088000 | V81: 0 | W81: =SUM(U81*V81) -> 0 | X81: 0 | Y81: =SUM(U81*X81) -> 0 | Z81: =SUM(W81+Y81) -> 0 | AA81: 5 | AB81: =SUM(U81*AA81) -> 5440000 | AC81: =SUM(S81-AB81) -> 0 | AD81: Bidang Pemdes / Kelurahan
B82: 1.3.2.05.01.04.005 | C82: 0010-0011 | E82: Filling Cabinet | F82: =VLOOKUP(B82,[2]Sheet1!$H$4:$I$15682,2,FALSE) -> Filing Cabinet Besi | G82: Lion '4 Laci | H82: - | I82: Besi | J82: APBD | K82: 2009 | L82: - | M82: buah | N82: B | O82: 2 | P82: 5440000 | R82: 0 | S82: =SUM(P82-R82) -> 5440000 | T82: 5 | U82: =SUM(S82/T82) -> 1088000 | V82: 0 | W82: =SUM(U82*V82) -> 0 | X82: 0 | Y82: =SUM(U82*X82) -> 0 | Z82: =SUM(W82+Y82) -> 0 | AA82: 5 | AB82: =SUM(U82*AA82) -> 5440000 | AC82: =SUM(S82-AB82) -> 0 | AD82: Bidang Pemberdayaan Masyarakat Desa
B83: 1.3.2.05.01.04.005 | C83: 0012 | E83: Filling Cabinet | F83: =VLOOKUP(B83,[2]Sheet1!$H$4:$I$15682,2,FALSE) -> Filing Cabinet Besi | G83: Lion '4 Laci | H83: - | I83: Besi | J83: APBD | K83: 2009 | L83: - | M83: buah | N83: B | O83: 1 | P83: 2720000 | R83: 0 | S83: =SUM(P83-R83) -> 2720000 | T83: 5 | U83: =SUM(S83/T83) -> 544000 | V83: 0 | W83: =SUM(U83*V83) -> 0 | X83: 0 | Y83: =SUM(U83*X83) -> 0 | Z83: =SUM(W83+Y83) -> 0 | AA83: 5 | AB83: =SUM(U83*AA83) -> 2720000 | AC83: =SUM(S83-AB83) -> 0 | AD83: Kabid Pengendalian Penduduk dan KB
B84: 1.3.2.05.01.04.005 | C84: 0013 | E84: Filling Cabinet | F84: =VLOOKUP(B84,[2]Sheet1!$H$4:$I$15682,2,FALSE) -> Filing Cabinet Besi | G84: Lion '4 Laci | H84: - | I84: Besi | J84: APBD | K84: 2009 | L84: - | M84: buah | N84: B | O84: 1 | P84: 2720000 | R84: 0 | S84: =SUM(P84-R84) -> 2720000 | T84: 5 | U84: =SUM(S84/T84) -> 544000 | V84: 0 | W84: =SUM(U84*V84) -> 0 | X84: 0 | Y84: =SUM(U84*X84) -> 0 | Z84: =SUM(W84+Y84) -> 0 | AA84: 5 | AB84: =SUM(U84*AA84) -> 2720000 | AC84: =SUM(S84-AB84) -> 0 | AD84: Bidang Pengendalian Penduduk dan KB
B85: 1.3.2.05.01.04.005 | C85: 0014-0015 | E85: Filling Cabinet | F85: =VLOOKUP(B85,[2]Sheet1!$H$4:$I$15682,2,FALSE) -> Filing Cabinet Besi | G85: Lion '4 Laci | H85: - | I85: Besi | J85: APBD | K85: 2009 | L85: - | M85: buah | N85: B | O85: 2 | P85: 5440000 | R85: 0 | S85: =SUM(P85-R85) -> 5440000 | T85: 5 | U85: =SUM(S85/T85) -> 1088000 | V85: 0 | W85: =SUM(U85*V85) -> 0 | X85: 0 | Y85: =SUM(U85*X85) -> 0 | Z85: =SUM(W85+Y85) -> 0 | AA85: 5 | AB85: =SUM(U85*AA85) -> 5440000 | AC85: =SUM(S85-AB85) -> 0 | AD85: Bidang Pemberdayaan Perempuan
B86: 1.3.2.05.01.04.005 | C86: 0016-0020 | E86: Filling Cabinet | F86: =VLOOKUP(B86,[2]Sheet1!$H$4:$I$15682,2,FALSE) -> Filing Cabinet Besi | G86: Lion '4 Laci | H86: - | I86: Besi | J86: APBD | K86: 2009 | L86: - | M86: buah | N86: B | O86: 5 | P86: 13600000 | R86: 0 | S86: =SUM(P86-R86) -> 13600000 | T86: 5 | U86: =SUM(S86/T86) -> 2720000 | V86: 0 | W86: =SUM(U86*V86) -> 0 | X86: 0 | Y86: =SUM(U86*X86) -> 0 | Z86: =SUM(W86+Y86) -> 0 | AA86: 5 | AB86: =SUM(U86*AA86) -> 13600000 | AC86: =SUM(S86-AB86) -> 0 | AD86: Bidang Perlindungan Anak
B87: 1.3.2.05.01.04.005 | C87: 0021 | E87: Filling Cabinet | F87: =VLOOKUP(B87,[2]Sheet1!$H$4:$I$15682,2,FALSE) -> Filing Cabinet Besi | G87: TOP | H87: - | I87: Besi | J87: APBD | K87: 2019 | L87: - | M87: buah | N87: B | O87: 1 | P87: 2387000 | R87: 0 | S87: =SUM(P87-R87) -> 2387000 | T87: 5 | U87: =SUM(S87/T87) -> 477400 | V87: 0 | W87: 0 | X87: 0 | Y87: 0 | Z87: 0 | AA87: 5 | AB87: 2387000 | AC87: =SUM(S87-AB87) -> 0 | AD87: UPTD PPA
B88: 1.3.2.05.01.04.005 | C88: 0022 | E88: Filling Cabinet | F88: =VLOOKUP(B88,[2]Sheet1!$H$4:$I$15682,2,FALSE) -> Filing Cabinet Besi | G88: TOP | H88: - | I88: Besi | J88: APBD | K88: 2019 | L88: - | M88: buah | N88: B | O88: 1 | P88: 2387000 | R88: 0 | S88: =SUM(P88-R88) -> 2387000 | T88: 5 | U88: =SUM(S88/T88) -> 477400 | V88: 0 | W88: 0 | X88: 0 | Y88: 0 | Z88: 0 | AA88: 5 | AB88: 2387000 | AC88: =SUM(S88-AB88) -> 0 | AD88: UPTD PPA
B89: 1.3.2.05.01.04.029 | C89: 0001-0002 | E89: Lemari Buku | F89: =VLOOKUP(B89,[2]Sheet1!$H$4:$I$15682,2,FALSE) -> Lemari Arsip | G89: Lokal | H89: - | I89: Kayu/Kaca | J89: APBD | K89: 2011 | L89: - | M89: unit | N89: B | O89: 2 | P89: 8400000 | R89: 0 | S89: =SUM(P89-R89) -> 8400000 | T89: 5 | AA89: 5 | AB89: 8400000 | AC89: =SUM(S89-AB89) -> 0 | AD89: Rumah Aman
B90: 1.3.2.05.01.04.002 | C90: 0001-0002 | E90: Lemari Pakaian | F90: =VLOOKUP(B90,[2]Sheet1!$H$4:$I$15682,2,FALSE) -> Lemari Kayu | G90: Lokal | H90: - | I90: Kayu | J90: APBD | K90: 2011 | L90: - | M90: unit | N90: B | O90: 2 | P90: 7000000 | R90: 0 | S90: =SUM(P90-R90) -> 7000000 | T90: 5 | AA90: 5 | AB90: 7000000 | AC90: =SUM(S90-AB90) -> 0 | AD90: Rumah Aman
B91: 1.3.2.05.01.04.005 | C91: 0021-0022 | E91: Filling Cabinet | F91: =VLOOKUP(B91,[2]Sheet1!$H$4:$I$15682,2,FALSE) -> Filing Cabinet Besi | G91: Lion | H91: - | I91: Besi | J91: APBD | K91: 2011 | L91: - | M91: unit | N91: B | O91: 2 | P91: 4800000 | R91: 0 | S91: =SUM(P91-R91) -> 4800000 | T91: 5 | AA91: 5 | AB91: 4800000 | AC91: =SUM(S91-AB91) -> 0 | AD91: Rumah Aman
B93: 1.3.2.05.01.05 | C93: ALAT KANTOR LAINNYA | O93: =SUM(O94:O100) -> 8 | P93: =SUM(P94:P100) -> 85130000 | S93: =SUM(S94:S100) -> 85130000 | U93: =SUM(U94:U100) -> 6026000 | W93: =SUM(W94:W100) -> 0 | Y93: =SUM(Y94:Y100) -> 0 | Z93: =SUM(Z94:Z100) -> 0 | AB93: =SUM(AB94:AB100) -> 85130000 | AC93: =SUM(AC94:AC100) -> 0
B94: 1.3.2.05.01.05.012 | C94: 0001 | E94: Mesin Absensi | F94: =VLOOKUP(B94,[2]Sheet1!$H$4:$I$15682,2,FALSE) -> Mesin Absensi | G94: Premium Series | H94: - | I94: Besi | J94: APBD | K94: 2010 | L94: - | M94: buah | N94: KB | O94: 1 | P94: 20000000 | R94: 0 | S94: =SUM(P94-R94) -> 20000000 | T94: 5 | AA94: 5 | AB94: 20000000 | AC94: =SUM(S94-AB94) -> 0 | AD94: Subbag Umum & Kepegawaian
B95: 1.3.2.05.01.05.077 | C95: 0001 | E95: Papan Data | F95: =VLOOKUP(B95,[2]Sheet1!$H$4:$I$15682,2,FALSE) -> Papan Pengumuman | G95: Lokal | H95: - | I95: Mika | J95: APBD | K95: 2010 | L95: - | M95: unit | N95: B | O95: 1 | P95: 5000000 | R95: 0 | S95: =SUM(P95-R95) -> 5000000 | T95: 5 | AA95: 5 | AB95: 5000000 | AC95: =SUM(S95-AB95) -> 0 | AD95: Ajudan (ADC)
B96: 1.3.2.05.01.05.043 | C96: 0001-0002 | E96: Infocus | F96: =VLOOKUP(B96,[2]Sheet1!$H$4:$I$15682,2,FALSE) -> LCD Projector/Infocus | G96: Acer X 1261 1 | H96: - | I96: Besi | J96: APBD | K96: 2010 | L96: - | M96: unit | N96: B | O96: 2 | P96: 18900000 | R96: 0 | S96: =SUM(P96-R96) -> 18900000 | T96: 5 | U96: =SUM(S96/T96) -> 3780000 | V96: 0 | W96: =SUM(U96*V96) -> 0 | X96: 0 | Y96: =SUM(U96*X96) -> 0 | Z96: =SUM(W96+Y96) -> 0 | AA96: 5 | AB96: =SUM(U96*AA96) -> 18900000 | AC96: =SUM(S96-AB96) -> 0 | AD96: Penyimpan Barang
B97: 1.3.2.05.01.05.053 | C97: 0001-0002 | E97: Screen/Layar Infocus | F97: =VLOOKUP(B97,[2]Sheet1!$H$4:$I$15682,2,FALSE) -> Focusing Screen/Layar LCD Projector | G97: 84 " Tripod | H97: - | I97: Besi | J97: APBD | K97: 2010 | L97: - | M97: unit | N97: B | O97: 2 | P97: 3400000 | R97: 0 | S97: =SUM(P97-R97) -> 3400000 | T97: 5 | U97: =SUM(S97/T97) -> 680000 | V97: 0 | W97: =SUM(U97*V97) -> 0 | X97: 0 | Y97: =SUM(U97*X97) -> 0 | Z97: =SUM(W97+Y97) -> 0 | AA97: 5 | AB97: =SUM(U97*AA97) -> 3400000 | AC97: =SUM(S97-AB97) -> 0 | AD97: Penyimpan Barang
B98: 1.3.2.05.01.05.077 | C98: 0002 | E98: Papan Data | F98: =VLOOKUP(B98,[2]Sheet1!$H$4:$I$15682,2,FALSE) -> Papan Pengumuman | G98: Lokal | H98: - | I98: Mika | J98: APBD | K98: 2012 | L98: - | M98: unit | N98: B | O98: 1 | P98: 30000000 | R98: 0 | S98: =SUM(P98-R98) -> 30000000 | T98: 5 | AA98: 5 | AB98: 30000000 | AC98: =SUM(S98-AB98) -> 0 | AD98: Sekretariat PKK
B99: 1.3.2.05.01.05.023 | C99: 0001 | E99: Proyektor | F99: =VLOOKUP(B99,[2]Sheet1!$H$4:$I$15682,2,FALSE) -> Overhead Projector | I99: Ebonik | J99: APBD | K99: 2015 | M99: unit | N99: B | O99: 1 | P99: 7830000 | R99: 0 | S99: =SUM(P99-R99) -> 7830000 | T99: 5 | U99: =SUM(S99/T99) -> 1566000 | AA99: 5 | AB99: 7830000 | AC99: =SUM(S99-AB99) -> 0 | AD99: Penyimpan Barang
B101: 1.3.2.05.02 | C101: ALAT RUMAH TANGGA | O101: =O102+O120+O122+O125+O145+O147+O172 -> 96 | P101: =P102+P120+P122+P125+P145+P147+P172 -> 431640300 | S101: =S102+S120+S122+S125+S145+S147+S172 -> 431640300 | U101: =U102+U120+U122+U125+U145+U147+U172 -> 73818060 | W101: =W102+W120+W122+W125+W145+W147+W172 -> 0 | Y101: =Y102+Y120+Y122+Y125+Y145+Y147+Y172 -> 0 | Z101: =Z102+Z120+Z122+Z125+Z145+Z147+Z172 -> 0 | AB101: =AB102+AB120+AB122+AB125+AB145+AB147+AB172 -> 431640300 | AC101: =AC102+AC120+AC122+AC125+AC145+AC147+AC172 -> 0 | AD101: =P101-AB101 -> 0
B102: 1.3.2.05.02.01 | C102: MEUBELAIR | O102: =SUM(O103:O119) -> 41 | P102: =SUM(P103:P119) -> 94358300 | S102: =SUM(S103:S119) -> 94358300 | U102: =SUM(U103:U119) -> 12961660 | W102: =SUM(W103:W119) -> 0 | Y102: =SUM(Y103:Y119) -> 0 | Z102: =SUM(Z103:Z119) -> 0 | AB102: =SUM(AB103:AB118) -> 94358300 | AC102: =SUM(AC103:AC119) -> 0 | AD102: =P102-AB102 -> 0
B103: 1.3.2.05.02.01.008 | C103: 0001 | E103: Meja Rapat Oval | F103: =VLOOKUP(B103,[2]Sheet1!$H$4:$I$15682,2,FALSE) -> Meja Rapat | G103: Lokal | H103: - | I103: Kayu | J103: APBD | K103: 2009 | L103: - | M103: buah | N103: B | O103: 1 | P103: 4950000 | R103: 0 | S103: =SUM(P103-R103) -> 4950000 | T103: 5 | U103: =SUM(S103/T103) -> 990000 | V103: 0 | W103: =SUM(U103*V103) -> 0 | X103: 0 | Y103: =SUM(U103*X103) -> 0 | Z103: =SUM(W103+Y103) -> 0 | AA103: 5 | AB103: =SUM(U103*AA103) -> 4950000 | AC103: =SUM(S103-AB103) -> 0 | AD103: Ruang Rapat Kepala Dinas
B104: 1.3.2.05.02.01.008 | C104: 0001-0003 | E104: Meja Rapat Panjang | F104: =VLOOKUP(B104,[2]Sheet1!$H$4:$I$15682,2,FALSE) -> Meja Rapat | G104: Lokal | H104: - | I104: Kayu | J104: APBD | K104: 2009 | L104: - | M104: buah | N104: B | O104: 3 | P104: 4950000 | R104: 0 | S104: =SUM(P104-R104) -> 4950000 | T104: 5 | U104: =SUM(S104/T104) -> 990000 | V104: 0 | W104: =SUM(U104*V104) -> 0 | X104: 0 | Y104: =SUM(U104*X104) -> 0 | Z104: =SUM(W104+Y104) -> 0 | AA104: 5 | AB104: =SUM(U104*AA104) -> 4950000 | AC104: =SUM(S104-AB104) -> 0 | AD104: Aula
B105: 1.3.2.05.02.01.008 | C105: 0001-0016 | E105: Meja Rapat | F105: =VLOOKUP(B105,[2]Sheet1!$H$4:$I$15682,2,FALSE) -> Meja Rapat | G105: Lokal | H105: - | I105: Kayu | J105: APBD | K105: 2012 | L105: - | M105: buah | N105: B | O105: 16 | P105: 25600000 | R105: 0 | S105: =SUM(P105-R105) -> 25600000 | T105: 5 | U105: =SUM(S105/T105) -> 5120000 | V105: 0 | W105: 0 | X105: 0 | Y105: =SUM(U105*X105) -> 0 | Z105: =SUM(W105+Y105) -> 0 | AA105: 5 | AB105: =SUM(U105*AA105) -> 25600000 | AC105: =SUM(S105-AB105) -> 0 | AD105: Aula
B106: 1.3.2.05.02.01.008 | C106: 0001 | E106: Meja Balkon | F106: =VLOOKUP(B106,[2]Sheet1!$H$4:$I$15682,2,FALSE) -> Meja Rapat | G106: Lokal | H106: - | I106: Kayu | J106: APBD | K106: 2012 | L106: - | M106: buah | N106: B | O106: 1 | P106: 5800000 | R106: 0 | S106: =SUM(P106-R106) -> 5800000 | T106: 5 | U106: =SUM(S106/T106) -> 1160000 | V106: 0 | W106: =SUM(U106*V106) -> 0 | X106: 0 | Y106: =SUM(U106*X106) -> 0 | Z106: =SUM(W106+Y106) -> 0 | AA106: 5 | AB106: =SUM(U106*AA106) -> 5800000 | AC106: =SUM(S106-AB106) -> 0 | AD106: Aula
B107: 1.3.2.05.02.01.002 | C107: 0001 | E107: Meja Sudut Ruang Laktasi | F107: =VLOOKUP(B107,[2]Sheet1!$H$4:$I$15682,2,FALSE) -> Meja Kerja Kayu | G107: Lokal | H107: - | I107: Kayu | J107: APBD | K107: 2019 | L107: - | M107: buah | N107: B | O107: 1 | P107: 1300000 | R107: 0 | S107: =SUM(P107-R107) -> 1300000 | T107: 5 | U107: =SUM(S107/T107) -> 260000 | V107: 0 | W107: 0 | X107: 0 | Y107: 0 | Z107: 0 | AA107: 5 | AB107: 1300000 | AC107: =SUM(S107-AB107) -> 0 | AD107: UPTD PPA
B108: 1.3.2.05.02.01.002 | C108: 0002 | E108: Meja Laktasi | F108: =VLOOKUP(B108,[2]Sheet1!$H$4:$I$15682,2,FALSE) -> Meja Kerja Kayu | G108: Lokal | H108: - | I108: Kayu | J108: APBD | K108: 2019 | L108: - | M108: buah | N108: B | O108: 1 | P108: 2000000 | R108: 0 | S108: =SUM(P108-R108) -> 2000000 | T108: 5 | U108: =SUM(S108/T108) -> 400000 | V108: 0 | W108: 0 | X108: 0 | Y108: 0 | Z108: 0 | AA108: 5 | AB108: 2000000 | AC108: =SUM(S108-AB108) -> 0 | AD108: UPTD PPA
B109: 1.3.2.05.02.01.002 | C109: 0003 | E109: Meja Laktasi | F109: =VLOOKUP(B109,[2]Sheet1!$H$4:$I$15682,2,FALSE) -> Meja Kerja Kayu | G109: Lokal | H109: - | I109: Kayu | J109: APBD | K109: 2019 | L109: - | M109: buah | N109: B | O109: 1 | P109: 2000000 | R109: 0 | S109: =SUM(P109-R109) -> 2000000 | T109: 5 | U109: =SUM(S109/T109) -> 400000 | V109: 0 | W109: 0 | X109: 0 | Y109: 0 | Z109: 0 | AA109: 5 | AB109: 2000000 | AC109: =SUM(S109-AB109) -> 0 | AD109: UPTD PPA
...

Sheet BI INTRA 2025_smt II
A1: BUKU INVENTARIS PENYUSUTAN
A2: PER 1 Januari s.d 30 Juni 2025
A4: SKPD | C4: : DINAS PEMBERDAYAAN PEREMPUAN, PERLINDUNGAN ANAK, DAN PENGENDALIAN PENDUDUK PROVINSI JAMBI | R4: Rumus Penyusutan = Nilai Perolehan - Nilai Residu / Masa manfaat
A5: KABUPATEN / KOTA | C5: : JAMBI
A6: PROVINSI | C6: : JAMBI | AB6: NO. KODE LOKASI : | AC6: 11.05.00.15.03
A7: TAHUN | C7: : 2025
A9: NOMOR | E9: SPESIFIKASI BARANG | I9: Bahan | J9: Asal / Cara Perolehan Barang | K9: Tahun Perolehan | L9: Ukuran Barang/ Konstruksi (P,S,D) | M9: Satuan | N9: Keadaan Barang (B/KB/RB) | O9: JUMLAH | Q9: Kolom untuk pengolahan Kapitalisasi atas adanya Rehab dll | R9: Nilai residu | S9: Nilai Perolehan setelah dikurangi nilai Residu | T9: Masa manfaat (tahun) | U9: Beban Penyusutan per tahun | V9: Beban Penyusutan Periode ini | AA9: Penyusutan tahun ke | AB9: Akumulasi Penyusutan | AC9: Nilai Buku | AD9: Lokasi Barang
A10: No. Urut | B10: Kode Barang | C10: Register | D10: Nama Barang Berdasarkan Kodefikasi | E10: Nama / Jenis Barang | F10: NAMA ASET 108 | G10: Merk/Type | H10: No. Sertifikat No. Pabrik No. Chasis No. Mesin, No. Polisi No. BPKB | O10: Barang | P10: Harga | V10: Semester I | X10: Semester II | Z10: Beban Tahun Ini
V11: Waktu | W11: Nilai | X11: Waktu | Y11: Nilai
A12: 1 | B12: 2 | C12: 3 | E12: 4 | G12: 5 | H12: 6 | I12: 7 | J12: 8 | K12: 9 | L12: 10 | M12: 11 | N12: 12 | O12: 13 | P12: 14 | Q12: 15 | R12: 16 | S12: 17 | T12: 18 | U12: 19 | V12: 20 | W12: 21 | X12: 22 | Y12: 23 | Z12: 24 | AA12: 25 | AB12: 26 | AC12: 27 | AD12: 28
A14: 01. | B14: TANAH | C14: - | E14: - | G14: - | H14: - | I14: - | J14: - | K14: - | L14: - | M14: - | N14: - | O14: - | P14: - | AD14: -
A16: 02. | B16: PERALATAN DAN MESIN | F16: =F14-F15 -> 0 | O16: =O17+O53+O200+O219+O224+O226+O228 -> 271 | P16: =P17+P53+P200+P219+P224+P226+P228 -> 3940215519 | S16: =S17+S53+S200+S219+S224+S226+S228 -> 3940215519 | U16: =U17+U53+U200+U219+U224+U226+U228 -> 3.7977253e+08 | W16: =W17+W53+W200+W219+W224+W226+W228 -> 29415714 | Y16: =Y17+Y53+Y200+Y219+Y224+Y226+Y228 -> 29285714 | Z16: =Z17+Z53+Z200+Z219+Z224+Z226+Z228 -> 58701429 | AB16: =AB17+AB53+AB200+AB219+AB228 -> 3.891406e+09 | AC16: =AC17+AC53+AC200+AC219+AC224+AC226+AC228 -> 48809524 | AE16: ='BI INTRA 2025'!AB16+'BI INTRA 2025_smt II'!Y16 -> 3.891406e+09 | AF16: =AB16-AE16 -> 0
B17: 1.3.2.02 | C17: a. Alat - Alat Besar | O17: =O19 -> 23 | P17: =P19 -> 2518491500 | S17: =S19 -> 2518491500 | U17: =U19 -> 1.7690593e+08 | W17: =W19 -> 29285714 | Y17: =Y19 -> 29285714 | Z17: =Z19 -> 58571429 | AB17: =AB19 -> 2.469682e+09 | AC17: =AC19 -> 48809524 | AE17: ='BI INTRA 2025'!AB17+'BI INTRA 2025_smt II'!Y17 -> 2.469682e+09 | AF17: =AB17-AE17 -> 0
B18: - | C18: - | E18: - | G18: - | H18: - | I18: - | J18: - | K18: - | L18: - | M18: - | N18: - | O18: - | P18: - | AE18: ='BI INTRA 2025'!AB18+'BI INTRA 2025_smt II'!Y18 -> 0 | AF18: =AB18-AE18 -> 0
B19: 1.3.2.02 | C19: ALAT ANGKUTAN | O19: =O20 -> 23 | P19: =P20 -> 2518491500 | S19: =S20 -> 2518491500 | U19: =U20 -> 1.7690593e+08 | W19: =W20 -> 29285714 | Y19: =Y20 -> 29285714 | Z19: =Z20 -> 58571429 | AB19: =AB20 -> 2.469682e+09 | AC19: =AC20 -> 48809524 | AE19: ='BI INTRA 2025'!AB19+'BI INTRA 2025_smt II'!Y19 -> 2.469682e+09 | AF19: =AB19-AE19 -> 0
B20: 1.3.2.02.02 | C20: ALAT ANGKUTAN DARAT BERMOTOR | O20: =O21+O33+O36 -> 23 | P20: =P21+P33+P36 -> 2518491500 | S20: =S21+S33+S36 -> 2518491500 | U20: =U21+U33+U36 -> 1.7690593e+08 | W20: =W21+W33+W36 -> 29285714 | Y20: =Y21+Y33+Y36 -> 29285714 | Z20: =Z21+Z33+Z36 -> 58571429 | AB20: =AB21+AB33+AB36 -> 2.469682e+09 | AC20: =AC21+AC33+AC36 -> 48809524 | AE20: ='BI INTRA 2025'!AB20+'BI INTRA 2025_smt II'!Y20 -> 2.469682e+09 | AF20: =AB20-AE20 -> 0
B21: 1.3.2.02.01.01 | C21: KENDARAAN DINAS BERMOTOR PERORANGAN | O21: =SUM(O22:O32) -> 10 | P21: =SUM(P22:P32) -> 2069500000 | S21: =SUM(S22:S32) -> 2069500000 | U21: =SUM(U22:U32) -> 1.5628571e+08 | W21: =SUM(W22:W32) -> 29285714 | Y21: =SUM(Y22:Y32) -> 29285714 | Z21: =SUM(Z22:Z32) -> 58571429 | AB21: =SUM(AB22:AB32) -> 2.0206905e+09 | AC21: =SUM(AC22:AC32) -> 48809524 | AE21: ='BI INTRA 2025'!AB21+'BI INTRA 2025_smt II'!Y21 -> 2.0206905e+09 | AF21: =AB21-AE21 -> 0
B22: 1.3.2.02.01.01.004 | C22: 0002 | E22: Mini Bus | F22: =VLOOKUP(B22,[1]Sheet1!$H$4:$I$15682,2,FALSE) -> Multi Purpose Vehicle (MPV) | G22: Kijang Inova | H22: MHFXW42G2A2161605, 1TR-6931093, BH 1949 Z, H-02365306 F | I22: Besi | J22: APBD | K22: 2010 | L22: - | M22: unit | N22: B | O22: 1 | P22: 218800000 | R22: 0 | S22: =SUM(P22-R22) -> 218800000 | T22: 7 | AA22: 7 | AB22: 218800000 | AC22: =SUM(S22-AB22) -> 0 | AD22: Amirzan, S. E | AE22: ='BI INTRA 2025'!AB22+'BI INTRA 2025_smt II'!Y22 -> 218800000 | AF22: =AB22-AE22 -> 0
B23: 1.3.2.02.01.01.004 | C23: 0003 | E23: Mini Bus | F23: =VLOOKUP(B23,[1]Sheet1!$H$4:$I$15682,2,FALSE) -> Multi Purpose Vehicle (MPV) | G23: Toyota Avanza | H23: MHFM1BA3JAK233888, DF 62852, BH 1916 Z, H-02365307 F | I23: Besi | J23: APBD | K23: 2010 | L23: - | M23: unit | N23: B | O23: 1 | P23: 147100000 | R23: 0 | S23: =SUM(P23-R23) -> 147100000 | T23: 7 | AA23: 7 | AB23: 147100000 | AC23: =SUM(S23-AB23) -> 0 | AD23: Basri, S. Th. I, M. M | AE23: ='BI INTRA 2025'!AB23+'BI INTRA 2025_smt II'!Y23 -> 147100000 | AF23: =AB23-AE23 -> 0
B24: 1.3.2.02.01.01.004 | C24: 0004 | E24: Mini Bus | F24: =VLOOKUP(B24,[1]Sheet1!$H$4:$I$15682,2,FALSE) -> Multi Purpose Vehicle (MPV) | G24: Micro Bus 110 ST PS | H24: MHFC1JUX1A5000720, W04DT-PJ11979, BH 7102 HZ, H-01644121 F | I24: Besi | J24: APBD | K24: 2010 | L24: - | M24: unit | N24: B | O24: 1 | P24: 310000000 | R24: 0 | S24: =SUM(P24-R24) -> 310000000 | T24: 7 | AA24: 7 | AB24: 310000000 | AC24: =SUM(S24-AB24) -> 0 | AD24: Pool | AE24: ='BI INTRA 2025'!AB24+'BI INTRA 2025_smt II'!Y24 -> 310000000 | AF24: =AB24-AE24 -> 0
B25: 1.3.2.02.01.01.004 | C25: 0005 | E25: Mini Bus | F25: =VLOOKUP(B25,[1]Sheet1!$H$4:$I$15682,2,FALSE) -> Multi Purpose Vehicle (MPV) | G25: Toyota Avanza | H25: MHFM1BA3JBK322328, DH58588, BH 1369 Z, H-11430265 F | I25: Besi | J25: APBD | K25: 2011 | L25: - | M25: unit | N25: B | O25: 1 | P25: 150600000 | R25: 0 | S25: =SUM(P25-R25) -> 150600000 | T25: 7 | AA25: 7 | AB25: 150600000 | AC25: =SUM(S25-AB25) -> 0 | AD25: Nene Triana, S. STP, M. T | AE25: ='BI INTRA 2025'!AB25+'BI INTRA 2025_smt II'!Y25 -> 150600000 | AF25: =AB25-AE25 -> 0
B26: 1.3.2.02.01.01.004 | C26: 0006 | E26: Mini Bus | F26: =VLOOKUP(B26,[1]Sheet1!$H$4:$I$15682,2,FALSE) -> Multi Purpose Vehicle (MPV) | G26: Toyota Avanza New G M/T | H26: MHKM1BA3JCK062489, DL08917, BH 1969 AZ, I-10999848 F | I26: Besi | J26: APBD | K26: 2012 | L26: - | M26: unit | N26: B | O26: 1 | P26: 149000000 | R26: 0 | S26: =SUM(P26-R26) -> 149000000 | T26: 7 | AA26: 7 | AB26: 149000000 | AC26: =SUM(S26-AB26) -> 0 | AD26: Drs. Achyar | AE26: ='BI INTRA 2025'!AB26+'BI INTRA 2025_smt II'!Y26 -> 149000000 | AF26: =AB26-AE26 -> 0
B27: 1.3.2.02.01.01.004 | C27: 0008 | E27: Mini Bus | F27: =VLOOKUP(B27,[1]Sheet1!$H$4:$I$15682,2,FALSE) -> Multi Purpose Vehicle (MPV) | G27: Toyota Rush 1500 G VVTI Manual | H27: MHFE2CJ2JDK034537, DDH5106, BH 1049 AZ, 100513.R00196, K-00103804 F | I27: Besi | J27: APBD | K27: 2013 | L27: - | M27: unit | N27: B | O27: 1 | P27: 186050000 | R27: 0 | S27: =SUM(P27-R27) -> 186050000 | T27: 7 | U27: =SUM(S27/T27) -> 26578571 | AA27: 7 | AB27: =SUM(U27*AA27) -> 186050000 | AC27: =SUM(S27-AB27) -> 0 | AD27: Hj. Zahnidar, S. Pd, M. M | AE27: ='BI INTRA 2025'!AB27+'BI INTRA 2025_smt II'!Y27 -> 186050000 | AF27: =AB27-AE27 -> 0
B28: 1.3.2.02.01.01.004 | C28: 0009 | E28: Mini Bus | F28: =VLOOKUP(B28,[1]Sheet1!$H$4:$I$15682,2,FALSE) -> Multi Purpose Vehicle (MPV) | G28: Toyota Rush 1500 G VVTI Manual | H28: MHFE2CJ2JDK034526, DDH5242, BH 1050 HZ, 100513.R00194, K-00103805 F | I28: Besi | J28: APBD | K28: 2013 | L28: - | M28: unit | N28: B | O28: 1 | P28: 186050000 | R28: 0 | S28: =SUM(P28-R28) -> 186050000 | T28: 7 | U28: =SUM(S28/T28) -> 26578571 | AA28: 7 | AB28: =SUM(U28*AA28) -> 186050000 | AC28: =SUM(S28-AB28) -> 0 | AD28: Chairun Nasichin, S. Sos, M. Si | AE28: ='BI INTRA 2025'!AB28+'BI INTRA 2025_smt II'!Y28 -> 186050000 | AF28: =AB28-AE28 -> 0
B29: 1.3.2.02.01.01.004 | C29: 0010 | E29: Mini Bus | F29: =VLOOKUP(B29,[1]Sheet1!$H$4:$I$15682,2,FALSE) -> Multi Purpose Vehicle (MPV) | G29: Phanter | H29: MHCTBR54BXC071458, E071458, BH 1240 AZ, A. No. 8115379 F | I29: Besi | J29: APBD | K29: 1999 | L29: - | M29: unit | N29: B | O29: 1 | P29: 80000000 | R29: 0 | S29: =SUM(P29-R29) -> 80000000 | T29: 7 | U29: =SUM(S29/T29) -> 11428571 | AA29: 7 | AB29: =SUM(U29*AA29) -> 80000000 | AC29: =SUM(S29-AB29) -> 0 | AD29: Pool | AE29: ='BI INTRA 2025'!AB29+'BI INTRA 2025_smt II'!Y29 -> 80000000 | AF29: =AB29-AE29 -> 0
B30: 1.3.2.02.01.01.004 | C30: 0011 | E30: Mini Bus | F30: =VLOOKUP(B30,[1]Sheet1!$H$4:$I$15682,2,FALSE) -> Multi Purpose Vehicle (MPV) | G30: Daihatsu Luxio | H30: MHKW3CA3JGK016302, 3SZDFZ0435, BH 1406 Z, L-0862978 F | I30: Besi | J30: Hibah dari Kemen PP dan PA RI | K30: 2017 | L30: - | M30: unit | N30: B | O30: 1 | P30: 231900000 | R30: 0 | S30: =SUM(P30-R30) -> 231900000 | T30: 7 | U30: =SUM(S30/T30) -> 33128571 | AA30: 7 | AB30: 231900000 | AC30: =SUM(S30-AB30) -> 0 | AD30: UPTD Perlindungan Perempuan dan Anak (UPTD PPA) | AE30: ='BI INTRA 2025'!AB30+'BI INTRA 2025_smt II'!Y30 -> 231900000 | AF30: =AB30-AE30 -> 0
B31: 1.3.2.02.01.01.004 | C31: 0012 | E31: Mini Bus | F31: =VLOOKUP(B31,[1]Sheet1!$H$4:$I$15682,2,FALSE) -> Multi Purpose Vehicle (MPV) | G31: Toyota Innova | H31: MHFAW8EM2K0213830,1TRA670110, BH 41, P06386906 F | I31: Besi | J31: APBD | K31: 2019 | L31: - | M31: unit | N31: B | O31: 1 | P31: 410000000 | R31: 0 | S31: =SUM(P31-R31) -> 410000000 | T31: 7 | U31: =SUM(S31/T31) -> 58571429 | V31: 0.5 | W31: =U31*V31 -> 29285714 | X31: =6/12 -> 0.5 | Y31: =U31*X31 -> 29285714 | Z31: =W31+Y31 -> 58571429 | AA31: =2025-K31+V31+X31-10/12 -> 6.1666667 | AB31: =U31*AA31 -> 3.6119048e+08 | AC31: =S31-AB31 -> 48809524 | AD31: Drs. R. Najmi | AE31: ='BI INTRA 2025'!AB31+'BI INTRA 2025_smt II'!Y31 -> 3.6119048e+08 | AF31: =AB31-AE31 -> 0 | AI31: (koreksi kurang susut)
AE32: ='BI INTRA 2025'!AB32+'BI INTRA 2025_smt II'!Y32 -> 0 | AF32: =AB32-AE32 -> 0
B33: 1.3.2.02.01.03 | C33: KENDARAAN BERMOTOR ANGKUTAN BARANG | O33: =O34 -> 1 | P33: =P34 -> 304650000 | S33: =S34 -> 304650000 | U33: =U34 -> 0 | W33: =W34 -> 0 | Y33: =Y34 -> 0 | Z33: =Z34 -> 0 | AB33: =AB34 -> 304650000 | AC33: =AC34 -> 0 | AE33: ='BI INTRA 2025'!AB33+'BI INTRA 2025_smt II'!Y33 -> 304650000 | AF33: =AB33-AE33 -> 0
B34: 1.3.2.02.01.03.002 | C34: 0007 | E34: Mini Bus | F34: =VLOOKUP(B34,[1]Sheet1!$H$4:$I$15682,2,FALSE) -> Pick Up | G34: HILUX DC 2.5 G | H34: MR0FR22G4C0613587, 2KD-S061952, BH 9685 AZ, K-00103631 F | I34: Besi | J34: APBD | K34: 2012 | L34: - | M34: unit | N34: B | O34: 1 | P34: 304650000 | R34: 0 | S34: =SUM(P34-R34) -> 304650000 | T34: 7 | AA34: 7 | AB34: 304650000 | AC34: =SUM(S34-AB34) -> 0 | AD34: Pool | AE34: ='BI INTRA 2025'!AB34+'BI INTRA 2025_smt II'!Y34 -> 304650000 | AF34: =AB34-AE34 -> 0
AE35: ='BI INTRA 2025'!AB35+'BI INTRA 2025_smt II'!Y35 -> 0 | AF35: =AB35-AE35 -> 0
B36: 1.3.2.02.01.04 | C36: KENDARAAN BERMOTOR BERODA DUA | O36: =SUM(O37:O48) -> 12 | P36: =SUM(P37:P48) -> 144341500 | S36: =SUM(S37:S48) -> 144341500 | U36: =SUM(U37:U48) -> 20620214 | W36: =SUM(W37:W48) -> 0 | Y36: =SUM(Y37:Y48) -> 0 | Z36: =SUM(Z37:Z48) -> 0 | AB36: =SUM(AB37:AB48) -> 144341500 | AC36: =SUM(AC37:AC48) -> 9.3132257e-10 | AE36: ='BI INTRA 2025'!AB36+'BI INTRA 2025_smt II'!Y36 -> 144341500 | AF36: =AB36-AE36 -> 0
B37: 1.3.2.02.01.04.001 | C37: 0001 | E37: Sepeda Motor | F37: =VLOOKUP(B37,[1]Sheet1!$H$4:$I$15682,2,FALSE) -> Sepeda Motor | G37: Honda Win | H37: MH3.3HB0005TK151, HAE20530338, BH 6718 AZ | I37: Besi | J37: APBD | K37: 1995 | L37: - | M37: unit | N37: B | O37: 1 | P37: 4800000 | R37: 0 | S37: =SUM(P37-R37) -> 4800000 | T37: 7 | U37: =SUM(S37/T37) -> 685714.29 | V37: 0 | W37: =SUM(U37*V37) -> 0 | X37: 0 | Y37: =SUM(U37*X37) -> 0 | Z37: =SUM(W37+Y37) -> 0 | AA37: 7 | AB37: =SUM(U37*AA37) -> 4800000 | AC37: =SUM(S37-AB37) -> 0 | AD37: DP3AP2 | AE37: ='BI INTRA 2025'!AB37+'BI INTRA 2025_smt II'!Y37 -> 4800000 | AF37: =AB37-AE37 -> 0
B38: 1.3.2.02.01.04.001 | C38: 0002 | E38: Sepeda Motor | F38: =VLOOKUP(B38,[1]Sheet1!$H$4:$I$15682,2,FALSE) -> Sepeda Motor | G38: Yamaha RX 115 | H38: HK117535332, 3HB140259, BH 4839 AZ | I38: Besi | J38: APBD | K38: 1995 | L38: - | M38: unit | N38: B | O38: 1 | P38: 9000000 | R38: 0 | S38: =SUM(P38-R38) -> 9000000 | T38: 7 | U38: =SUM(S38/T38) -> 1285714.3 | V38: 0 | W38: =SUM(U38*V38) -> 0 | X38: 0 | Y38: =SUM(U38*X38) -> 0 | Z38: =SUM(W38+Y38) -> 0 | AA38: 7 | AB38: =SUM(U38*AA38) -> 9000000 | AC38: =SUM(S38-AB38) -> 0 | AD38: Muflihan Chandra, S. H | AE38: ='BI INTRA 2025'!AB38+'BI INTRA 2025_smt II'!Y38 -> 9000000 | AF38: =AB38-AE38 -> 0
B39: 1.3.2.02.01.04.001 | C39: 0003 | E39: Sepeda Motor | F39: =VLOOKUP(B39,[1]Sheet1!$H$4:$I$15682,2,FALSE) -> Sepeda Motor | G39: Honda Star | H39: MH1GGHA17WK016607, GGHAE-1016478, BH 5720 AZ, A No. 8042328 F | I39: Besi | J39: APBD | K39: 1998 | L39: - | M39: unit | N39: B | O39: 1 | P39: 7400000 | R39: 0 | S39: =SUM(P39-R39) -> 7400000 | T39: 7 | U39: =SUM(S39/T39) -> 1057142.9 | V39: 0 | W39: =SUM(U39*V39) -> 0 | X39: 0 | Y39: =SUM(U39*X39) -> 0 | Z39: =SUM(W39+Y39) -> 0 | AA39: 7 | AB39: =SUM(U39*AA39) -> 7400000 | AC39: =SUM(S39-AB39) -> 9.3132257e-10 | AD39: UP | AE39: ='BI INTRA 2025'!AB39+'BI INTRA 2025_smt II'!Y39 -> 7400000 | AF39: =AB39-AE39 -> 0
B40: 1.3.2.02.01.04.001 | C40: 0004 | E40: Sepeda Motor | F40: =VLOOKUP(B40,[1]Sheet1!$H$4:$I$15682,2,FALSE) -> Sepeda Motor | G40: Honda Supra X 125 | H40: MH1JB41146K058990, JB41E-1058415, BH 2498 Z | I40: Besi | J40: APBD | K40: 2006 | L40: - | M40: unit | N40: B | O40: 1 | P40: 9000000 | R40: 0 | S40: =SUM(P40-R40) -> 9000000 | T40: 7 | U40: =SUM(S40/T40) -> 1285714.3 | V40: 0 | W40: =SUM(U40*V40) -> 0 | X40: 0 | Y40: =SUM(U40*X40) -> 0 | Z40: =SUM(W40+Y40) -> 0 | AA40: 7 | AB40: =SUM(U40*AA40) -> 9000000 | AC40: =SUM(S40-AB40) -> 0 | AD40: Hendri | AE40: ='BI INTRA 2025'!AB40+'BI INTRA 2025_smt II'!Y40 -> 9000000 | AF40: =AB40-AE40 -> 0
B41: 1.3.2.02.01.04.001 | C41: 0005 | E41: Sepeda Motor | F41: =VLOOKUP(B41,[1]Sheet1!$H$4:$I$15682,2,FALSE) -> Sepeda Motor | G41: Honda Supra 125 | H41: MH1JB51196K77335, JB51E-1770055, BH 4733 AZ, E No. 1991703 F | I41: Besi | J41: APBD | K41: 2007 | L41: - | M41: unit | N41: B | O41: 1 | P41: 4800000 | R41: 0 | S41: =SUM(P41-R41) -> 4800000 | T41: 7 | U41: =SUM(S41/T41) -> 685714.29 | V41: 0 | W41: =SUM(U41*V41) -> 0 | X41: 0 | Y41: =SUM(U41*X41) -> 0 | Z41: =SUM(W41+Y41) -> 0 | AA41: 7 | AB41: =SUM(U41*AA41) -> 4800000 | AC41: =SUM(S41-AB41) -> 0 | AD41: Pool | AE41: ='BI INTRA 2025'!AB41+'BI INTRA 2025_smt II'!Y41 -> 4800000 | AF41: =AB41-AE41 -> 0
B42: 1.3.2.02.01.04.001 | C42: 0010 | E42: Sepeda Motor | F42: =VLOOKUP(B42,[1]Sheet1!$H$4:$I$15682,2,FALSE) -> Sepeda Motor | G42: Honda New Supra X 125 CW | H42: MHIJB9128BK600088, JB91E-2590978, BH 2930 HZ, I-00593971 F | I42: Besi | J42: APBD | K42: 2011 | L42: - | M42: unit | N42: B | O42: 1 | P42: 14300000 | R42: 0 | S42: =SUM(P42-R42) -> 14300000 | T42: 7 | U42: =SUM(S42/T42) -> 2042857.1 | V42: =6/12 -> 0.5 | X42: 0 | Y42: =SUM(U42*X42) -> 0 | Z42: =SUM(W42+Y42) -> 0 | AA42: 7 | AB42: =SUM(U42*AA42) -> 14300000 | AC42: =SUM(S42-AB42) -> 0 | AD42: Eti Subiarti, S.E | AE42: ='BI INTRA 2025'!AB42+'BI INTRA 2025_smt II'!Y42 -> 14300000 | AF42: =AB42-AE42 -> 0
B43: 1.3.2.02.01.04.001 | C43: 0011 | E43: Sepeda Motor | F43: =VLOOKUP(B43,[1]Sheet1!$H$4:$I$15682,2,FALSE) -> Sepeda Motor | G43: Honda New Supra X 125 CW | H43: MH1JB9123BK600239, JB91E-2591195, BH 2927 HZ, I-00593970 F | I43: Besi | J43: APBD | K43: 2011 | L43: - | M43: unit | N43: B | O43: 1 | P43: 14300000 | R43: 0 | S43: =SUM(P43-R43) -> 14300000 | T43: 7 | U43: =SUM(S43/T43) -> 2042857.1 | V43: =6/12 -> 0.5 | X43: 0 | Y43: =SUM(U43*X43) -> 0 | Z43: =SUM(W43+Y43) -> 0 | AA43: 7 | AB43: =SUM(U43*AA43) -> 14300000 | AC43: =SUM(S43-AB43) -> 0 | AD43: Subbag Program | AE43: ='BI INTRA 2025'!AB43+'BI INTRA 2025_smt II'!Y43 -> 14300000 | AF43: =AB43-AE43 -> 0
B44: 1.3.2.02.01.04.001 | C44: 0012 | E44: Sepeda Motor | F44: =VLOOKUP(B44,[1]Sheet1!$H$4:$I$15682,2,FALSE) -> Sepeda Motor | G44: Honda New Supra X 125 CW | H44: MH1JB9129BK613738, JB91E-2604124, BH 2926 HZ, I-00593969 F | I44: Besi | J44: APBD | K44: 2011 | L44: - | M44: unit | N44: B | O44: 1 | P44: 14300000 | R44: 0 | S44: =SUM(P44-R44) -> 14300000 | T44: 7 | U44: =SUM(S44/T44) -> 2042857.1 | V44: =6/12 -> 0.5 | X44: 0 | Y44: =SUM(U44*X44) -> 0 | Z44: =SUM(W44+Y44) -> 0 | AA44: 7 | AB44: =SUM(U44*AA44) -> 14300000 | AC44: =SUM(S44-AB44) -> 0 | AD44: Ulil Fahmi, S. Th. I | AE44: ='BI INTRA 2025'!AB44+'BI INTRA 2025_smt II'!Y44 -> 14300000 | AF44: =AB44-AE44 -> 0
B45: 1.3.2.02.01.04.001 | C45: 0013 | E45: Sepeda Motor | F45: =VLOOKUP(B45,[1]Sheet1!$H$4:$I$15682,2,FALSE) -> Sepeda Motor | G45: Suzuki Axelo | H45: MH8BF45SADJ 176985, F496-1D 448065, BH 3771 HZ, K-03781638 F | I45: Besi | J45: APBD | K45: 2013 | L45: - | M45: unit | N45: B | O45: 1 | P45: 14914500 | R45: 0 | S45: =SUM(P45-R45) -> 14914500 | T45: 7 | U45: =SUM(S45/T45) -> 2130642.9 | V45: 0 | W45: 0 | X45: 0 | Y45: =SUM(U45*X45) -> 0 | Z45: =SUM(W45+Y45) -> 0 | AA45: 7 | AB45: =SUM(U45*AA45) -> 14914500 | AC45: =SUM(S45-AB45) -> 0 | AD45: Febyanto, S. Th. I | AE45: ='BI INTRA 2025'!AB45+'BI INTRA 2025_smt II'!Y45 -> 14914500 | AF45: =AB45-AE45 -> 0
B46: 1.3.2.02.01.04.001 | C46: 0014 | E46: Sepeda Motor | F46: =VLOOKUP(B46,[1]Sheet1!$H$4:$I$15682,2,FALSE) -> Sepeda Motor | G46: Suzuki Sky Drive Racing | H46: MH8CF48NADJ 252494, F4A9-ID 252513, BH 3770 HZ, K-03781644 F | I46: Besi | J46: APBD | K46: 2013 | L46: - | M46: unit | N46: B | O46: 1 | P46: 13685000 | R46: 0 | S46: =SUM(P46-R46) -> 13685000 | T46: 7 | U46: =SUM(S46/T46) -> 1955000 | V46: 0 | W46: 0 | X46: 0 | Y46: =SUM(U46*X46) -> 0 | Z46: =SUM(W46+Y46) -> 0 | AA46: 7 | AB46: =SUM(U46*AA46) -> 13685000 | AC46: =SUM(S46-AB46) -> 0 | AD46: Novi Muthia, S. STP, M. AP | AE46: ='BI INTRA 2025'!AB46+'BI INTRA 2025_smt II'!Y46 -> 13685000 | AF46: =AB46-AE46 -> 0
B47: 1.3.2.02.01.04.001 | C47: 0015 | E47: Sepeda Motor | F47: =VLOOKUP(B47,[1]Sheet1!$H$4:$I$15682,2,FALSE) -> Sepeda Motor | G47: Honda | H47: MH1JFV111GK512916, JFV1E1520205, B 3129 PEQ | I47: Besi | J47: Hibah dari Kemen PP dan PA RI | K47: 2017 | L47: - | M47: unit | N47: B | O47: 1 | P47: 18921000 | R47: 0 | S47: =P47-R47 -> 18921000 | T47: 7 | U47: =SUM(S47/T47) -> 2703000 | V47: 0 | W47: 0 | X47: 0 | Y47: 0 | Z47: 0 | AA47: 7 | AB47: 18921000 | AC47: =SUM(S47-AB47) -> 0 | AD47: Petugas P2TP2A (Ferdia Prakarsa, S.H) | AE47: ='BI INTRA 2025'!AB47+'BI INTRA 2025_smt II'!Y47 -> 18921000 | AF47: =AB47-AE47 -> 0
B48: 1.3.2.02.01.04.001 | C48: 0016 | E48: Sepeda Motor | F48: =VLOOKUP(B48,[1]Sheet1!$H$4:$I$15682,2,FALSE) -> Sepeda Motor | G48: Honda | H48: MH1JFV116GK514340, JFV1E1520661, B 3040 PEQ, N-00445728 | I48: Besi | J48: Hibah dari Kemen PP dan PA RI | K48: 2017 | L48: - | M48: unit | N48: B | O48: 1 | P48: 18921000 | R48: 0 | S48: =P48-R48 -> 18921000 | T48: 7 | U48: =SUM(S48/T48) -> 2703000 | V48: 0 | W48: 0 | X48: 0 | Y48: 0 | Z48: 0 | AA48: 7 | AB48: 18921000 | AC48: =SUM(S48-AB48) -> 0 | AD48: Petugas P2TP2A (R. Ardiansyah, S. H) | AE48: ='BI INTRA 2025'!AB48+'BI INTRA 2025_smt II'!Y48 -> 18921000 | AF48: =AB48-AE48 -> 0
B49: c. Alat - Alat Bengkel dan Alat Ukur | AE49: ='BI INTRA 2025'!AB49+'BI INTRA 2025_smt II'!Y49 -> 0 | AF49: =AB49-AE49 -> 0
B50: - | C50: - | E50: - | G50: - | H50: - | I50: - | K50: - | L50: - | M50: - | N50: - | O50: - | P50: - | AD50: - | AE50: ='BI INTRA 2025'!AB50+'BI INTRA 2025_smt II'!Y50 -> 0 | AF50: =AB50-AE50 -> 0
B51: d. Alat - Alat Pertanian / Peternakan | AE51: ='BI INTRA 2025'!AB51+'BI INTRA 2025_smt II'!Y51 -> 0 | AF51: =AB51-AE51 -> 0
B52: - | C52: - | E52: - | G52: - | H52: - | I52: - | K52: - | L52: - | M52: - | N52: - | O52: - | AE52: ='BI INTRA 2025'!AB52+'BI INTRA 2025_smt II'!Y52 -> 0 | AF52: =AB52-AE52 -> 0
A53: 3 | B53: 1.3.2.05 | C53: ALAT KANTOR DAN RUMAH TANGGA | O53: =O54+O101+O175 -> 179 | P53: =P54+P101+P175 -> 786410300 | S53: =S54+S101+S175 -> 786410300 | U53: =U54+U101+U175 -> 115984860 | W53: =W54+W101+W175 -> 0 | Y53: =Y54+Y101+Y175 -> 0 | Z53: =Z54+Z101+Z175 -> 0 | AB53: =AB54+AB101+AB175 -> 786410300 | AC53: =AC54+AC101+AC175 -> 0 | AD53: =P53-AB53 -> 0 | AE53: ='BI INTRA 2025'!AB53+'BI INTRA 2025_smt II'!Y53 -> 786410300 | AF53: =AB53-AE53 -> 0
B54: 1.3.2.05.01 | C54: ALAT KANTOR | O54: =O55+O56+O57+O60+O93 -> 60 | P54: =P55+P56+P57+P60+P93 -> 294170000 | S54: =S55+S56+S57+S60+S93 -> 294170000 | U54: =U55+U56+U57+U60+U93 -> 30046800 | W54: =W55+W56+W57+W60+W93 -> 0 | Y54: =Y55+Y56+Y57+Y60+Y93 -> 0 | Z54: =Z55+Z56+Z57+Z60+Z93 -> 0 | AB54: =AB55+AB56+AB57+AB60+AB93 -> 294170000 | AC54: =AC55+AC56+AC57+AC60+AC93 -> 0 | AD54: =P54-AB54 -> 0 | AE54: ='BI INTRA 2025'!AB54+'BI INTRA 2025_smt II'!Y54 -> 294170000 | AF54: =AB54-AE54 -> 0
B55: 1.3.2.05.01.01 | C55: MESIN KETIK | AE55: ='BI INTRA 2025'!AB55+'BI INTRA 2025_smt II'!Y55 -> 0 | AF55: =AB55-AE55 -> 0
B56: 1.3.2.05.01.02 | C56: MESIN HITUNG/MESIN JUMLAH | AE56: ='BI INTRA 2025'!AB56+'BI INTRA 2025_smt II'!Y56 -> 0 | AF56: =AB56-AE56 -> 0
B57: 1.3.2.05.01.03 | C57: ALAT REPRODUKSI (PENGGANDAAN) | O57: =O58 -> 1 | P57: =P58 -> 68736000 | S57: =S58 -> 68736000 | U57: =U58 -> 0 | W57: =W58 -> 0 | Y57: =Y58 -> 0 | Z57: =Z58 -> 0 | AB57: =AB58 -> 68736000 | AC57: =AC58 -> 0 | AE57: ='BI INTRA 2025'!AB57+'BI INTRA 2025_smt II'!Y57 -> 68736000 | AF57: =AB57-AE57 -> 0
B58: 1.3.2.05.01.03.007 | C58: 0001 | E58: Mesin Foto Copy | F58: =VLOOKUP(B58,[1]Sheet1!$H$4:$I$15682,2,FALSE) -> Mesin Fotocopy Folio | G58: Canon | H58: - | I58: Besi | J58: APBD | K58: 2014 | L58: - | M58: buah | N58: B | O58: 1 | P58: 68736000 | R58: 0 | S58: =SUM(P58-R58) -> 68736000 | T58: 5 | AA58: 5 | AB58: 68736000 | AC58: =SUM(S58-AB58) -> 0 | AD58: Subbag Umum & Kepegawaian | AE58: ='BI INTRA 2025'!AB58+'BI INTRA 2025_smt II'!Y58 -> 68736000 | AF58: =AB58-AE58 -> 0
AE59: ='BI INTRA 2025'!AB59+'BI INTRA 2025_smt II'!Y59 -> 0 | AF59: =AB59-AE59 -> 0
B60: 1.3.2.05.01.04 | C60: ALAT PENYIMPAN PERLENGKAPAN KANTOR | O60: =SUM(O61:O92) -> 51 | P60: =SUM(P61:P92) -> 140304000 | S60: =SUM(S61:S92) -> 140304000 | U60: =SUM(U61:U92) -> 24020800 | W60: =SUM(W61:W92) -> 0 | Y60: =SUM(Y61:Y92) -> 0 | Z60: =SUM(Z61:Z92) -> 0 | AB60: =SUM(AB61:AB92) -> 140304000 | AC60: =SUM(AC61:AC92) -> 0 | AD60: =P60-AB60 -> 0 | AE60: ='BI INTRA 2025'!AB60+'BI INTRA 2025_smt II'!Y60 -> 140304000 | AF60: =AB60-AE60 -> 0
B61: 1.3.2.05.01.04.002 | C61: 0001 | E61: Almari Kaca | F61: =VLOOKUP(B61,[1]Sheet1!$H$4:$I$15682,2,FALSE) -> Lemari Kayu | G61: 3 Pintu | H61: - | I61: Kayu/Kaca | J61: APBD | K61: 2009 | L61: - | M61: buah | N61: B | O61: 1 | P61: 1800000 | R61: 0 | S61: =SUM(P61-R61) -> 1800000 | T61: 5 | U61: =SUM(S61/T61) -> 360000 | V61: 0 | W61: =SUM(U61*V61) -> 0 | X61: 0 | Y61: =SUM(U61*X61) -> 0 | Z61: =SUM(W61+Y61) -> 0 | AA61: 5 | AB61: =SUM(U61*AA61) -> 1800000 | AC61: =SUM(S61-AB61) -> 0 | AD61: Kabid Pemdes / Kelurahan | AE61: ='BI INTRA 2025'!AB61+'BI INTRA 2025_smt II'!Y61 -> 1800000 | AF61: =AB61-AE61 -> 0
B62: 1.3.2.05.01.04.002 | C62: 0002 | E62: Almari Kaca | F62: =VLOOKUP(B62,[1]Sheet1!$H$4:$I$15682,2,FALSE) -> Lemari Kayu | G62: 3 Pintu | H62: - | I62: Kayu/Kaca | J62: APBD | K62: 2009 | L62: - | M62: buah | N62: B | O62: 1 | P62: 1800000 | R62: 0 | S62: =SUM(P62-R62) -> 1800000 | T62: 5 | U62: =SUM(S62/T62) -> 360000 | V62: 0 | W62: =SUM(U62*V62) -> 0 | X62: 0 | Y62: =SUM(U62*X62) -> 0 | Z62: =SUM(W62+Y62) -> 0 | AA62: 5 | AB62: =SUM(U62*AA62) -> 1800000 | AC62: =SUM(S62-AB62) -> 0 | AD62: Kabid Pemberdayaan Masyarakat Desa | AE62: ='BI INTRA 2025'!AB62+'BI INTRA 2025_smt II'!Y62 -> 1800000 | AF62: =AB62-AE62 -> 0
B63: 1.3.2.05.01.04.002 | C63: 0003 | E63: Almari Kaca | F63: =VLOOKUP(B63,[1]Sheet1!$H$4:$I$15682,2,FALSE) -> Lemari Kayu | G63: 3 Pintu | H63: - | I63: Kayu/Kaca | J63: APBD | K63: 2009 | L63: - | M63: buah | N63: B | O63: 1 | P63: 1800000 | R63: 0 | S63: =SUM(P63-R63) -> 1800000 | T63: 5 | U63: =SUM(S63/T63) -> 360000 | V63: 0 | W63: =SUM(U63*V63) -> 0 | X63: 0 | Y63: =SUM(U63*X63) -> 0 | Z63: =SUM(W63+Y63) -> 0 | AA63: 5 | AB63: =SUM(U63*AA63) -> 1800000 | AC63: =SUM(S63-AB63) -> 0 | AD63: Kabid Pengendalian Penduduk dan KB | AE63: ='BI INTRA 2025'!AB63+'BI INTRA 2025_smt II'!Y63 -> 1800000 | AF63: =AB63-AE63 -> 0
B64: 1.3.2.05.01.04.002 | C64: 0004 | E64: Almari Kaca | F64: =VLOOKUP(B64,[1]Sheet1!$H$4:$I$15682,2,FALSE) -> Lemari Kayu | G64: 3 Pintu | H64: - | I64: Kayu/Kaca | J64: APBD | K64: 2009 | L64: - | M64: buah | N64: B | O64: 1 | P64: 1800000 | R64: 0 | S64: =SUM(P64-R64) -> 1800000 | T64: 5 | U64: =SUM(S64/T64) -> 360000 | V64: 0 | W64: =SUM(U64*V64) -> 0 | X64: 0 | Y64: =SUM(U64*X64) -> 0 | Z64: =SUM(W64+Y64) -> 0 | AA64: 5 | AB64: =SUM(U64*AA64) -> 1800000 | AC64: =SUM(S64-AB64) -> 0 | AD64: Kabid Perlindungan Anak | AE64: ='BI INTRA 2025'!AB64+'BI INTRA 2025_smt II'!Y64 -> 1800000 | AF64: =AB64-AE64 -> 0
B65: 1.3.2.05.01.04.002 | C65: 0001 | E65: Almari Arsip | F65: =VLOOKUP(B65,[1]Sheet1!$H$4:$I$15682,2,FALSE) -> Lemari Kayu | G65: Lokal | H65: - | I65: Kayu/Kaca | J65: APBD | K65: 2009 | L65: - | M65: buah | N65: B | O65: 1 | P65: 2170000 | R65: 0 | S65: =SUM(P65-R65) -> 2170000 | T65: 5 | U65: =SUM(S65/T65) -> 434000 | V65: 0 | W65: =SUM(U65*V65) -> 0 | X65: 0 | Y65: =SUM(U65*X65) -> 0 | Z65: =SUM(W65+Y65) -> 0 | AA65: 5 | AB65: =SUM(U65*AA65) -> 2170000 | AC65: =SUM(S65-AB65) -> 0 | AD65: Kepala Dinas | AE65: ='BI INTRA 2025'!AB65+'BI INTRA 2025_smt II'!Y65 -> 2170000 | AF65: =AB65-AE65 -> 0
B66: 1.3.2.05.01.04.002 | C66: 0002 | E66: Almari Arsip | F66: =VLOOKUP(B66,[1]Sheet1!$H$4:$I$15682,2,FALSE) -> Lemari Kayu | G66: Lokal | H66: - | I66: Kayu/Kaca | J66: APBD | K66: 2009 | L66: - | M66: buah | N66: B | O66: 1 | P66: 2170000 | R66: 0 | S66: =SUM(P66-R66) -> 2170000 | T66: 5 | U66: =SUM(S66/T66) -> 434000 | V66: 0 | W66: =SUM(U66*V66) -> 0 | X66: 0 | Y66: =SUM(U66*X66) -> 0 | Z66: =SUM(W66+Y66) -> 0 | AA66: 5 | AB66: =SUM(U66*AA66) -> 2170000 | AC66: =SUM(S66-AB66) -> 0 | AD66: Sekretaris Dinas | AE66: ='BI INTRA 2025'!AB66+'BI INTRA 2025_smt II'!Y66 -> 2170000 | AF66: =AB66-AE66 -> 0
B67: 1.3.2.05.01.04.002 | C67: 0003-0005 | E67: Almari Arsip | F67: =VLOOKUP(B67,[1]Sheet1!$H$4:$I$15682,2,FALSE) -> Lemari Kayu | G67: Lokal | H67: - | I67: Kayu/Kaca | J67: APBD | K67: 2009 | L67: - | M67: buah | N67: B | O67: 3 | P67: 6510000 | R67: 0 | S67: =SUM(P67-R67) -> 6510000 | T67: 5 | U67: =SUM(S67/T67) -> 1302000 | V67: 0 | W67: =SUM(U67*V67) -> 0 | X67: 0 | Y67: =SUM(U67*X67) -> 0 | Z67: =SUM(W67+Y67) -> 0 | AA67: 5 | AB67: =SUM(U67*AA67) -> 6510000 | AC67: =SUM(S67-AB67) -> 0 | AD67: Subbag Umum & Kepegawaian | AE67: ='BI INTRA 2025'!AB67+'BI INTRA 2025_smt II'!Y67 -> 6510000 | AF67: =AB67-AE67 -> 0
B68: 1.3.2.05.01.04.002 | C68: 0006 | E68: Almari Arsip | F68: =VLOOKUP(B68,[1]Sheet1!$H$4:$I$15682,2,FALSE) -> Lemari Kayu | G68: Lokal | H68: - | I68: Kayu/Kaca | J68: APBD | K68: 2009 | L68: - | M68: buah | N68: B | O68: 1 | P68: 2170000 | R68: 0 | S68: =SUM(P68-R68) -> 2170000 | T68: 5 | U68: =SUM(S68/T68) -> 434000 | V68: 0 | W68: =SUM(U68*V68) -> 0 | X68: 0 | Y68: =SUM(U68*X68) -> 0 | Z68: =SUM(W68+Y68) -> 0 | AA68: 5 | AB68: =SUM(U68*AA68) -> 2170000 | AC68: =SUM(S68-AB68) -> 0 | AD68: Subbag Keuangan | AE68: ='BI INTRA 2025'!AB68+'BI INTRA 2025_smt II'!Y68 -> 2170000 | AF68: =AB68-AE68 -> 0
B69: 1.3.2.05.01.04.002 | C69: 0007-0008 | E69: Almari Arsip | F69: =VLOOKUP(B69,[1]Sheet1!$H$4:$I$15682,2,FALSE) -> Lemari Kayu | G69: Lokal | H69: - | I69: Kayu/Kaca | J69: APBD | K69: 2009 | L69: - | M69: buah | N69: B | O69: 2 | P69: 4340000 | R69: 0 | S69: =SUM(P69-R69) -> 4340000 | T69: 5 | U69: =SUM(S69/T69) -> 868000 | V69: 0 | W69: =SUM(U69*V69) -> 0 | X69: 0 | Y69: =SUM(U69*X69) -> 0 | Z69: =SUM(W69+Y69) -> 0 | AA69: 5 | AB69: =SUM(U69*AA69) -> 4340000 | AC69: =SUM(S69-AB69) -> 0 | AD69: Bidang Pemdes / Kelurahan | AE69: ='BI INTRA 2025'!AB69+'BI INTRA 2025_smt II'!Y69 -> 4340000 | AF69: =AB69-AE69 -> 0
B70: 1.3.2.05.01.04.002 | C70: 0009-00011 | E70: Almari Arsip | F70: =VLOOKUP(B70,[1]Sheet1!$H$4:$I$15682,2,FALSE) -> Lemari Kayu | G70: Lokal | H70: - | I70: Kayu/Kaca | J70: APBD | K70: 2009 | L70: - | M70: buah | N70: B | O70: 3 | P70: 6510000 | R70: 0 | S70: =SUM(P70-R70) -> 6510000 | T70: 5 | U70: =SUM(S70/T70) -> 1302000 | V70: 0 | W70: =SUM(U70*V70) -> 0 | X70: 0 | Y70: =SUM(U70*X70) -> 0 | Z70: =SUM(W70+Y70) -> 0 | AA70: 5 | AB70: =SUM(U70*AA70) -> 6510000 | AC70: =SUM(S70-AB70) -> 0 | AD70: Bidang Pemberdayaan Masyarakat Desa | AE70: ='BI INTRA 2025'!AB70+'BI INTRA 2025_smt II'!Y70 -> 6510000 | AF70: =AB70-AE70 -> 0
B71: 1.3.2.05.01.04.002 | C71: 0012-0013 | E71: Almari Arsip | F71: =VLOOKUP(B71,[1]Sheet1!$H$4:$I$15682,2,FALSE) -> Lemari Kayu | G71: Lokal | H71: - | I71: Kayu/Kaca | J71: APBD | K71: 2009 | L71: - | M71: buah | N71: B | O71: 2 | P71: 4340000 | R71: 0 | S71: =SUM(P71-R71) -> 4340000 | T71: 5 | U71: =SUM(S71/T71) -> 868000 | V71: 0 | W71: =SUM(U71*V71) -> 0 | X71: 0 | Y71: =SUM(U71*X71) -> 0 | Z71: =SUM(W71+Y71) -> 0 | AA71: 5 | AB71: =SUM(U71*AA71) -> 4340000 | AC71: =SUM(S71-AB71) -> 0 | AD71: Bidang Pengendalian Penduduk dan KB | AE71: ='BI INTRA 2025'!AB71+'BI INTRA 2025_smt II'!Y71 -> 4340000 | AF71: =AB71-AE71 -> 0
B72: 1.3.2.05.01.04.002 | C72: 0014 | E72: Almari Arsip | F72: =VLOOKUP(B72,[1]Sheet1!$H$4:$I$15682,2,FALSE) -> Lemari Kayu | G72: Lokal | H72: - | I72: Kayu/Kaca | J72: APBD | K72: 2009 | L72: - | M72: buah | N72: B | O72: 1 | P72: 2170000 | R72: 0 | S72: =SUM(P72-R72) -> 2170000 | T72: 5 | U72: =SUM(S72/T72) -> 434000 | V72: 0 | W72: =SUM(U72*V72) -> 0 | X72: 0 | Y72: =SUM(U72*X72) -> 0 | Z72: =SUM(W72+Y72) -> 0 | AA72: 5 | AB72: =SUM(U72*AA72) -> 2170000 | AC72: =SUM(S72-AB72) -> 0 | AD72: Bidang Pemberdayaan Perempuan | AE72: ='BI INTRA 2025'!AB72+'BI INTRA 2025_smt II'!Y72 -> 2170000 | AF72: =AB72-AE72 -> 0
B73: 1.3.2.05.01.04.002 | C73: 0001 | E73: Almari Arsip | F73: =VLOOKUP(B73,[1]Sheet1!$H$4:$I$15682,2,FALSE) -> Lemari Kayu | G73: Lokal | H73: - | I73: Kayu | J73: APBD | K73: 2013 | L73: - | M73: unit | N73: B | O73: 1 | P73: 3385000 | R73: 0 | S73: =SUM(P73-R73) -> 3385000 | T73: 5 | U73: =SUM(S73/T73) -> 677000 | V73: 0 | W73: 0 | X73: 0 | Y73: =SUM(U73*X73) -> 0 | Z73: 0 | AA73: 5 | AB73: =SUM(U73*AA73) -> 3385000 | AC73: =SUM(S73-AB73) -> 0 | AD73: Bidang Pengendalian Penduduk dan KB | AE73: ='BI INTRA 2025'!AB73+'BI INTRA 2025_smt II'!Y73 -> 3385000 | AF73: =AB73-AE73 -> 0
B74: 1.3.2.05.01.04.002 | C74: 0002 | E74: Almari Arsip | F74: =VLOOKUP(B74,[1]Sheet1!$H$4:$I$15682,2,FALSE) -> Lemari Kayu | G74: Lokal | H74: - | I74: Kayu | J74: APBD | K74: 2013 | L74: - | M74: unit | N74: B | O74: 1 | P74: 3385000 | R74: 0 | S74: =SUM(P74-R74) -> 3385000 | T74: 5 | U74: =SUM(S74/T74) -> 677000 | V74: 0 | W74: 0 | X74: 0 | Y74: =SUM(U74*X74) -> 0 | Z74: 0 | AA74: 5 | AB74: 3385000 | AC74: =SUM(S74-AB74) -> 0 | AD74: Subbag Program | AE74: ='BI INTRA 2025'!AB74+'BI INTRA 2025_smt II'!Y74 -> 3385000 | AF74: =AB74-AE74 -> 0
B75: 1.3.2.05.01.04.001 | C75: 0003 | E75: Lemari | F75: =VLOOKUP(B75,[1]Sheet1!$H$4:$I$15682,2,FALSE) -> Lemari Besi/Metal | G75: Frontline | H75: - | I75: Besi | J75: APBD | K75: 2019 | L75: - | M75: unit | N75: B | O75: 1 | P75: 4290000 | R75: 0 | S75: =SUM(P75-R75) -> 4290000 | T75: 5 | U75: =SUM(S75/T75) -> 858000 | V75: 0 | W75: 0 | X75: 0 | Y75: 0 | Z75: 0 | AA75: 5 | AB75: 4290000 | AC75: =SUM(S75-AB75) -> 0 | AD75: UPTD PPA | AE75: ='BI INTRA 2025'!AB75+'BI INTRA 2025_smt II'!Y75 -> 4290000 | AF75: =AB75-AE75 -> 0
B76: 1.3.2.05.01.04.001 | C76: 0004 | E76: Lemari | F76: =VLOOKUP(B76,[1]Sheet1!$H$4:$I$15682,2,FALSE) -> Lemari Besi/Metal | G76: Frontline | H76: - | I76: Besi | J76: APBD | K76: 2019 | L76: - | M76: unit | N76: B | O76: 1 | P76: 4290000 | R76: 0 | S76: =SUM(P76-R76) -> 4290000 | T76: 5 | U76: =SUM(S76/T76) -> 858000 | V76: 0 | W76: 0 | X76: 0 | Y76: 0 | Z76: 0 | AA76: 5 | AB76: 4290000 | AC76: =SUM(S76-AB76) -> 0 | AD76: UPTD PPA | AE76: ='BI INTRA 2025'!AB76+'BI INTRA 2025_smt II'!Y76 -> 4290000 | AF76: =AB76-AE76 -> 0
B77: 1.3.2.05.01.04.007 | C77: 0001 | E77: Brankas | F77: =VLOOKUP(B77,[1]Sheet1!$H$4:$I$15682,2,FALSE) -> Brankas | G77: Lokal | H77: - | I77: Besi | J77: APBD | K77: 2009 | L77: - | M77: buah | N77: B | O77: 1 | P77: 8000000 | R77: 0 | S77: =SUM(P77-R77) -> 8000000 | T77: 5 | U77: =SUM(S77/T77) -> 1600000 | V77: 0 | W77: =SUM(U77*V77) -> 0 | X77: 0 | Y77: =SUM(U77*X77) -> 0 | Z77: =SUM(W77+Y77) -> 0 | AA77: 5 | AB77: =SUM(U77*AA77) -> 8000000 | AC77: =SUM(S77-AB77) -> 0 | AD77: Subbag Keuangan | AE77: ='BI INTRA 2025'!AB77+'BI INTRA 2025_smt II'!Y77 -> 8000000 | AF77: =AB77-AE77 -> 0
B78: 1.3.2.05.01.04.005 | C78: 0001-0002 | E78: Filling Cabinet | F78: =VLOOKUP(B78,[1]Sheet1!$H$4:$I$15682,2,FALSE) -> Filing Cabinet Besi | G78: Lion '4 Laci | H78: - | I78: Besi | J78: APBD | K78: 2009 | L78: - | M78: buah | N78: B | O78: 2 | P78: 5440000 | R78: 0 | S78: =SUM(P78-R78) -> 5440000 | T78: 5 | U78: =SUM(S78/T78) -> 1088000 | V78: 0 | W78: =SUM(U78*V78) -> 0 | X78: 0 | Y78: =SUM(U78*X78) -> 0 | Z78: =SUM(W78+Y78) -> 0 | AA78: 5 | AB78: =SUM(U78*AA78) -> 5440000 | AC78: =SUM(S78-AB78) -> 0 | AD78: Subbag Umum & Kepegawaian | AE78: ='BI INTRA 2025'!AB78+'BI INTRA 2025_smt II'!Y78 -> 5440000 | AF78: =AB78-AE78 -> 0
B79: 1.3.2.05.01.04.005 | C79: 0003-0006 | E79: Filling Cabinet | F79: =VLOOKUP(B79,[1]Sheet1!$H$4:$I$15682,2,FALSE) -> Filing Cabinet Besi | G79: Lion '4 Laci | H79: - | I79: Besi | J79: APBD | K79: 2009 | L79: - | M79: buah | N79: B | O79: 4 | P79: 10880000 | R79: 0 | S79: =SUM(P79-R79) -> 10880000 | T79: 5 | U79: =SUM(S79/T79) -> 2176000 | V79: 0 | W79: =SUM(U79*V79) -> 0 | X79: 0 | Y79: =SUM(U79*X79) -> 0 | Z79: =SUM(W79+Y79) -> 0 | AA79: 5 | AB79: =SUM(U79*AA79) -> 10880000 | AC79: =SUM(S79-AB79) -> 0 | AD79: Subbag Keuangan | AE79: ='BI INTRA 2025'!AB79+'BI INTRA 2025_smt II'!Y79 -> 10880000 | AF79: =AB79-AE79 -> 0
B80: 1.3.2.05.01.04.005 | C80: 0007 | E80: Filling Cabinet | F80: =VLOOKUP(B80,[1]Sheet1!$H$4:$I$15682,2,FALSE) -> Filing Cabinet Besi | G80: Lion '4 Laci | H80: - | I80: Besi | J80: APBD | K80: 2009 | L80: - | M80: buah | N80: B | O80: 1 | P80: 2720000 | R80: 0 | S80: =SUM(P80-R80) -> 2720000 | T80: 5 | U80: =SUM(S80/T80) -> 544000 | V80: 0 | W80: =SUM(U80*V80) -> 0 | X80: 0 | Y80: =SUM(U80*X80) -> 0 | Z80: =SUM(W80+Y80) -> 0 | AA80: 5 | AB80: =SUM(U80*AA80) -> 2720000 | AC80: =SUM(S80-AB80) -> 0 | AD80: Subbag Program | AE80: ='BI INTRA 2025'!AB80+'BI INTRA 2025_smt II'!Y80 -> 2720000 | AF80: =AB80-AE80 -> 0
B81: 1.3.2.05.01.04.005 | C81: 0008-0009 | E81: Filling Cabinet | F81: =VLOOKUP(B81,[1]Sheet1!$H$4:$I$15682,2,FALSE) -> Filing Cabinet Besi | G81: Lion '4 Laci | H81: - | I81: Besi | J81: APBD | K81: 2009 | L81: - | M81: buah | N81: B | O81: 2 | P81: 5440000 | R81: 0 | S81: =SUM(P81-R81) -> 5440000 | T81: 5 | U81: =SUM(S81/T81) -> 1088000 | V81: 0 | W81: =SUM(U81*V81) -> 0 | X81: 0 | Y81: =SUM(U81*X81) -> 0 | Z81: =SUM(W81+Y81) -> 0 | AA81: 5 | AB81: =SUM(U81*AA81) -> 5440000 | AC81: =SUM(S81-AB81) -> 0 | AD81: Bidang Pemdes / Kelurahan | AE81: ='BI INTRA 2025'!AB81+'BI INTRA 2025_smt II'!Y81 -> 5440000 | AF81: =AB81-AE81 -> 0
B82: 1.3.2.05.01.04.005 | C82: 0010-0011 | E82: Filling Cabinet | F82: =VLOOKUP(B82,[1]Sheet1!$H$4:$I$15682,2,FALSE) -> Filing Cabinet Besi | G82: Lion '4 Laci | H82: - | I82: Besi | J82: APBD | K82: 2009 | L82: - | M82: buah | N82: B | O82: 2 | P82: 5440000 | R82: 0 | S82: =SUM(P82-R82) -> 5440000 | T82: 5 | U82: =SUM(S82/T82) -> 1088000 | V82: 0 | W82: =SUM(U82*V82) -> 0 | X82: 0 | Y82: =SUM(U82*X82) -> 0 | Z82: =SUM(W82+Y82) -> 0 | AA82: 5 | AB82: =SUM(U82*AA82) -> 5440000 | AC82: =SUM(S82-AB82) -> 0 | AD82: Bidang Pemberdayaan Masyarakat Desa | AE82: ='BI INTRA 2025'!AB82+'BI INTRA 2025_smt II'!Y82 -> 5440000 | AF82: =AB82-AE82 -> 0
B83: 1.3.2.05.01.04.005 | C83: 0012 | E83: Filling Cabinet | F83: =VLOOKUP(B83,[1]Sheet1!$H$4:$I$15682,2,FALSE) -> Filing Cabinet Besi | G83: Lion '4 Laci | H83: - | I83: Besi | J83: APBD | K83: 2009 | L83: - | M83: buah | N83: B | O83: 1 | P83: 2720000 | R83: 0 | S83: =SUM(P83-R83) -> 2720000 | T83: 5 | U83: =SUM(S83/T83) -> 544000 | V83: 0 | W83: =SUM(U83*V83) -> 0 | X83: 0 | Y83: =SUM(U83*X83) -> 0 | Z83: =SUM(W83+Y83) -> 0 | AA83: 5 | AB83: =SUM(U83*AA83) -> 2720000 | AC83: =SUM(S83-AB83) -> 0 | AD83: Kabid Pengendalian Penduduk dan KB | AE83: ='BI INTRA 2025'!AB83+'BI INTRA 2025_smt II'!Y83 -> 2720000 | AF83: =AB83-AE83 -> 0
B84: 1.3.2.05.01.04.005 | C84: 0013 | E84: Filling Cabinet | F84: =VLOOKUP(B84,[1]Sheet1!$H$4:$I$15682,2,FALSE) -> Filing Cabinet Besi | G84: Lion '4 Laci | H84: - | I84: Besi | J84: APBD | K84: 2009 | L84: - | M84: buah | N84: B | O84: 1 | P84: 2720000 | R84: 0 | S84: =SUM(P84-R84) -> 2720000 | T84: 5 | U84: =SUM(S84/T84) -> 544000 | V84: 0 | W84: =SUM(U84*V84) -> 0 | X84: 0 | Y84: =SUM(U84*X84) -> 0 | Z84: =SUM(W84+Y84) -> 0 | AA84: 5 | AB84: =SUM(U84*AA84) -> 2720000 | AC84: =SUM(S84-AB84) -> 0 | AD84: Bidang Pengendalian Penduduk dan KB | AE84: ='BI INTRA 2025'!AB84+'BI INTRA 2025_smt II'!Y84 -> 2720000 | AF84: =AB84-AE84 -> 0
B85: 1.3.2.05.01.04.005 | C85: 0014-0015 | E85: Filling Cabinet | F85: =VLOOKUP(B85,[1]Sheet1!$H$4:$I$15682,2,FALSE) -> Filing Cabinet Besi | G85: Lion '4 Laci | H85: - | I85: Besi | J85: APBD | K85: 2009 | L85: - | M85: buah | N85: B | O85: 2 | P85: 5440000 | R85: 0 | S85: =SUM(P85-R85) -> 5440000 | T85: 5 | U85: =SUM(S85/T85) -> 1088000 | V85: 0 | W85: =SUM(U85*V85) -> 0 | X85: 0 | Y85: =SUM(U85*X85) -> 0 | Z85: =SUM(W85+Y85) -> 0 | AA85: 5 | AB85: =SUM(U85*AA85) -> 5440000 | AC85: =SUM(S85-AB85) -> 0 | AD85: Bidang Pemberdayaan Perempuan | AE85: ='BI INTRA 2025'!AB85+'BI INTRA 2025_smt II'!Y85 -> 5440000 | AF85: =AB85-AE85 -> 0
B86: 1.3.2.05.01.04.005 | C86: 0016-0020 | E86: Filling Cabinet | F86: =VLOOKUP(B86,[1]Sheet1!$H$4:$I$15682,2,FALSE) -> Filing Cabinet Besi | G86: Lion '4 Laci | H86: - | I86: Besi | J86: APBD | K86: 2009 | L86: - | M86: buah | N86: B | O86: 5 | P86: 13600000 | R86: 0 | S86: =SUM(P86-R86) -> 13600000 | T86: 5 | U86: =SUM(S86/T86) -> 2720000 | V86: 0 | W86: =SUM(U86*V86) -> 0 | X86: 0 | Y86: =SUM(U86*X86) -> 0 | Z86: =SUM(W86+Y86) -> 0 | AA86: 5 | AB86: =SUM(U86*AA86) -> 13600000 | AC86: =SUM(S86-AB86) -> 0 | AD86: Bidang Perlindungan Anak | AE86: ='BI INTRA 2025'!AB86+'BI INTRA 2025_smt II'!Y86 -> 13600000 | AF86: =AB86-AE86 -> 0
B87: 1.3.2.05.01.04.005 | C87: 0021 | E87: Filling Cabinet | F87: =VLOOKUP(B87,[1]Sheet1!$H$4:$I$15682,2,FALSE) -> Filing Cabinet Besi | G87: TOP | H87: - | I87: Besi | J87: APBD | K87: 2019 | L87: - | M87: buah | N87: B | O87: 1 | P87: 2387000 | R87: 0 | S87: =SUM(P87-R87) -> 2387000 | T87: 5 | U87: =SUM(S87/T87) -> 477400 | V87: 0 | W87: 0 | X87: 0 | Y87: 0 | Z87: 0 | AA87: 5 | AB87: 2387000 | AC87: =SUM(S87-AB87) -> 0 | AD87: UPTD PPA | AE87: ='BI INTRA 2025'!AB87+'BI INTRA 2025_smt II'!Y87 -> 2387000 | AF87: =AB87-AE87 -> 0
B88: 1.3.2.05.01.04.005 | C88: 0022 | E88: Filling Cabinet | F88: =VLOOKUP(B88,[1]Sheet1!$H$4:$I$15682,2,FALSE) -> Filing Cabinet Besi | G88: TOP | H88: - | I88: Besi | J88: APBD | K88: 2019 | L88: - | M88: buah | N88: B | O88: 1 | P88: 2387000 | R88: 0 | S88: =SUM(P88-R88) -> 2387000 | T88: 5 | U88: =SUM(S88/T88) -> 477400 | V88: 0 | W88: 0 | X88: 0 | Y88: 0 | Z88: 0 | AA88: 5 | AB88: 2387000 | AC88: =SUM(S88-AB88) -> 0 | AD88: UPTD PPA | AE88: ='BI INTRA 2025'!AB88+'BI INTRA 2025_smt II'!Y88 -> 2387000 | AF88: =AB88-AE88 -> 0
B89: 1.3.2.05.01.04.029 | C89: 0001-0002 | E89: Lemari Buku | F89: =VLOOKUP(B89,[1]Sheet1!$H$4:$I$15682,2,FALSE) -> Lemari Arsip | G89: Lokal | H89: - | I89: Kayu/Kaca | J89: APBD | K89: 2011 | L89: - | M89: unit | N89: B | O89: 2 | P89: 8400000 | R89: 0 | S89: =SUM(P89-R89) -> 8400000 | T89: 5 | AA89: 5 | AB89: 8400000 | AC89: =SUM(S89-AB89) -> 0 | AD89: Rumah Aman | AE89: ='BI INTRA 2025'!AB89+'BI INTRA 2025_smt II'!Y89 -> 8400000 | AF89: =AB89-AE89 -> 0
B90: 1.3.2.05.01.04.002 | C90: 0001-0002 | E90: Lemari Pakaian | F90: =VLOOKUP(B90,[1]Sheet1!$H$4:$I$15682,2,FALSE) -> Lemari Kayu | G90: Lokal | H90: - | I90: Kayu | J90: APBD | K90: 2011 | L90: - | M90: unit | N90: B | O90: 2 | P90: 7000000 | R90: 0 | S90: =SUM(P90-R90) -> 7000000 | T90: 5 | AA90: 5 | AB90: 7000000 | AC90: =SUM(S90-AB90) -> 0 | AD90: Rumah Aman | AE90: ='BI INTRA 2025'!AB90+'BI INTRA 2025_smt II'!Y90 -> 7000000 | AF90: =AB90-AE90 -> 0
B91: 1.3.2.05.01.04.005 | C91: 0021-0022 | E91: Filling Cabinet | F91: =VLOOKUP(B91,[1]Sheet1!$H$4:$I$15682,2,FALSE) -> Filing Cabinet Besi | G91: Lion | H91: - | I91: Besi | J91: APBD | K91: 2011 | L91: - | M91: unit | N91: B | O91: 2 | P91: 4800000 | R91: 0 | S91: =SUM(P91-R91) -> 4800000 | T91: 5 | AA91: 5 | AB91: 4800000 | AC91: =SUM(S91-AB91) -> 0 | AD91: Rumah Aman | AE91: ='BI INTRA 2025'!AB91+'BI INTRA 2025_smt II'!Y91 -> 4800000 | AF91: =AB91-AE91 -> 0
AE92: ='BI INTRA 2025'!AB92+'BI INTRA 2025_smt II'!Y92 -> 0 | AF92: =AB92-AE92 -> 0
B93: 1.3.2.05.01.05 | C93: ALAT KANTOR LAINNYA | O93: =SUM(O94:O100) -> 8 | P93: =SUM(P94:P100) -> 85130000 | S93: =SUM(S94:S100) -> 85130000 | U93: =SUM(U94:U100) -> 6026000 | W93: =SUM(W94:W100) -> 0 | Y93: =SUM(Y94:Y100) -> 0 | Z93: =SUM(Z94:Z100) -> 0 | AB93: =SUM(AB94:AB100) -> 85130000 | AC93: =SUM(AC94:AC100) -> 0 | AE93: ='BI INTRA 2025'!AB93+'BI INTRA 2025_smt II'!Y93 -> 85130000 | AF93: =AB93-AE93 -> 0
B94: 1.3.2.05.01.05.012 | C94: 0001 | E94: Mesin Absensi | F94: =VLOOKUP(B94,[1]Sheet1!$H$4:$I$15682,2,FALSE) -> Mesin Absensi | G94: Premium Series | H94: - | I94: Besi | J94: APBD | K94: 2010 | L94: - | M94: buah | N94: KB | O94: 1 | P94: 20000000 | R94: 0 | S94: =SUM(P94-R94) -> 20000000 | T94: 5 | AA94: 5 | AB94: 20000000 | AC94: =SUM(S94-AB94) -> 0 | AD94: Subbag Umum & Kepegawaian | AE94: ='BI INTRA 2025'!AB94+'BI INTRA 2025_smt II'!Y94 -> 20000000 | AF94: =AB94-AE94 -> 0
B95: 1.3.2.05.01.05.077 | C95: 0001 | E95: Papan Data | F95: =VLOOKUP(B95,[1]Sheet1!$H$4:$I$15682,2,FALSE) -> Papan Pengumuman | G95: Lokal | H95: - | I95: Mika | J95: APBD | K95: 2010 | L95: - | M95: unit | N95: B | O95: 1 | P95: 5000000 | R95: 0 | S95: =SUM(P95-R95) -> 5000000 | T95: 5 | AA95: 5 | AB95: 5000000 | AC95: =SUM(S95-AB95) -> 0 | AD95: Ajudan (ADC) | AE95: ='BI INTRA 2025'!AB95+'BI INTRA 2025_smt II'!Y95 -> 5000000 | AF95: =AB95-AE95 -> 0
B96: 1.3.2.05.01.05.043 | C96: 0001-0002 | E96: Infocus | F96: =VLOOKUP(B96,[1]Sheet1!$H$4:$I$15682,2,FALSE) -> LCD Projector/Infocus | G96: Acer X 1261 1 | H96: - | I96: Besi | J96: APBD | K96: 2010 | L96: - | M96: unit | N96: B | O96: 2 | P96: 18900000 | R96: 0 | S96: =SUM(P96-R96) -> 18900000 | T96: 5 | U96: =SUM(S96/T96) -> 3780000 | V96: 0 | W96: =SUM(U96*V96) -> 0 | X96: 0 | Y96: =SUM(U96*X96) -> 0 | Z96: =SUM(W96+Y96) -> 0 | AA96: 5 | AB96: =SUM(U96*AA96) -> 18900000 | AC96: =SUM(S96-AB96) -> 0 | AD96: Penyimpan Barang | AE96: ='BI INTRA 2025'!AB96+'BI INTRA 2025_smt II'!Y96 -> 18900000 | AF96: =AB96-AE96 -> 0
B97: 1.3.2.05.01.05.053 | C97: 0001-0002 | E97: Screen/Layar Infocus | F97: =VLOOKUP(B97,[1]Sheet1!$H$4:$I$15682,2,FALSE) -> Focusing Screen/Layar LCD Projector | G97: 84 " Tripod | H97: - | I97: Besi | J97: APBD | K97: 2010 | L97: - | M97: unit | N97: B | O97: 2 | P97: 3400000 | R97: 0 | S97: =SUM(P97-R97) -> 3400000 | T97: 5 | U97: =SUM(S97/T97) -> 680000 | V97: 0 | W97: =SUM(U97*V97) -> 0 | X97: 0 | Y97: =SUM(U97*X97) -> 0 | Z97: =SUM(W97+Y97) -> 0 | AA97: 5 | AB97: =SUM(U97*AA97) -> 3400000 | AC97: =SUM(S97-AB97) -> 0 | AD97: Penyimpan Barang | AE97: ='BI INTRA 2025'!AB97+'BI INTRA 2025_smt II'!Y97 -> 3400000 | AF97: =AB97-AE97 -> 0
B98: 1.3.2.05.01.05.077 | C98: 0002 | E98: Papan Data | F98: =VLOOKUP(B98,[1]Sheet1!$H$4:$I$15682,2,FALSE) -> Papan Pengumuman | G98: Lokal | H98: - | I98: Mika | J98: APBD | K98: 2012 | L98: - | M98: unit | N98: B | O98: 1 | P98: 30000000 | R98: 0 | S98: =SUM(P98-R98) -> 30000000 | T98: 5 | AA98: 5 | AB98: 30000000 | AC98: =SUM(S98-AB98) -> 0 | AD98: Sekretariat PKK | AE98: ='BI INTRA 2025'!AB98+'BI INTRA 2025_smt II'!Y98 -> 30000000 | AF98: =AB98-AE98 -> 0
B99: 1.3.2.05.01.05.023 | C99: 0001 | E99: Proyektor | F99: =VLOOKUP(B99,[1]Sheet1!$H$4:$I$15682,2,FALSE) -> Overhead Projector | I99: Ebonik | J99: APBD | K99: 2015 | M99: unit | N99: B | O99: 1 | P99: 7830000 | R99: 0 | S99: =SUM(P99-R99) -> 7830000 | T99: 5 | U99: =SUM(S99/T99) -> 1566000 | AA99: 5 | AB99: 7830000 | AC99: =SUM(S99-AB99) -> 0 | AD99: Penyimpan Barang | AE99: ='BI INTRA 2025'!AB99+'BI INTRA 2025_smt II'!Y99 -> 7830000 | AF99: =AB99-AE99 -> 0
AE100: ='BI INTRA 2025'!AB100+'BI INTRA 2025_smt II'!Y100 -> 0 | AF100: =AB100-AE100 -> 0
B101: 1.3.2.05.02 | C101: ALAT RUMAH TANGGA | O101: =O102+O120+O122+O125+O145+O147+O172 -> 96 | P101: =P102+P120+P122+P125+P145+P147+P172 -> 431640300 | S101: =S102+S120+S122+S125+S145+S147+S172 -> 431640300 | U101: =U102+U120+U122+U125+U145+U147+U172 -> 73818060 | W101: =W102+W120+W122+W125+W145+W147+W172 -> 0 | Y101: =Y102+Y120+Y122+Y125+Y145+Y147+Y172 -> 0 | Z101: =Z102+Z120+Z122+Z125+Z145+Z147+Z172 -> 0 | AB101: =AB102+AB120+AB122+AB125+AB145+AB147+AB172 -> 431640300 | AC101: =AC102+AC120+AC122+AC125+AC145+AC147+AC172 -> 0 | AD101: =P101-AB101 -> 0 | AE101: ='BI INTRA 2025'!AB101+'BI INTRA 2025_smt II'!Y101 -> 431640300 | AF101: =AB101-AE101 -> 0
B102: 1.3.2.05.02.01 | C102: MEUBELAIR | O102: =SUM(O103:O119) -> 41 | P102: =SUM(P103:P119) -> 94358300 | S102: =SUM(S103:S119) -> 94358300 | U102: =SUM(U103:U119) -> 12961660 | W102: =SUM(W103:W119) -> 0 | Y102: =SUM(Y103:Y119) -> 0 | Z102: =SUM(Z103:Z119) -> 0 | AB102: =SUM(AB103:AB118) -> 94358300 | AC102: =SUM(AC103:AC119) -> 0 | AD102: =P102-AB102 -> 0 | AE102: ='BI INTRA 2025'!AB102+'BI INTRA 2025_smt II'!Y102 -> 94358300 | AF102: =AB102-AE102 -> 0
B103: 1.3.2.05.02.01.008 | C103: 0001 | E103: Meja Rapat Oval | F103: =VLOOKUP(B103,[1]Sheet1!$H$4:$I$15682,2,FALSE) -> Meja Rapat | G103: Lokal | H103: - | I103: Kayu | J103: APBD | K103: 2009 | L103: - | M103: buah | N103: B | O103: 1 | P103: 4950000 | R103: 0 | S103: =SUM(P103-R103) -> 4950000 | T103: 5 | U103: =SUM(S103/T103) -> 990000 | V103: 0 | W103: =SUM(U103*V103) -> 0 | X103: 0 | Y103: =SUM(U103*X103) -> 0 | Z103: =SUM(W103+Y103) -> 0 | AA103: 5 | AB103: =SUM(U103*AA103) -> 4950000 | AC103: =SUM(S103-AB103) -> 0 | AD103: Ruang Rapat Kepala Dinas | AE103: ='BI INTRA 2025'!AB103+'BI INTRA 2025_smt II'!Y103 -> 4950000 | AF103: =AB103-AE103 -> 0
B104: 1.3.2.05.02.01.008 | C104: 0001-0003 | E104: Meja Rapat Panjang | F104: =VLOOKUP(B104,[1]Sheet1!$H$4:$I$15682,2,FALSE) -> Meja Rapat | G104: Lokal | H104: - | I104: Kayu | J104: APBD | K104: 2009 | L104: - | M104: buah | N104: B | O104: 3 | P104: 4950000 | R104: 0 | S104: =SUM(P104-R104) -> 4950000 | T104: 5 | U104: =SUM(S104/T104) -> 990000 | V104: 0 | W104: =SUM(U104*V104) -> 0 | X104: 0 | Y104: =SUM(U104*X104) -> 0 | Z104: =SUM(W104+Y104) -> 0 | AA104: 5 | AB104: =SUM(U104*AA104) -> 4950000 | AC104: =SUM(S104-AB104) -> 0 | AD104: Aula | AE104: ='BI INTRA 2025'!AB104+'BI INTRA 2025_smt II'!Y104 -> 4950000 | AF104: =AB104-AE104 -> 0
...

Sheet S2 2024 - A
A1: BUKU INVENTARIS PENYUSUTAN
A2: PER 1 Juli s.d 31 Desember 2024
A4: SKPD | C4: : DINAS PEMBERDAYAAN PEREMPUAN, PERLINDUNGAN ANAK, DAN PENGENDALIAN PENDUDUK PROVINSI JAMBI | R4: Rumus Penyusutan = Nilai Perolehan - Nilai Residu / Masa manfaat
A5: KABUPATEN / KOTA | C5: : JAMBI
A6: PROVINSI | C6: : JAMBI | AB6: NO. KODE LOKASI : | AC6: 11.05.00.15.03
A7: TAHUN | C7: : 2024
A9: NOMOR | E9: SPESIFIKASI BARANG | I9: Bahan | J9: Asal / Cara Perolehan Barang | K9: Tahun Perolehan | L9: Ukuran Barang/ Konstruksi (P,S,D) | M9: Satuan | N9: Keadaan Barang (B/KB/RB) | O9: JUMLAH | Q9: Kolom untuk pengolahan Kapitalisasi atas adanya Rehab dll | R9: Nilai residu | S9: Nilai Perolehan setelah dikurangi nilai Residu | T9: Masa manfaat (tahun) | U9: Beban Penyusutan per tahun | V9: Beban Penyusutan Periode ini | AA9: Penyusutan tahun ke | AB9: Akumulasi Penyusutan | AC9: Nilai Buku | AD9: Lokasi Barang
A10: No. Urut | B10: Kode Barang | C10: Register | D10: Nama Barang Berdasarkan Kodefikasi | E10: Nama / Jenis Barang | F10: NAMA ASET 108 | G10: Merk/Type | H10: No. Sertifikat No. Pabrik No. Chasis No. Mesin, No. Polisi No. BPKB | O10: Barang | P10: Harga | V10: Semester I | X10: Semester II | Z10: Beban Tahun Ini
V11: Waktu | W11: Nilai | X11: Waktu | Y11: Nilai
A12: 1 | B12: 2 | C12: 3 | E12: 4 | G12: 5 | H12: 6 | I12: 7 | J12: 8 | K12: 9 | L12: 10 | M12: 11 | N12: 12 | O12: 13 | P12: 14 | Q12: 15 | R12: 16 | S12: 17 | T12: 18 | U12: 19 | V12: 20 | W12: 21 | X12: 22 | Y12: 23 | Z12: 24 | AA12: 25 | AB12: 26 | AC12: 27 | AD12: 28
A14: 01. | B14: TANAH | C14: - | E14: - | G14: - | H14: - | I14: - | J14: - | K14: - | L14: - | M14: - | N14: - | O14: - | P14: - | AD14: -
A16: 02. | B16: PERALATAN DAN MESIN | O16: =O17+O53+O200+O219+O224+O226+O228 -> 271 | P16: =P17+P53+P200+P219+P224+P226+P228 -> 3940215519 | S16: =S17+S53+S200+S219+S224+S226+S228 -> 3940215519 | U16: =U17+U53+U200+U219+U224+U226+U228 -> 3.7977253e+08 | W16: =W17+W53+W200+W219+W224+W226+W228 -> 45776635 | Y16: =Y17+Y53+Y200+Y219+Y224+Y226+Y228 -> 27461379 | Z16: =Z17+Z53+Z200+Z219+Z224+Z226+Z228 -> 73238013 | AB16: =AB17+AB53+AB200+AB219+AB228 -> 3.8229427e+09 | AC16: =AC17+AC53+AC200+AC219+AC224+AC226+AC228 -> 1.1727286e+08 | AF16: ='[3]BI INTRA 2025'!Z16+'S2 2024 - A'!Y16 -> #REF! | AG16: =AB16-AF16 -> #REF!
B17: 1.3.2.02 | C17: a. Alat - Alat Besar | O17: =O19 -> 23 | P17: =P19 -> 2518491500 | S17: =S19 -> 2518491500 | U17: =U19 -> 1.7690593e+08 | W17: =W19 -> 37510143 | Y17: =Y19 -> 22226810 | Z17: =Z19 -> 59736952 | AB17: =AB19 -> 2.4013486e+09 | AC17: =AC19 -> 1.1714286e+08 | AF17: ='[3]BI INTRA 2025'!Z17+'S2 2024 - A'!Y17 -> #REF! | AG17: =AB17-AF17 -> #REF!
B18: - | C18: - | E18: - | G18: - | H18: - | I18: - | J18: - | K18: - | L18: - | M18: - | N18: - | O18: - | P18: - | AF18: ='[3]BI INTRA 2025'!Z18+'S2 2024 - A'!Y18 -> #REF! | AG18: =AB18-AF18 -> #REF!
B19: 1.3.2.02 | C19: ALAT ANGKUTAN | O19: =O20 -> 23 | P19: =P20 -> 2518491500 | S19: =S20 -> 2518491500 | U19: =U20 -> 1.7690593e+08 | W19: =W20 -> 37510143 | Y19: =Y20 -> 22226810 | Z19: =Z20 -> 59736952 | AB19: =AB20 -> 2.4013486e+09 | AC19: =AC20 -> 1.1714286e+08 | AF19: ='[3]BI INTRA 2025'!Z19+'S2 2024 - A'!Y19 -> #REF! | AG19: =AB19-AF19 -> #REF!
B20: 1.3.2.02.02 | C20: ALAT ANGKUTAN DARAT BERMOTOR | O20: =O21+O33+O36 -> 23 | P20: =P21+P33+P36 -> 2518491500 | S20: =S21+S33+S36 -> 2518491500 | U20: =U21+U33+U36 -> 1.7690593e+08 | W20: =W21+W33+W36 -> 37510143 | Y20: =Y21+Y33+Y36 -> 22226810 | Z20: =Z21+Z33+Z36 -> 59736952 | AB20: =AB21+AB33+AB36 -> 2.4013486e+09 | AC20: =AC21+AC33+AC36 -> 1.1714286e+08 | AF20: ='[3]BI INTRA 2025'!Z20+'S2 2024 - A'!Y20 -> #REF! | AG20: =AB20-AF20 -> #REF!
B21: 1.3.2.02.01.01 | C21: KENDARAAN DINAS BERMOTOR PERORANGAN | O21: =SUM(O22:O32) -> 10 | P21: =SUM(P22:P32) -> 2069500000 | S21: =SUM(S22:S32) -> 2069500000 | U21: =SUM(U22:U32) -> 1.5628571e+08 | W21: =SUM(W22:W32) -> 34807143 | Y21: =SUM(Y22:Y32) -> 19523810 | Z21: =SUM(Z22:Z32) -> 54330952 | AB21: =SUM(AB22:AB32) -> 1.9523571e+09 | AC21: =SUM(AC22:AC32) -> 1.1714286e+08 | AF21: ='[3]BI INTRA 2025'!Z21+'S2 2024 - A'!Y21 -> #REF! | AG21: =AB21-AF21 -> #REF!
B22: 1.3.2.02.01.01.004 | C22: 0002 | E22: Mini Bus | F22: =VLOOKUP(B22,[1]Sheet1!$H$4:$I$15682,2,FALSE) -> Multi Purpose Vehicle (MPV) | G22: Kijang Inova | H22: MHFXW42G2A2161605, 1TR-6931093, BH 1949 Z, H-02365306 F | I22: Besi | J22: APBD | K22: 2010 | L22: - | M22: unit | N22: B | O22: 1 | P22: 218800000 | R22: 0 | S22: =SUM(P22-R22) -> 218800000 | T22: 7 | AA22: 7 | AB22: 218800000 | AC22: =SUM(S22-AB22) -> 0 | AD22: Nurbaiti, S. Sos, M. Si | AF22: ='[3]BI INTRA 2025'!Z22+'S2 2024 - A'!Y22 -> #REF! | AG22: =AB22-AF22 -> #REF!
B23: 1.3.2.02.01.01.004 | C23: 0003 | E23: Mini Bus | F23: =VLOOKUP(B23,[1]Sheet1!$H$4:$I$15682,2,FALSE) -> Multi Purpose Vehicle (MPV) | G23: Toyota Avanza | H23: MHFM1BA3JAK233888, DF 62852, BH 1916 Z, H-02365307 F | I23: Besi | J23: APBD | K23: 2010 | L23: - | M23: unit | N23: B | O23: 1 | P23: 147100000 | R23: 0 | S23: =SUM(P23-R23) -> 147100000 | T23: 7 | AA23: 7 | AB23: 147100000 | AC23: =SUM(S23-AB23) -> 0 | AD23: Basri, S. Th. I, M. M | AF23: ='[3]BI INTRA 2025'!Z23+'S2 2024 - A'!Y23 -> #REF! | AG23: =AB23-AF23 -> #REF!
B24: 1.3.2.02.01.01.004 | C24: 0004 | E24: Mini Bus | F24: =VLOOKUP(B24,[1]Sheet1!$H$4:$I$15682,2,FALSE) -> Multi Purpose Vehicle (MPV) | G24: Micro Bus 110 ST PS | H24: MHFC1JUX1A5000720, W04DT-PJ11979, BH 7102 HZ, H-01644121 F | I24: Besi | J24: APBD | K24: 2010 | L24: - | M24: unit | N24: B | O24: 1 | P24: 310000000 | R24: 0 | S24: =SUM(P24-R24) -> 310000000 | T24: 7 | AA24: 7 | AB24: 310000000 | AC24: =SUM(S24-AB24) -> 0 | AD24: Pool | AF24: ='[3]BI INTRA 2025'!Z24+'S2 2024 - A'!Y24 -> #REF! | AG24: =AB24-AF24 -> #REF!
B25: 1.3.2.02.01.01.004 | C25: 0005 | E25: Mini Bus | F25: =VLOOKUP(B25,[1]Sheet1!$H$4:$I$15682,2,FALSE) -> Multi Purpose Vehicle (MPV) | G25: Toyota Avanza | H25: MHFM1BA3JBK322328, DH58588, BH 1369 Z, H-11430265 F | I25: Besi | J25: APBD | K25: 2011 | L25: - | M25: unit | N25: B | O25: 1 | P25: 150600000 | R25: 0 | S25: =SUM(P25-R25) -> 150600000 | T25: 7 | AA25: 7 | AB25: 150600000 | AC25: =SUM(S25-AB25) -> 0 | AD25: Mirzah Hasinah, S. E | AF25: ='[3]BI INTRA 2025'!Z25+'S2 2024 - A'!Y25 -> #REF! | AG25: =AB25-AF25 -> #REF!
B26: 1.3.2.02.01.01.004 | C26: 0006 | E26: Mini Bus | F26: =VLOOKUP(B26,[1]Sheet1!$H$4:$I$15682,2,FALSE) -> Multi Purpose Vehicle (MPV) | G26: Toyota Avanza New G M/T | H26: MHKM1BA3JCK062489, DL08917, BH 1969 AZ, I-10999848 F | I26: Besi | J26: APBD | K26: 2012 | L26: - | M26: unit | N26: B | O26: 1 | P26: 149000000 | R26: 0 | S26: =SUM(P26-R26) -> 149000000 | T26: 7 | AA26: 7 | AB26: 149000000 | AC26: =SUM(S26-AB26) -> 0 | AD26: Drs. Achyar | AF26: ='[3]BI INTRA 2025'!Z26+'S2 2024 - A'!Y26 -> #REF! | AG26: =AB26-AF26 -> #REF!
B27: 1.3.2.02.01.01.004 | C27: 0008 | E27: Mini Bus | F27: =VLOOKUP(B27,[1]Sheet1!$H$4:$I$15682,2,FALSE) -> Multi Purpose Vehicle (MPV) | G27: Toyota Rush 1500 G VVTI Manual | H27: MHFE2CJ2JDK034537, DDH5106, BH 1049 AZ, 100513.R00196, K-00103804 F | I27: Besi | J27: APBD | K27: 2013 | L27: - | M27: unit | N27: B | O27: 1 | P27: 186050000 | R27: 0 | S27: =SUM(P27-R27) -> 186050000 | T27: 7 | U27: =SUM(S27/T27) -> 26578571 | AA27: 7 | AB27: =SUM(U27*AA27) -> 186050000 | AC27: =SUM(S27-AB27) -> 0 | AD27: Hj. Zahnidar, S. Pd, M. M | AF27: ='[3]BI INTRA 2025'!Z27+'S2 2024 - A'!Y27 -> #REF! | AG27: =AB27-AF27 -> #REF!
B28: 1.3.2.02.01.01.004 | C28: 0009 | E28: Mini Bus | F28: =VLOOKUP(B28,[1]Sheet1!$H$4:$I$15682,2,FALSE) -> Multi Purpose Vehicle (MPV) | G28: Toyota Rush 1500 G VVTI Manual | H28: MHFE2CJ2JDK034526, DDH5242, BH 1050 HZ, 100513.R00194, K-00103805 F | I28: Besi | J28: APBD | K28: 2013 | L28: - | M28: unit | N28: B | O28: 1 | P28: 186050000 | R28: 0 | S28: =SUM(P28-R28) -> 186050000 | T28: 7 | U28: =SUM(S28/T28) -> 26578571 | AA28: 7 | AB28: =SUM(U28*AA28) -> 186050000 | AC28: =SUM(S28-AB28) -> 0 | AD28: Chairun Nasichin, S. Sos, M. Si | AF28: ='[3]BI INTRA 2025'!Z28+'S2 2024 - A'!Y28 -> #REF! | AG28: =AB28-AF28 -> #REF!
B29: 1.3.2.02.01.01.004 | C29: 0010 | E29: Mini Bus | F29: =VLOOKUP(B29,[1]Sheet1!$H$4:$I$15682,2,FALSE) -> Multi Purpose Vehicle (MPV) | G29: Phanter | H29: MHCTBR54BXC071458, E071458, BH 1240 AZ, A. No. 8115379 F | I29: Besi | J29: APBD | K29: 1999 | L29: - | M29: unit | N29: B | O29: 1 | P29: 80000000 | R29: 0 | S29: =SUM(P29-R29) -> 80000000 | T29: 7 | U29: =SUM(S29/T29) -> 11428571 | AA29: 7 | AB29: =SUM(U29*AA29) -> 80000000 | AC29: =SUM(S29-AB29) -> 0 | AD29: Pool | AF29: ='[3]BI INTRA 2025'!Z29+'S2 2024 - A'!Y29 -> #REF! | AG29: =AB29-AF29 -> #REF!
B30: 1.3.2.02.01.01.004 | C30: 0011 | E30: Mini Bus | F30: =VLOOKUP(B30,[1]Sheet1!$H$4:$I$15682,2,FALSE) -> Multi Purpose Vehicle (MPV) | G30: Daihatsu Luxio | H30: MHKW3CA3JGK016302, 3SZDFZ0435, BH 1406 Z, L-0862978 F | I30: Besi | J30: Hibah dari Kemen PP dan PA RI | K30: 2017 | L30: - | M30: unit | N30: B | O30: 1 | P30: 231900000 | R30: 0 | S30: =SUM(P30-R30) -> 231900000 | T30: 7 | U30: =SUM(S30/T30) -> 33128571 | V30: =2/12 -> 0.16666667 | W30: =U30*V30 -> 5521428.6 | Y30: =U30*X30 -> 0 | Z30: =W30+Y30 -> 5521428.6 | AA30: =2024-K30+V30+X30-2/12 -> 7 | AB30: =U30*AA30 -> 231900000 | AC30: =SUM(S30-AB30) -> 0 | AD30: UPTD Perlindungan Perempuan dan Anak (UPTD PPA) | AF30: ='[3]BI INTRA 2025'!Z30+'S2 2024 - A'!Y30 -> #REF! | AG30: =AB30-AF30 -> #REF!
B31: 1.3.2.02.01.01.004 | C31: 0012 | E31: Mini Bus | F31: =VLOOKUP(B31,[1]Sheet1!$H$4:$I$15682,2,FALSE) -> Multi Purpose Vehicle (MPV) | G31: Toyota Innova | H31: MHFAW8EM2K0213830,1TRA670110, BH 41, P06386906 F | I31: Besi | J31: APBD | K31: 2019 | L31: - | M31: unit | N31: B | O31: 1 | P31: 410000000 | R31: 0 | S31: =SUM(P31-R31) -> 410000000 | T31: 7 | U31: =SUM(S31/T31) -> 58571429 | V31: =6/12 -> 0.5 | W31: =U31*V31 -> 29285714 | X31: =4/12 -> 0.33333333 | Y31: =U31*X31 -> 19523810 | Z31: =W31+Y31 -> 48809524 | AA31: =2024-K31+V31+X31-10/12 -> 5 | AB31: =U31*AA31 -> 2.9285714e+08 | AC31: =S31-AB31 -> 1.1714286e+08 | AD31: Drs. R. Najmi | AF31: ='[3]BI INTRA 2025'!Z31+'S2 2024 - A'!Y31 -> #REF! | AG31: =AB31-AF31 -> #REF!
AF32: ='[3]BI INTRA 2025'!Z32+'S2 2024 - A'!Y32 -> #REF! | AG32: =AB32-AF32 -> #REF!
B33: 1.3.2.02.01.03 | C33: KENDARAAN BERMOTOR ANGKUTAN BARANG | O33: =O34 -> 1 | P33: =P34 -> 304650000 | S33: =S34 -> 304650000 | U33: =U34 -> 0 | W33: =W34 -> 0 | Y33: =Y34 -> 0 | Z33: =Z34 -> 0 | AB33: =AB34 -> 304650000 | AC33: =AC34 -> 0 | AF33: ='[3]BI INTRA 2025'!Z33+'S2 2024 - A'!Y33 -> #REF! | AG33: =AB33-AF33 -> #REF!
B34: 1.3.2.02.01.03.002 | C34: 0007 | E34: Mini Bus | F34: =VLOOKUP(B34,[1]Sheet1!$H$4:$I$15682,2,FALSE) -> Pick Up | G34: HILUX DC 2.5 G | H34: MR0FR22G4C0613587, 2KD-S061952, BH 9685 AZ, K-00103631 F | I34: Besi | J34: APBD | K34: 2012 | L34: - | M34: unit | N34: B | O34: 1 | P34: 304650000 | R34: 0 | S34: =SUM(P34-R34) -> 304650000 | T34: 7 | AA34: 7 | AB34: 304650000 | AC34: =SUM(S34-AB34) -> 0 | AD34: Pool | AF34: ='[3]BI INTRA 2025'!Z34+'S2 2024 - A'!Y34 -> #REF! | AG34: =AB34-AF34 -> #REF!
AF35: ='[3]BI INTRA 2025'!Z35+'S2 2024 - A'!Y35 -> #REF! | AG35: =AB35-AF35 -> #REF!
B36: 1.3.2.02.01.04 | C36: KENDARAAN BERMOTOR BERODA DUA | O36: =SUM(O37:O48) -> 12 | P36: =SUM(P37:P48) -> 144341500 | S36: =SUM(S37:S48) -> 144341500 | U36: =SUM(U37:U48) -> 20620214 | W36: =SUM(W37:W48) -> 2703000 | Y36: =SUM(Y37:Y48) -> 2703000 | Z36: =SUM(Z37:Z48) -> 5406000 | AB36: =SUM(AB37:AB48) -> 144341500 | AC36: =SUM(AC37:AC48) -> 9.3132257e-10 | AF36: ='[3]BI INTRA 2025'!Z36+'S2 2024 - A'!Y36 -> #REF! | AG36: =AB36-AF36 -> #REF!
B37: 1.3.2.02.01.04.001 | C37: 0001 | E37: Sepeda Motor | F37: =VLOOKUP(B37,[1]Sheet1!$H$4:$I$15682,2,FALSE) -> Sepeda Motor | G37: Honda Win | H37: MH3.3HB0005TK151, HAE20530338, BH 6718 AZ | I37: Besi | J37: APBD | K37: 1995 | L37: - | M37: unit | N37: B | O37: 1 | P37: 4800000 | R37: 0 | S37: =SUM(P37-R37) -> 4800000 | T37: 7 | U37: =SUM(S37/T37) -> 685714.29 | V37: 0 | W37: =SUM(U37*V37) -> 0 | X37: 0 | Y37: =SUM(U37*X37) -> 0 | Z37: =SUM(W37+Y37) -> 0 | AA37: 7 | AB37: =SUM(U37*AA37) -> 4800000 | AC37: =SUM(S37-AB37) -> 0 | AD37: DP3AP2 | AF37: ='[3]BI INTRA 2025'!Z37+'S2 2024 - A'!Y37 -> #REF! | AG37: =AB37-AF37 -> #REF!
B38: 1.3.2.02.01.04.001 | C38: 0002 | E38: Sepeda Motor | F38: =VLOOKUP(B38,[1]Sheet1!$H$4:$I$15682,2,FALSE) -> Sepeda Motor | G38: Yamaha RX 115 | H38: HK117535332, 3HB140259, BH 4839 AZ | I38: Besi | J38: APBD | K38: 1995 | L38: - | M38: unit | N38: B | O38: 1 | P38: 9000000 | R38: 0 | S38: =SUM(P38-R38) -> 9000000 | T38: 7 | U38: =SUM(S38/T38) -> 1285714.3 | V38: 0 | W38: =SUM(U38*V38) -> 0 | X38: 0 | Y38: =SUM(U38*X38) -> 0 | Z38: =SUM(W38+Y38) -> 0 | AA38: 7 | AB38: =SUM(U38*AA38) -> 9000000 | AC38: =SUM(S38-AB38) -> 0 | AD38: Muflihan Chandra, S. H | AF38: ='[3]BI INTRA 2025'!Z38+'S2 2024 - A'!Y38 -> #REF! | AG38: =AB38-AF38 -> #REF!
B39: 1.3.2.02.01.04.001 | C39: 0003 | E39: Sepeda Motor | F39: =VLOOKUP(B39,[1]Sheet1!$H$4:$I$15682,2,FALSE) -> Sepeda Motor | G39: Honda Star | H39: MH1GGHA17WK016607, GGHAE-1016478, BH 5720 AZ, A No. 8042328 F | I39: Besi | J39: APBD | K39: 1998 | L39: - | M39: unit | N39: B | O39: 1 | P39: 7400000 | R39: 0 | S39: =SUM(P39-R39) -> 7400000 | T39: 7 | U39: =SUM(S39/T39) -> 1057142.9 | V39: 0 | W39: =SUM(U39*V39) -> 0 | X39: 0 | Y39: =SUM(U39*X39) -> 0 | Z39: =SUM(W39+Y39) -> 0 | AA39: 7 | AB39: =SUM(U39*AA39) -> 7400000 | AC39: =SUM(S39-AB39) -> 9.3132257e-10 | AD39: UP | AF39: ='[3]BI INTRA 2025'!Z39+'S2 2024 - A'!Y39 -> #REF! | AG39: =AB39-AF39 -> #REF!
B40: 1.3.2.02.01.04.001 | C40: 0004 | E40: Sepeda Motor | F40: =VLOOKUP(B40,[1]Sheet1!$H$4:$I$15682,2,FALSE) -> Sepeda Motor | G40: Honda Supra X 125 | H40: MH1JB41146K058990, JB41E-1058415, BH 2498 Z | I40: Besi | J40: APBD | K40: 2006 | L40: - | M40: unit | N40: B | O40: 1 | P40: 9000000 | R40: 0 | S40: =SUM(P40-R40) -> 9000000 | T40: 7 | U40: =SUM(S40/T40) -> 1285714.3 | V40: 0 | W40: =SUM(U40*V40) -> 0 | X40: 0 | Y40: =SUM(U40*X40) -> 0 | Z40: =SUM(W40+Y40) -> 0 | AA40: 7 | AB40: =SUM(U40*AA40) -> 9000000 | AC40: =SUM(S40-AB40) -> 0 | AD40: Hendri | AF40: ='[3]BI INTRA 2025'!Z40+'S2 2024 - A'!Y40 -> #REF! | AG40: =AB40-AF40 -> #REF!
B41: 1.3.2.02.01.04.001 | C41: 0005 | E41: Sepeda Motor | F41: =VLOOKUP(B41,[1]Sheet1!$H$4:$I$15682,2,FALSE) -> Sepeda Motor | G41: Honda Supra 125 | H41: MH1JB51196K77335, JB51E-1770055, BH 4733 AZ, E No. 1991703 F | I41: Besi | J41: APBD | K41: 2007 | L41: - | M41: unit | N41: B | O41: 1 | P41: 4800000 | R41: 0 | S41: =SUM(P41-R41) -> 4800000 | T41: 7 | U41: =SUM(S41/T41) -> 685714.29 | V41: 0 | W41: =SUM(U41*V41) -> 0 | X41: 0 | Y41: =SUM(U41*X41) -> 0 | Z41: =SUM(W41+Y41) -> 0 | AA41: 7 | AB41: =SUM(U41*AA41) -> 4800000 | AC41: =SUM(S41-AB41) -> 0 | AD41: Pool | AF41: ='[3]BI INTRA 2025'!Z41+'S2 2024 - A'!Y41 -> #REF! | AG41: =AB41-AF41 -> #REF!
B42: 1.3.2.02.01.04.001 | C42: 0010 | E42: Sepeda Motor | F42: =VLOOKUP(B42,[1]Sheet1!$H$4:$I$15682,2,FALSE) -> Sepeda Motor | G42: Honda New Supra X 125 CW | H42: MHIJB9128BK600088, JB91E-2590978, BH 2930 HZ, I-00593971 F | I42: Besi | J42: APBD | K42: 2011 | L42: - | M42: unit | N42: B | O42: 1 | P42: 14300000 | R42: 0 | S42: =SUM(P42-R42) -> 14300000 | T42: 7 | U42: =SUM(S42/T42) -> 2042857.1 | V42: =6/12 -> 0.5 | X42: 0 | Y42: =SUM(U42*X42) -> 0 | Z42: =SUM(W42+Y42) -> 0 | AA42: 7 | AB42: =SUM(U42*AA42) -> 14300000 | AC42: =SUM(S42-AB42) -> 0 | AD42: Eti Subiarti, S.E | AF42: ='[3]BI INTRA 2025'!Z42+'S2 2024 - A'!Y42 -> #REF! | AG42: =AB42-AF42 -> #REF!
B43: 1.3.2.02.01.04.001 | C43: 0011 | E43: Sepeda Motor | F43: =VLOOKUP(B43,[1]Sheet1!$H$4:$I$15682,2,FALSE) -> Sepeda Motor | G43: Honda New Supra X 125 CW | H43: MH1JB9123BK600239, JB91E-2591195, BH 2927 HZ, I-00593970 F | I43: Besi | J43: APBD | K43: 2011 | L43: - | M43: unit | N43: B | O43: 1 | P43: 14300000 | R43: 0 | S43: =SUM(P43-R43) -> 14300000 | T43: 7 | U43: =SUM(S43/T43) -> 2042857.1 | V43: =6/12 -> 0.5 | X43: 0 | Y43: =SUM(U43*X43) -> 0 | Z43: =SUM(W43+Y43) -> 0 | AA43: 7 | AB43: =SUM(U43*AA43) -> 14300000 | AC43: =SUM(S43-AB43) -> 0 | AD43: Subbag Program | AF43: ='[3]BI INTRA 2025'!Z43+'S2 2024 - A'!Y43 -> #REF! | AG43: =AB43-AF43 -> #REF!
B44: 1.3.2.02.01.04.001 | C44: 0012 | E44: Sepeda Motor | F44: =VLOOKUP(B44,[1]Sheet1!$H$4:$I$15682,2,FALSE) -> Sepeda Motor | G44: Honda New Supra X 125 CW | H44: MH1JB9129BK613738, JB91E-2604124, BH 2926 HZ, I-00593969 F | I44: Besi | J44: APBD | K44: 2011 | L44: - | M44: unit | N44: B | O44: 1 | P44: 14300000 | R44: 0 | S44: =SUM(P44-R44) -> 14300000 | T44: 7 | U44: =SUM(S44/T44) -> 2042857.1 | V44: =6/12 -> 0.5 | X44: 0 | Y44: =SUM(U44*X44) -> 0 | Z44: =SUM(W44+Y44) -> 0 | AA44: 7 | AB44: =SUM(U44*AA44) -> 14300000 | AC44: =SUM(S44-AB44) -> 0 | AD44: Ulil Fahmi, S. Th. I | AF44: ='[3]BI INTRA 2025'!Z44+'S2 2024 - A'!Y44 -> #REF! | AG44: =AB44-AF44 -> #REF!
B45: 1.3.2.02.01.04.001 | C45: 0013 | E45: Sepeda Motor | F45: =VLOOKUP(B45,[1]Sheet1!$H$4:$I$15682,2,FALSE) -> Sepeda Motor | G45: Suzuki Axelo | H45: MH8BF45SADJ 176985, F496-1D 448065, BH 3771 HZ, K-03781638 F | I45: Besi | J45: APBD | K45: 2013 | L45: - | M45: unit | N45: B | O45: 1 | P45: 14914500 | R45: 0 | S45: =SUM(P45-R45) -> 14914500 | T45: 7 | U45: =SUM(S45/T45) -> 2130642.9 | V45: 0 | W45: 0 | X45: 0 | Y45: =SUM(U45*X45) -> 0 | Z45: =SUM(W45+Y45) -> 0 | AA45: 7 | AB45: =SUM(U45*AA45) -> 14914500 | AC45: =SUM(S45-AB45) -> 0 | AD45: Febyanto, S. Th. I | AF45: ='[3]BI INTRA 2025'!Z45+'S2 2024 - A'!Y45 -> #REF! | AG45: =AB45-AF45 -> #REF!
B46: 1.3.2.02.01.04.001 | C46: 0014 | E46: Sepeda Motor | F46: =VLOOKUP(B46,[1]Sheet1!$H$4:$I$15682,2,FALSE) -> Sepeda Motor | G46: Suzuki Sky Drive Racing | H46: MH8CF48NADJ 252494, F4A9-ID 252513, BH 3770 HZ, K-03781644 F | I46: Besi | J46: APBD | K46: 2013 | L46: - | M46: unit | N46: B | O46: 1 | P46: 13685000 | R46: 0 | S46: =SUM(P46-R46) -> 13685000 | T46: 7 | U46: =SUM(S46/T46) -> 1955000 | V46: 0 | W46: 0 | X46: 0 | Y46: =SUM(U46*X46) -> 0 | Z46: =SUM(W46+Y46) -> 0 | AA46: 7 | AB46: =SUM(U46*AA46) -> 13685000 | AC46: =SUM(S46-AB46) -> 0 | AD46: Novi Muthia, S. STP, M. AP | AF46: ='[3]BI INTRA 2025'!Z46+'S2 2024 - A'!Y46 -> #REF! | AG46: =AB46-AF46 -> #REF!
B47: 1.3.2.02.01.04.001 | C47: 0015 | E47: Sepeda Motor | F47: =VLOOKUP(B47,[1]Sheet1!$H$4:$I$15682,2,FALSE) -> Sepeda Motor | G47: Honda | H47: MH1JFV111GK512916, JFV1E1520205, B 3129 PEQ | I47: Besi | J47: Hibah dari Kemen PP dan PA RI | K47: 2017 | L47: - | M47: unit | N47: B | O47: 1 | P47: 18921000 | R47: 0 | S47: =P47-R47 -> 18921000 | T47: 7 | U47: =SUM(S47/T47) -> 2703000 | V47: =6/12 -> 0.5 | W47: =SUM(U47*V47) -> 1351500 | X47: =6/12 -> 0.5 | Y47: =U47*X47 -> 1351500 | Z47: =SUM(W47+Y47) -> 2703000 | AA47: =2024-K47+V47+X47-12/12 -> 7 | AB47: =SUM(U47*AA47) -> 18921000 | AC47: =SUM(S47-AB47) -> 0 | AD47: Petugas P2TP2A (Ferdia Prakarsa, S.H) | AF47: ='[3]BI INTRA 2025'!Z47+'S2 2024 - A'!Y47 -> #REF! | AG47: =AB47-AF47 -> #REF!
B48: 1.3.2.02.01.04.001 | C48: 0016 | E48: Sepeda Motor | F48: =VLOOKUP(B48,[1]Sheet1!$H$4:$I$15682,2,FALSE) -> Sepeda Motor | G48: Honda | H48: MH1JFV116GK514340, JFV1E1520661, B 3040 PEQ, N-00445728 | I48: Besi | J48: Hibah dari Kemen PP dan PA RI | K48: 2017 | L48: - | M48: unit | N48: B | O48: 1 | P48: 18921000 | R48: 0 | S48: =P48-R48 -> 18921000 | T48: 7 | U48: =SUM(S48/T48) -> 2703000 | V48: =6/12 -> 0.5 | W48: =SUM(U48*V48) -> 1351500 | X48: =6/12 -> 0.5 | Y48: =U48*X48 -> 1351500 | Z48: =SUM(W48+Y48) -> 2703000 | AA48: =2024-K48+V48+X48-12/12 -> 7 | AB48: =SUM(U48*AA48) -> 18921000 | AC48: =SUM(S48-AB48) -> 0 | AD48: Petugas P2TP2A (R. Ardiansyah, S. H) | AF48: ='[3]BI INTRA 2025'!Z48+'S2 2024 - A'!Y48 -> #REF! | AG48: =AB48-AF48 -> #REF!
B49: c. Alat - Alat Bengkel dan Alat Ukur | AF49: ='[3]BI INTRA 2025'!Z49+'S2 2024 - A'!Y49 -> #REF! | AG49: =AB49-AF49 -> #REF!
B50: - | C50: - | E50: - | G50: - | H50: - | I50: - | K50: - | L50: - | M50: - | N50: - | O50: - | P50: - | AD50: - | AF50: ='[3]BI INTRA 2025'!Z50+'S2 2024 - A'!Y50 -> #REF! | AG50: =AB50-AF50 -> #REF!
B51: d. Alat - Alat Pertanian / Peternakan | AF51: ='[3]BI INTRA 2025'!Z51+'S2 2024 - A'!Y51 -> #REF! | AG51: =AB51-AF51 -> #REF!
B52: - | C52: - | E52: - | G52: - | H52: - | I52: - | K52: - | L52: - | M52: - | N52: - | O52: - | AF52: ='[3]BI INTRA 2025'!Z52+'S2 2024 - A'!Y52 -> #REF! | AG52: =AB52-AF52 -> #REF!
B53: 1.3.2.05 | C53: ALAT KANTOR DAN RUMAH TANGGA | O53: =O54+O101+O175 -> 179 | P53: =P54+P101+P175 -> 786410300 | S53: =S54+S101+S175 -> 786410300 | U53: =U54+U101+U175 -> 115984860 | W53: =W54+W101+W175 -> 3948180 | Y53: =Y54+Y101+Y175 -> 2366620 | Z53: =Z54+Z101+Z175 -> 6314800 | AB53: =AB54+AB101+AB175 -> 786410300 | AC53: =AC54+AC101+AC175 -> 0 | AD53: =P53-AB53 -> 0 | AF53: ='[3]BI INTRA 2025'!Z53+'S2 2024 - A'!Y53 -> #REF! | AG53: =AB53-AF53 -> #REF!
B54: 1.3.2.05.01 | C54: ALAT KANTOR | O54: =O55+O56+O57+O60+O93 -> 60 | P54: =P55+P56+P57+P60+P93 -> 294170000 | S54: =S55+S56+S57+S60+S93 -> 294170000 | U54: =U55+U56+U57+U60+U93 -> 30046800 | W54: =W55+W56+W57+W60+W93 -> 1335400 | Y54: =Y55+Y56+Y57+Y60+Y93 -> 890266.67 | Z54: =Z55+Z56+Z57+Z60+Z93 -> 2225666.7 | AB54: =AB55+AB56+AB57+AB60+AB93 -> 294170000 | AC54: =AC55+AC56+AC57+AC60+AC93 -> 0 | AD54: =P54-AB54 -> 0 | AF54: ='[3]BI INTRA 2025'!Z54+'S2 2024 - A'!Y54 -> #REF! | AG54: =AB54-AF54 -> #REF!
B55: 1.3.2.05.01.01 | C55: MESIN KETIK | AF55: ='[3]BI INTRA 2025'!Z55+'S2 2024 - A'!Y55 -> #REF! | AG55: =AB55-AF55 -> #REF!
B56: 1.3.2.05.01.02 | C56: MESIN HITUNG/MESIN JUMLAH | AF56: ='[3]BI INTRA 2025'!Z56+'S2 2024 - A'!Y56 -> #REF! | AG56: =AB56-AF56 -> #REF!
B57: 1.3.2.05.01.03 | C57: ALAT REPRODUKSI (PENGGANDAAN) | O57: =O58 -> 1 | P57: =P58 -> 68736000 | S57: =S58 -> 68736000 | U57: =U58 -> 0 | W57: =W58 -> 0 | Y57: =Y58 -> 0 | Z57: =Z58 -> 0 | AB57: =AB58 -> 68736000 | AC57: =AC58 -> 0 | AF57: ='[3]BI INTRA 2025'!Z57+'S2 2024 - A'!Y57 -> #REF! | AG57: =AB57-AF57 -> #REF!
B58: 1.3.2.05.01.03.007 | C58: 0001 | E58: Mesin Foto Copy | F58: =VLOOKUP(B58,[1]Sheet1!$H$4:$I$15682,2,FALSE) -> Mesin Fotocopy Folio | G58: Canon | H58: - | I58: Besi | J58: APBD | K58: 2014 | L58: - | M58: buah | N58: B | O58: 1 | P58: 68736000 | R58: 0 | S58: =SUM(P58-R58) -> 68736000 | T58: 5 | AA58: 5 | AB58: 68736000 | AC58: =SUM(S58-AB58) -> 0 | AD58: Subbag Umum & Kepegawaian | AF58: ='[3]BI INTRA 2025'!Z58+'S2 2024 - A'!Y58 -> #REF! | AG58: =AB58-AF58 -> #REF!
AF59: ='[3]BI INTRA 2025'!Z59+'S2 2024 - A'!Y59 -> #REF! | AG59: =AB59-AF59 -> #REF!
B60: 1.3.2.05.01.04 | C60: ALAT PENYIMPAN PERLENGKAPAN KANTOR | O60: =SUM(O61:O92) -> 51 | P60: =SUM(P61:P92) -> 140304000 | S60: =SUM(S61:S92) -> 140304000 | U60: =SUM(U61:U92) -> 24020800 | W60: =SUM(W61:W92) -> 1335400 | Y60: =SUM(Y61:Y92) -> 890266.67 | Z60: =SUM(Z61:Z92) -> 2225666.7 | AB60: =SUM(AB61:AB92) -> 140304000 | AC60: =SUM(AC61:AC92) -> 0 | AD60: =P60-AB60 -> 0 | AF60: ='[3]BI INTRA 2025'!Z60+'S2 2024 - A'!Y60 -> #REF! | AG60: =AB60-AF60 -> #REF!
B61: 1.3.2.05.01.04.002 | C61: 0001 | E61: Almari Kaca | F61: =VLOOKUP(B61,[1]Sheet1!$H$4:$I$15682,2,FALSE) -> Lemari Kayu | G61: 3 Pintu | H61: - | I61: Kayu/Kaca | J61: APBD | K61: 2009 | L61: - | M61: buah | N61: B | O61: 1 | P61: 1800000 | R61: 0 | S61: =SUM(P61-R61) -> 1800000 | T61: 5 | U61: =SUM(S61/T61) -> 360000 | V61: 0 | W61: =SUM(U61*V61) -> 0 | X61: 0 | Y61: =SUM(U61*X61) -> 0 | Z61: =SUM(W61+Y61) -> 0 | AA61: 5 | AB61: =SUM(U61*AA61) -> 1800000 | AC61: =SUM(S61-AB61) -> 0 | AD61: Kabid Pemdes / Kelurahan | AF61: ='[3]BI INTRA 2025'!Z68+'S2 2024 - A'!Y61 -> #REF! | AG61: =AB61-AF61 -> #REF!
B62: 1.3.2.05.01.04.002 | C62: 0002 | E62: Almari Kaca | F62: =VLOOKUP(B62,[1]Sheet1!$H$4:$I$15682,2,FALSE) -> Lemari Kayu | G62: 3 Pintu | H62: - | I62: Kayu/Kaca | J62: APBD | K62: 2009 | L62: - | M62: buah | N62: B | O62: 1 | P62: 1800000 | R62: 0 | S62: =SUM(P62-R62) -> 1800000 | T62: 5 | U62: =SUM(S62/T62) -> 360000 | V62: 0 | W62: =SUM(U62*V62) -> 0 | X62: 0 | Y62: =SUM(U62*X62) -> 0 | Z62: =SUM(W62+Y62) -> 0 | AA62: 5 | AB62: =SUM(U62*AA62) -> 1800000 | AC62: =SUM(S62-AB62) -> 0 | AD62: Kabid Pemberdayaan Masyarakat Desa | AF62: ='[3]BI INTRA 2025'!Z69+'S2 2024 - A'!Y62 -> #REF! | AG62: =AB62-AF62 -> #REF!
B63: 1.3.2.05.01.04.002 | C63: 0003 | E63: Almari Kaca | F63: =VLOOKUP(B63,[1]Sheet1!$H$4:$I$15682,2,FALSE) -> Lemari Kayu | G63: 3 Pintu | H63: - | I63: Kayu/Kaca | J63: APBD | K63: 2009 | L63: - | M63: buah | N63: B | O63: 1 | P63: 1800000 | R63: 0 | S63: =SUM(P63-R63) -> 1800000 | T63: 5 | U63: =SUM(S63/T63) -> 360000 | V63: 0 | W63: =SUM(U63*V63) -> 0 | X63: 0 | Y63: =SUM(U63*X63) -> 0 | Z63: =SUM(W63+Y63) -> 0 | AA63: 5 | AB63: =SUM(U63*AA63) -> 1800000 | AC63: =SUM(S63-AB63) -> 0 | AD63: Kabid Pengendalian Penduduk dan KB | AF63: ='[3]BI INTRA 2025'!Z70+'S2 2024 - A'!Y63 -> #REF! | AG63: =AB63-AF63 -> #REF!
B64: 1.3.2.05.01.04.002 | C64: 0004 | E64: Almari Kaca | F64: =VLOOKUP(B64,[1]Sheet1!$H$4:$I$15682,2,FALSE) -> Lemari Kayu | G64: 3 Pintu | H64: - | I64: Kayu/Kaca | J64: APBD | K64: 2009 | L64: - | M64: buah | N64: B | O64: 1 | P64: 1800000 | R64: 0 | S64: =SUM(P64-R64) -> 1800000 | T64: 5 | U64: =SUM(S64/T64) -> 360000 | V64: 0 | W64: =SUM(U64*V64) -> 0 | X64: 0 | Y64: =SUM(U64*X64) -> 0 | Z64: =SUM(W64+Y64) -> 0 | AA64: 5 | AB64: =SUM(U64*AA64) -> 1800000 | AC64: =SUM(S64-AB64) -> 0 | AD64: Kabid Perlindungan Anak | AF64: ='[3]BI INTRA 2025'!Z71+'S2 2024 - A'!Y64 -> #REF! | AG64: =AB64-AF64 -> #REF!
B65: 1.3.2.05.01.04.002 | C65: 0001 | E65: Almari Arsip | F65: =VLOOKUP(B65,[1]Sheet1!$H$4:$I$15682,2,FALSE) -> Lemari Kayu | G65: Lokal | H65: - | I65: Kayu/Kaca | J65: APBD | K65: 2009 | L65: - | M65: buah | N65: B | O65: 1 | P65: 2170000 | R65: 0 | S65: =SUM(P65-R65) -> 2170000 | T65: 5 | U65: =SUM(S65/T65) -> 434000 | V65: 0 | W65: =SUM(U65*V65) -> 0 | X65: 0 | Y65: =SUM(U65*X65) -> 0 | Z65: =SUM(W65+Y65) -> 0 | AA65: 5 | AB65: =SUM(U65*AA65) -> 2170000 | AC65: =SUM(S65-AB65) -> 0 | AD65: Kepala Dinas | AF65: ='[3]BI INTRA 2025'!Z72+'S2 2024 - A'!Y65 -> #REF! | AG65: =AB65-AF65 -> #REF!
B66: 1.3.2.05.01.04.002 | C66: 0002 | E66: Almari Arsip | F66: =VLOOKUP(B66,[1]Sheet1!$H$4:$I$15682,2,FALSE) -> Lemari Kayu | G66: Lokal | H66: - | I66: Kayu/Kaca | J66: APBD | K66: 2009 | L66: - | M66: buah | N66: B | O66: 1 | P66: 2170000 | R66: 0 | S66: =SUM(P66-R66) -> 2170000 | T66: 5 | U66: =SUM(S66/T66) -> 434000 | V66: 0 | W66: =SUM(U66*V66) -> 0 | X66: 0 | Y66: =SUM(U66*X66) -> 0 | Z66: =SUM(W66+Y66) -> 0 | AA66: 5 | AB66: =SUM(U66*AA66) -> 2170000 | AC66: =SUM(S66-AB66) -> 0 | AD66: Sekretaris Dinas | AF66: ='[3]BI INTRA 2025'!Z73+'S2 2024 - A'!Y66 -> #REF! | AG66: =AB66-AF66 -> #REF!
B67: 1.3.2.05.01.04.002 | C67: 0003-0005 | E67: Almari Arsip | F67: =VLOOKUP(B67,[1]Sheet1!$H$4:$I$15682,2,FALSE) -> Lemari Kayu | G67: Lokal | H67: - | I67: Kayu/Kaca | J67: APBD | K67: 2009 | L67: - | M67: buah | N67: B | O67: 3 | P67: 6510000 | R67: 0 | S67: =SUM(P67-R67) -> 6510000 | T67: 5 | U67: =SUM(S67/T67) -> 1302000 | V67: 0 | W67: =SUM(U67*V67) -> 0 | X67: 0 | Y67: =SUM(U67*X67) -> 0 | Z67: =SUM(W67+Y67) -> 0 | AA67: 5 | AB67: =SUM(U67*AA67) -> 6510000 | AC67: =SUM(S67-AB67) -> 0 | AD67: Subbag Umum & Kepegawaian | AF67: ='[3]BI INTRA 2025'!Z74+'S2 2024 - A'!Y67 -> #REF! | AG67: =AB67-AF67 -> #REF!
B68: 1.3.2.05.01.04.002 | C68: 0006 | E68: Almari Arsip | F68: =VLOOKUP(B68,[1]Sheet1!$H$4:$I$15682,2,FALSE) -> Lemari Kayu | G68: Lokal | H68: - | I68: Kayu/Kaca | J68: APBD | K68: 2009 | L68: - | M68: buah | N68: B | O68: 1 | P68: 2170000 | R68: 0 | S68: =SUM(P68-R68) -> 2170000 | T68: 5 | U68: =SUM(S68/T68) -> 434000 | V68: 0 | W68: =SUM(U68*V68) -> 0 | X68: 0 | Y68: =SUM(U68*X68) -> 0 | Z68: =SUM(W68+Y68) -> 0 | AA68: 5 | AB68: =SUM(U68*AA68) -> 2170000 | AC68: =SUM(S68-AB68) -> 0 | AD68: Subbag Keuangan | AF68: ='[3]BI INTRA 2025'!Z75+'S2 2024 - A'!Y68 -> #REF! | AG68: =AB68-AF68 -> #REF!
B69: 1.3.2.05.01.04.002 | C69: 0007-0008 | E69: Almari Arsip | F69: =VLOOKUP(B69,[1]Sheet1!$H$4:$I$15682,2,FALSE) -> Lemari Kayu | G69: Lokal | H69: - | I69: Kayu/Kaca | J69: APBD | K69: 2009 | L69: - | M69: buah | N69: B | O69: 2 | P69: 4340000 | R69: 0 | S69: =SUM(P69-R69) -> 4340000 | T69: 5 | U69: =SUM(S69/T69) -> 868000 | V69: 0 | W69: =SUM(U69*V69) -> 0 | X69: 0 | Y69: =SUM(U69*X69) -> 0 | Z69: =SUM(W69+Y69) -> 0 | AA69: 5 | AB69: =SUM(U69*AA69) -> 4340000 | AC69: =SUM(S69-AB69) -> 0 | AD69: Bidang Pemdes / Kelurahan | AF69: ='[3]BI INTRA 2025'!Z76+'S2 2024 - A'!Y69 -> #REF! | AG69: =AB69-AF69 -> #REF!
B70: 1.3.2.05.01.04.002 | C70: 0009-00011 | E70: Almari Arsip | F70: =VLOOKUP(B70,[1]Sheet1!$H$4:$I$15682,2,FALSE) -> Lemari Kayu | G70: Lokal | H70: - | I70: Kayu/Kaca | J70: APBD | K70: 2009 | L70: - | M70: buah | N70: B | O70: 3 | P70: 6510000 | R70: 0 | S70: =SUM(P70-R70) -> 6510000 | T70: 5 | U70: =SUM(S70/T70) -> 1302000 | V70: 0 | W70: =SUM(U70*V70) -> 0 | X70: 0 | Y70: =SUM(U70*X70) -> 0 | Z70: =SUM(W70+Y70) -> 0 | AA70: 5 | AB70: =SUM(U70*AA70) -> 6510000 | AC70: =SUM(S70-AB70) -> 0 | AD70: Bidang Pemberdayaan Masyarakat Desa | AF70: ='[3]BI INTRA 2025'!Z77+'S2 2024 - A'!Y70 -> #REF! | AG70: =AB70-AF70 -> #REF!
B71: 1.3.2.05.01.04.002 | C71: 0012-0013 | E71: Almari Arsip | F71: =VLOOKUP(B71,[1]Sheet1!$H$4:$I$15682,2,FALSE) -> Lemari Kayu | G71: Lokal | H71: - | I71: Kayu/Kaca | J71: APBD | K71: 2009 | L71: - | M71: buah | N71: B | O71: 2 | P71: 4340000 | R71: 0 | S71: =SUM(P71-R71) -> 4340000 | T71: 5 | U71: =SUM(S71/T71) -> 868000 | V71: 0 | W71: =SUM(U71*V71) -> 0 | X71: 0 | Y71: =SUM(U71*X71) -> 0 | Z71: =SUM(W71+Y71) -> 0 | AA71: 5 | AB71: =SUM(U71*AA71) -> 4340000 | AC71: =SUM(S71-AB71) -> 0 | AD71: Bidang Pengendalian Penduduk dan KB | AF71: ='[3]BI INTRA 2025'!Z78+'S2 2024 - A'!Y71 -> #REF! | AG71: =AB71-AF71 -> #REF!
B72: 1.3.2.05.01.04.002 | C72: 0014 | E72: Almari Arsip | F72: =VLOOKUP(B72,[1]Sheet1!$H$4:$I$15682,2,FALSE) -> Lemari Kayu | G72: Lokal | H72: - | I72: Kayu/Kaca | J72: APBD | K72: 2009 | L72: - | M72: buah | N72: B | O72: 1 | P72: 2170000 | R72: 0 | S72: =SUM(P72-R72) -> 2170000 | T72: 5 | U72: =SUM(S72/T72) -> 434000 | V72: 0 | W72: =SUM(U72*V72) -> 0 | X72: 0 | Y72: =SUM(U72*X72) -> 0 | Z72: =SUM(W72+Y72) -> 0 | AA72: 5 | AB72: =SUM(U72*AA72) -> 2170000 | AC72: =SUM(S72-AB72) -> 0 | AD72: Bidang Pemberdayaan Perempuan | AF72: ='[3]BI INTRA 2025'!Z79+'S2 2024 - A'!Y72 -> #REF! | AG72: =AB72-AF72 -> #REF!
B73: 1.3.2.05.01.04.002 | C73: 0001 | E73: Almari Arsip | F73: =VLOOKUP(B73,[1]Sheet1!$H$4:$I$15682,2,FALSE) -> Lemari Kayu | G73: Lokal | H73: - | I73: Kayu | J73: APBD | K73: 2013 | L73: - | M73: unit | N73: B | O73: 1 | P73: 3385000 | R73: 0 | S73: =SUM(P73-R73) -> 3385000 | T73: 5 | U73: =SUM(S73/T73) -> 677000 | V73: 0 | W73: 0 | X73: 0 | Y73: =SUM(U73*X73) -> 0 | Z73: 0 | AA73: 5 | AB73: =SUM(U73*AA73) -> 3385000 | AC73: =SUM(S73-AB73) -> 0 | AD73: Bidang Pengendalian Penduduk dan KB | AF73: ='[3]BI INTRA 2025'!Z80+'S2 2024 - A'!Y73 -> #REF! | AG73: =AB73-AF73 -> #REF!
B74: 1.3.2.05.01.04.002 | C74: 0002 | E74: Almari Arsip | F74: =VLOOKUP(B74,[1]Sheet1!$H$4:$I$15682,2,FALSE) -> Lemari Kayu | G74: Lokal | H74: - | I74: Kayu | J74: APBD | K74: 2013 | L74: - | M74: unit | N74: B | O74: 1 | P74: 3385000 | R74: 0 | S74: =SUM(P74-R74) -> 3385000 | T74: 5 | U74: =SUM(S74/T74) -> 677000 | V74: 0 | W74: 0 | X74: 0 | Y74: =SUM(U74*X74) -> 0 | Z74: 0 | AA74: 5 | AB74: 3385000 | AC74: =SUM(S74-AB74) -> 0 | AD74: Subbag Program | AF74: ='[3]BI INTRA 2025'!Z81+'S2 2024 - A'!Y74 -> #REF! | AG74: =AB74-AF74 -> #REF!
B75: 1.3.2.05.01.04.001 | C75: 0003 | E75: Lemari | F75: =VLOOKUP(B75,[1]Sheet1!$H$4:$I$15682,2,FALSE) -> Lemari Besi/Metal | G75: Frontline | H75: - | I75: Besi | J75: APBD | K75: 2019 | L75: - | M75: unit | N75: B | O75: 1 | P75: 4290000 | R75: 0 | S75: =SUM(P75-R75) -> 4290000 | T75: 5 | U75: =SUM(S75/T75) -> 858000 | V75: =6/12 -> 0.5 | W75: =SUM(U75*V75) -> 429000 | X75: =4/12 -> 0.33333333 | Y75: =U75*X75 -> 286000 | Z75: =SUM(W75+Y75) -> 715000 | AA75: =2024-K75+V75+X75-10/12 -> 5 | AB75: =SUM(U75*AA75) -> 4290000 | AC75: =SUM(S75-AB75) -> 0 | AD75: UPTD PPA | AF75: ='[3]BI INTRA 2025'!Z82+'S2 2024 - A'!Y75 -> #REF! | AG75: =AB75-AF75 -> #REF!
B76: 1.3.2.05.01.04.001 | C76: 0004 | E76: Lemari | F76: =VLOOKUP(B76,[1]Sheet1!$H$4:$I$15682,2,FALSE) -> Lemari Besi/Metal | G76: Frontline | H76: - | I76: Besi | J76: APBD | K76: 2019 | L76: - | M76: unit | N76: B | O76: 1 | P76: 4290000 | R76: 0 | S76: =SUM(P76-R76) -> 4290000 | T76: 5 | U76: =SUM(S76/T76) -> 858000 | V76: =6/12 -> 0.5 | W76: =SUM(U76*V76) -> 429000 | X76: =4/12 -> 0.33333333 | Y76: =U76*X76 -> 286000 | Z76: =SUM(W76+Y76) -> 715000 | AA76: =2024-K76+V76+X76-10/12 -> 5 | AB76: =SUM(U76*AA76) -> 4290000 | AC76: =SUM(S76-AB76) -> 0 | AD76: UPTD PPA | AF76: ='[3]BI INTRA 2025'!Z83+'S2 2024 - A'!Y76 -> #REF! | AG76: =AB76-AF76 -> #REF!
B77: 1.3.2.05.01.04.007 | C77: 0001 | E77: Brankas | F77: =VLOOKUP(B77,[1]Sheet1!$H$4:$I$15682,2,FALSE) -> Brankas | G77: Lokal | H77: - | I77: Besi | J77: APBD | K77: 2009 | L77: - | M77: buah | N77: B | O77: 1 | P77: 8000000 | R77: 0 | S77: =SUM(P77-R77) -> 8000000 | T77: 5 | U77: =SUM(S77/T77) -> 1600000 | V77: 0 | W77: =SUM(U77*V77) -> 0 | X77: 0 | Y77: =SUM(U77*X77) -> 0 | Z77: =SUM(W77+Y77) -> 0 | AA77: 5 | AB77: =SUM(U77*AA77) -> 8000000 | AC77: =SUM(S77-AB77) -> 0 | AD77: Subbag Keuangan | AF77: ='[3]BI INTRA 2025'!Z84+'S2 2024 - A'!Y77 -> #REF! | AG77: =AB77-AF77 -> #REF!
B78: 1.3.2.05.01.04.005 | C78: 0001-0002 | E78: Filling Cabinet | F78: =VLOOKUP(B78,[1]Sheet1!$H$4:$I$15682,2,FALSE) -> Filing Cabinet Besi | G78: Lion '4 Laci | H78: - | I78: Besi | J78: APBD | K78: 2009 | L78: - | M78: buah | N78: B | O78: 2 | P78: 5440000 | R78: 0 | S78: =SUM(P78-R78) -> 5440000 | T78: 5 | U78: =SUM(S78/T78) -> 1088000 | V78: 0 | W78: =SUM(U78*V78) -> 0 | X78: 0 | Y78: =SUM(U78*X78) -> 0 | Z78: =SUM(W78+Y78) -> 0 | AA78: 5 | AB78: =SUM(U78*AA78) -> 5440000 | AC78: =SUM(S78-AB78) -> 0 | AD78: Subbag Umum & Kepegawaian | AF78: ='[3]BI INTRA 2025'!Z85+'S2 2024 - A'!Y78 -> #REF! | AG78: =AB78-AF78 -> #REF!
B79: 1.3.2.05.01.04.005 | C79: 0003-0006 | E79: Filling Cabinet | F79: =VLOOKUP(B79,[1]Sheet1!$H$4:$I$15682,2,FALSE) -> Filing Cabinet Besi | G79: Lion '4 Laci | H79: - | I79: Besi | J79: APBD | K79: 2009 | L79: - | M79: buah | N79: B | O79: 4 | P79: 10880000 | R79: 0 | S79: =SUM(P79-R79) -> 10880000 | T79: 5 | U79: =SUM(S79/T79) -> 2176000 | V79: 0 | W79: =SUM(U79*V79) -> 0 | X79: 0 | Y79: =SUM(U79*X79) -> 0 | Z79: =SUM(W79+Y79) -> 0 | AA79: 5 | AB79: =SUM(U79*AA79) -> 10880000 | AC79: =SUM(S79-AB79) -> 0 | AD79: Subbag Keuangan | AF79: ='[3]BI INTRA 2025'!Z86+'S2 2024 - A'!Y79 -> #REF! | AG79: =AB79-AF79 -> #REF!
B80: 1.3.2.05.01.04.005 | C80: 0007 | E80: Filling Cabinet | F80: =VLOOKUP(B80,[1]Sheet1!$H$4:$I$15682,2,FALSE) -> Filing Cabinet Besi | G80: Lion '4 Laci | H80: - | I80: Besi | J80: APBD | K80: 2009 | L80: - | M80: buah | N80: B | O80: 1 | P80: 2720000 | R80: 0 | S80: =SUM(P80-R80) -> 2720000 | T80: 5 | U80: =SUM(S80/T80) -> 544000 | V80: 0 | W80: =SUM(U80*V80) -> 0 | X80: 0 | Y80: =SUM(U80*X80) -> 0 | Z80: =SUM(W80+Y80) -> 0 | AA80: 5 | AB80: =SUM(U80*AA80) -> 2720000 | AC80: =SUM(S80-AB80) -> 0 | AD80: Subbag Program | AF80: ='[3]BI INTRA 2025'!Z87+'S2 2024 - A'!Y80 -> #REF! | AG80: =AB80-AF80 -> #REF!
B81: 1.3.2.05.01.04.005 | C81: 0008-0009 | E81: Filling Cabinet | F81: =VLOOKUP(B81,[1]Sheet1!$H$4:$I$15682,2,FALSE) -> Filing Cabinet Besi | G81: Lion '4 Laci | H81: - | I81: Besi | J81: APBD | K81: 2009 | L81: - | M81: buah | N81: B | O81: 2 | P81: 5440000 | R81: 0 | S81: =SUM(P81-R81) -> 5440000 | T81: 5 | U81: =SUM(S81/T81) -> 1088000 | V81: 0 | W81: =SUM(U81*V81) -> 0 | X81: 0 | Y81: =SUM(U81*X81) -> 0 | Z81: =SUM(W81+Y81) -> 0 | AA81: 5 | AB81: =SUM(U81*AA81) -> 5440000 | AC81: =SUM(S81-AB81) -> 0 | AD81: Bidang Pemdes / Kelurahan | AF81: ='[3]BI INTRA 2025'!Z88+'S2 2024 - A'!Y81 -> #REF! | AG81: =AB81-AF81 -> #REF!
B82: 1.3.2.05.01.04.005 | C82: 0010-0011 | E82: Filling Cabinet | F82: =VLOOKUP(B82,[1]Sheet1!$H$4:$I$15682,2,FALSE) -> Filing Cabinet Besi | G82: Lion '4 Laci | H82: - | I82: Besi | J82: APBD | K82: 2009 | L82: - | M82: buah | N82: B | O82: 2 | P82: 5440000 | R82: 0 | S82: =SUM(P82-R82) -> 5440000 | T82: 5 | U82: =SUM(S82/T82) -> 1088000 | V82: 0 | W82: =SUM(U82*V82) -> 0 | X82: 0 | Y82: =SUM(U82*X82) -> 0 | Z82: =SUM(W82+Y82) -> 0 | AA82: 5 | AB82: =SUM(U82*AA82) -> 5440000 | AC82: =SUM(S82-AB82) -> 0 | AD82: Bidang Pemberdayaan Masyarakat Desa | AF82: ='[3]BI INTRA 2025'!Z89+'S2 2024 - A'!Y82 -> #REF! | AG82: =AB82-AF82 -> #REF!
B83: 1.3.2.05.01.04.005 | C83: 0012 | E83: Filling Cabinet | F83: =VLOOKUP(B83,[1]Sheet1!$H$4:$I$15682,2,FALSE) -> Filing Cabinet Besi | G83: Lion '4 Laci | H83: - | I83: Besi | J83: APBD | K83: 2009 | L83: - | M83: buah | N83: B | O83: 1 | P83: 2720000 | R83: 0 | S83: =SUM(P83-R83) -> 2720000 | T83: 5 | U83: =SUM(S83/T83) -> 544000 | V83: 0 | W83: =SUM(U83*V83) -> 0 | X83: 0 | Y83: =SUM(U83*X83) -> 0 | Z83: =SUM(W83+Y83) -> 0 | AA83: 5 | AB83: =SUM(U83*AA83) -> 2720000 | AC83: =SUM(S83-AB83) -> 0 | AD83: Kabid Pengendalian Penduduk dan KB | AF83: ='[3]BI INTRA 2025'!Z90+'S2 2024 - A'!Y83 -> #REF! | AG83: =AB83-AF83 -> #REF!
B84: 1.3.2.05.01.04.005 | C84: 0013 | E84: Filling Cabinet | F84: =VLOOKUP(B84,[1]Sheet1!$H$4:$I$15682,2,FALSE) -> Filing Cabinet Besi | G84: Lion '4 Laci | H84: - | I84: Besi | J84: APBD | K84: 2009 | L84: - | M84: buah | N84: B | O84: 1 | P84: 2720000 | R84: 0 | S84: =SUM(P84-R84) -> 2720000 | T84: 5 | U84: =SUM(S84/T84) -> 544000 | V84: 0 | W84: =SUM(U84*V84) -> 0 | X84: 0 | Y84: =SUM(U84*X84) -> 0 | Z84: =SUM(W84+Y84) -> 0 | AA84: 5 | AB84: =SUM(U84*AA84) -> 2720000 | AC84: =SUM(S84-AB84) -> 0 | AD84: Bidang Pengendalian Penduduk dan KB | AF84: ='[3]BI INTRA 2025'!Z91+'S2 2024 - A'!Y84 -> #REF! | AG84: =AB84-AF84 -> #REF!
B85: 1.3.2.05.01.04.005 | C85: 0014-0015 | E85: Filling Cabinet | F85: =VLOOKUP(B85,[1]Sheet1!$H$4:$I$15682,2,FALSE) -> Filing Cabinet Besi | G85: Lion '4 Laci | H85: - | I85: Besi | J85: APBD | K85: 2009 | L85: - | M85: buah | N85: B | O85: 2 | P85: 5440000 | R85: 0 | S85: =SUM(P85-R85) -> 5440000 | T85: 5 | U85: =SUM(S85/T85) -> 1088000 | V85: 0 | W85: =SUM(U85*V85) -> 0 | X85: 0 | Y85: =SUM(U85*X85) -> 0 | Z85: =SUM(W85+Y85) -> 0 | AA85: 5 | AB85: =SUM(U85*AA85) -> 5440000 | AC85: =SUM(S85-AB85) -> 0 | AD85: Bidang Pemberdayaan Perempuan | AF85: ='[3]BI INTRA 2025'!Z92+'S2 2024 - A'!Y85 -> #REF! | AG85: =AB85-AF85 -> #REF!
B86: 1.3.2.05.01.04.005 | C86: 0016-0020 | E86: Filling Cabinet | F86: =VLOOKUP(B86,[1]Sheet1!$H$4:$I$15682,2,FALSE) -> Filing Cabinet Besi | G86: Lion '4 Laci | H86: - | I86: Besi | J86: APBD | K86: 2009 | L86: - | M86: buah | N86: B | O86: 5 | P86: 13600000 | R86: 0 | S86: =SUM(P86-R86) -> 13600000 | T86: 5 | U86: =SUM(S86/T86) -> 2720000 | V86: 0 | W86: =SUM(U86*V86) -> 0 | X86: 0 | Y86: =SUM(U86*X86) -> 0 | Z86: =SUM(W86+Y86) -> 0 | AA86: 5 | AB86: =SUM(U86*AA86) -> 13600000 | AC86: =SUM(S86-AB86) -> 0 | AD86: Bidang Perlindungan Anak | AF86: ='[3]BI INTRA 2025'!Z93+'S2 2024 - A'!Y86 -> #REF! | AG86: =AB86-AF86 -> #REF!
B87: 1.3.2.05.01.04.005 | C87: 0021 | E87: Filling Cabinet | F87: =VLOOKUP(B87,[1]Sheet1!$H$4:$I$15682,2,FALSE) -> Filing Cabinet Besi | G87: TOP | H87: - | I87: Besi | J87: APBD | K87: 2019 | L87: - | M87: buah | N87: B | O87: 1 | P87: 2387000 | R87: 0 | S87: =SUM(P87-R87) -> 2387000 | T87: 5 | U87: =SUM(S87/T87) -> 477400 | V87: =6/12 -> 0.5 | W87: =SUM(U87*V87) -> 238700 | X87: =4/12 -> 0.33333333 | Y87: =U87*X87 -> 159133.33 | Z87: =SUM(W87+Y87) -> 397833.33 | AA87: =2024-K87+V87+X87-10/12 -> 5 | AB87: =SUM(U87*AA87) -> 2387000 | AC87: =SUM(S87-AB87) -> 0 | AD87: UPTD PPA | AF87: ='[3]BI INTRA 2025'!Z94+'S2 2024 - A'!Y87 -> #REF! | AG87: =AB87-AF87 -> #REF!
B88: 1.3.2.05.01.04.005 | C88: 0022 | E88: Filling Cabinet | F88: =VLOOKUP(B88,[1]Sheet1!$H$4:$I$15682,2,FALSE) -> Filing Cabinet Besi | G88: TOP | H88: - | I88: Besi | J88: APBD | K88: 2019 | L88: - | M88: buah | N88: B | O88: 1 | P88: 2387000 | R88: 0 | S88: =SUM(P88-R88) -> 2387000 | T88: 5 | U88: =SUM(S88/T88) -> 477400 | V88: =6/12 -> 0.5 | W88: =SUM(U88*V88) -> 238700 | X88: =4/12 -> 0.33333333 | Y88: =U88*X88 -> 159133.33 | Z88: =SUM(W88+Y88) -> 397833.33 | AA88: =2024-K88+V88+X88-10/12 -> 5 | AB88: =SUM(U88*AA88) -> 2387000 | AC88: =SUM(S88-AB88) -> 0 | AD88: UPTD PPA | AF88: ='[3]BI INTRA 2025'!Z95+'S2 2024 - A'!Y88 -> #REF! | AG88: =AB88-AF88 -> #REF!
B89: 1.3.2.05.01.04.029 | C89: 0001-0002 | E89: Lemari Buku | F89: =VLOOKUP(B89,[1]Sheet1!$H$4:$I$15682,2,FALSE) -> Lemari Arsip | G89: Lokal | H89: - | I89: Kayu/Kaca | J89: APBD | K89: 2011 | L89: - | M89: unit | N89: B | O89: 2 | P89: 8400000 | R89: 0 | S89: =SUM(P89-R89) -> 8400000 | T89: 5 | AA89: 5 | AB89: 8400000 | AC89: =SUM(S89-AB89) -> 0 | AD89: Rumah Aman | AF89: ='[3]BI INTRA 2025'!Z96+'S2 2024 - A'!Y89 -> #REF! | AG89: =AB89-AF89 -> #REF!
B90: 1.3.2.05.01.04.002 | C90: 0001-0002 | E90: Lemari Pakaian | F90: =VLOOKUP(B90,[1]Sheet1!$H$4:$I$15682,2,FALSE) -> Lemari Kayu | G90: Lokal | H90: - | I90: Kayu | J90: APBD | K90: 2011 | L90: - | M90: unit | N90: B | O90: 2 | P90: 7000000 | R90: 0 | S90: =SUM(P90-R90) -> 7000000 | T90: 5 | AA90: 5 | AB90: 7000000 | AC90: =SUM(S90-AB90) -> 0 | AD90: Rumah Aman | AF90: ='[3]BI INTRA 2025'!Z98+'S2 2024 - A'!Y90 -> #REF! | AG90: =AB90-AF90 -> #REF!
B91: 1.3.2.05.01.04.005 | C91: 0021-0022 | E91: Filling Cabinet | F91: =VLOOKUP(B91,[1]Sheet1!$H$4:$I$15682,2,FALSE) -> Filing Cabinet Besi | G91: Lion | H91: - | I91: Besi | J91: APBD | K91: 2011 | L91: - | M91: unit | N91: B | O91: 2 | P91: 4800000 | R91: 0 | S91: =SUM(P91-R91) -> 4800000 | T91: 5 | AA91: 5 | AB91: 4800000 | AC91: =SUM(S91-AB91) -> 0 | AD91: Rumah Aman | AF91: ='[3]BI INTRA 2025'!Z99+'S2 2024 - A'!Y91 -> #REF! | AG91: =AB91-AF91 -> #REF!
AF92: ='[3]BI INTRA 2025'!Z100+'S2 2024 - A'!Y92 -> #REF! | AG92: =AB92-AF92 -> #REF!
B93: 1.3.2.05.01.05 | C93: ALAT KANTOR LAINNYA | O93: =SUM(O94:O100) -> 8 | P93: =SUM(P94:P100) -> 85130000 | S93: =SUM(S94:S100) -> 85130000 | U93: =SUM(U94:U100) -> 6026000 | W93: =SUM(W94:W100) -> 0 | Y93: =SUM(Y94:Y100) -> 0 | Z93: =SUM(Z94:Z100) -> 0 | AB93: =SUM(AB94:AB100) -> 85130000 | AC93: =SUM(AC94:AC100) -> 0 | AF93: ='[3]BI INTRA 2025'!Z101+'S2 2024 - A'!Y93 -> #REF! | AG93: =AB93-AF93 -> #REF!
B94: 1.3.2.05.01.05.012 | C94: 0001 | E94: Mesin Absensi | F94: =VLOOKUP(B94,[1]Sheet1!$H$4:$I$15682,2,FALSE) -> Mesin Absensi | G94: Premium Series | H94: - | I94: Besi | J94: APBD | K94: 2010 | L94: - | M94: buah | N94: KB | O94: 1 | P94: 20000000 | R94: 0 | S94: =SUM(P94-R94) -> 20000000 | T94: 5 | AA94: 5 | AB94: 20000000 | AC94: =SUM(S94-AB94) -> 0 | AD94: Subbag Umum & Kepegawaian | AF94: ='[3]BI INTRA 2025'!Z102+'S2 2024 - A'!Y94 -> #REF! | AG94: =AB94-AF94 -> #REF!
B95: 1.3.2.05.01.05.077 | C95: 0001 | E95: Papan Data | F95: =VLOOKUP(B95,[1]Sheet1!$H$4:$I$15682,2,FALSE) -> Papan Pengumuman | G95: Lokal | H95: - | I95: Mika | J95: APBD | K95: 2010 | L95: - | M95: unit | N95: B | O95: 1 | P95: 5000000 | R95: 0 | S95: =SUM(P95-R95) -> 5000000 | T95: 5 | AA95: 5 | AB95: 5000000 | AC95: =SUM(S95-AB95) -> 0 | AD95: Ajudan (ADC) | AF95: ='[3]BI INTRA 2025'!Z103+'S2 2024 - A'!Y95 -> #REF! | AG95: =AB95-AF95 -> #REF!
B96: 1.3.2.05.01.05.043 | C96: 0001-0002 | E96: Infocus | F96: =VLOOKUP(B96,[1]Sheet1!$H$4:$I$15682,2,FALSE) -> LCD Projector/Infocus | G96: Acer X 1261 1 | H96: - | I96: Besi | J96: APBD | K96: 2010 | L96: - | M96: unit | N96: B | O96: 2 | P96: 18900000 | R96: 0 | S96: =SUM(P96-R96) -> 18900000 | T96: 5 | U96: =SUM(S96/T96) -> 3780000 | V96: 0 | W96: =SUM(U96*V96) -> 0 | X96: 0 | Y96: =SUM(U96*X96) -> 0 | Z96: =SUM(W96+Y96) -> 0 | AA96: 5 | AB96: =SUM(U96*AA96) -> 18900000 | AC96: =SUM(S96-AB96) -> 0 | AD96: Penyimpan Barang | AF96: ='[3]BI INTRA 2025'!Z104+'S2 2024 - A'!Y96 -> #REF! | AG96: =AB96-AF96 -> #REF!
B97: 1.3.2.05.01.05.053 | C97: 0001-0002 | E97: Screen/Layar Infocus | F97: =VLOOKUP(B97,[1]Sheet1!$H$4:$I$15682,2,FALSE) -> Focusing Screen/Layar LCD Projector | G97: 84 " Tripod | H97: - | I97: Besi | J97: APBD | K97: 2010 | L97: - | M97: unit | N97: B | O97: 2 | P97: 3400000 | R97: 0 | S97: =SUM(P97-R97) -> 3400000 | T97: 5 | U97: =SUM(S97/T97) -> 680000 | V97: 0 | W97: =SUM(U97*V97) -> 0 | X97: 0 | Y97: =SUM(U97*X97) -> 0 | Z97: =SUM(W97+Y97) -> 0 | AA97: 5 | AB97: =SUM(U97*AA97) -> 3400000 | AC97: =SUM(S97-AB97) -> 0 | AD97: Penyimpan Barang | AF97: ='[3]BI INTRA 2025'!Z105+'S2 2024 - A'!Y97 -> #REF! | AG97: =AB97-AF97 -> #REF!
B98: 1.3.2.05.01.05.077 | C98: 0002 | E98: Papan Data | F98: =VLOOKUP(B98,[1]Sheet1!$H$4:$I$15682,2,FALSE) -> Papan Pengumuman | G98: Lokal | H98: - | I98: Mika | J98: APBD | K98: 2012 | L98: - | M98: unit | N98: B | O98: 1 | P98: 30000000 | R98: 0 | S98: =SUM(P98-R98) -> 30000000 | T98: 5 | AA98: 5 | AB98: 30000000 | AC98: =SUM(S98-AB98) -> 0 | AD98: Sekretariat PKK | AF98: ='[3]BI INTRA 2025'!Z107+'S2 2024 - A'!Y98 -> #REF! | AG98: =AB98-AF98 -> #REF!
B99: 1.3.2.05.01.05.023 | C99: 0001 | E99: Proyektor | F99: =VLOOKUP(B99,[1]Sheet1!$H$4:$I$15682,2,FALSE) -> Overhead Projector | I99: Ebonik | J99: APBD | K99: 2015 | M99: unit | N99: B | O99: 1 | P99: 7830000 | R99: 0 | S99: =SUM(P99-R99) -> 7830000 | T99: 5 | U99: =SUM(S99/T99) -> 1566000 | AA99: 5 | AB99: 7830000 | AC99: =SUM(S99-AB99) -> 0 | AD99: Penyimpan Barang | AF99: ='[3]BI INTRA 2025'!Z108+'S2 2024 - A'!Y99 -> #REF! | AG99: =AB99-AF99 -> #REF!
AF100: ='[3]BI INTRA 2025'!Z110+'S2 2024 - A'!Y100 -> #REF! | AG100: =AB100-AF100 -> #REF!
B101: 1.3.2.05.02 | C101: ALAT RUMAH TANGGA | O101: =O102+O120+O122+O125+O145+O147+O172 -> 96 | P101: =P102+P120+P122+P125+P145+P147+P172 -> 431640300 | S101: =S102+S120+S122+S125+S145+S147+S172 -> 431640300 | U101: =U102+U120+U122+U125+U145+U147+U172 -> 73818060 | W101: =W102+W120+W122+W125+W145+W147+W172 -> 2612780 | Y101: =Y102+Y120+Y122+Y125+Y145+Y147+Y172 -> 1476353.3 | Z101: =Z102+Z120+Z122+Z125+Z145+Z147+Z172 -> 4089133.3 | AB101: =AB102+AB120+AB122+AB125+AB145+AB147+AB172 -> 431640300 | AC101: =AC102+AC120+AC122+AC125+AC145+AC147+AC172 -> 0 | AD101: =P101-AB101 -> 0 | AF101: ='[3]BI INTRA 2025'!Z111+'S2 2024 - A'!Y101 -> #REF! | AG101: =AB101-AF101 -> #REF!
B102: 1.3.2.05.02.01 | C102: MEUBELAIR | O102: =SUM(O103:O119) -> 41 | P102: =SUM(P103:P119) -> 94358300 | S102: =SUM(S103:S119) -> 94358300 | U102: =SUM(U103:U119) -> 12961660 | W102: =SUM(W103:W119) -> 902580 | Y102: =SUM(Y103:Y119) -> 601720 | Z102: =SUM(Z103:Z119) -> 1504300 | AB102: =SUM(AB103:AB118) -> 94358300 | AC102: =SUM(AC103:AC119) -> 0 | AD102: =P102-AB102 -> 0 | AF102: ='[3]BI INTRA 2025'!Z112+'S2 2024 - A'!Y102 -> #REF! | AG102: =AB102-AF102 -> #REF!
B103: 1.3.2.05.02.01.008 | C103: 0001 | E103: Meja Rapat Oval | F103: =VLOOKUP(B103,[1]Sheet1!$H$4:$I$15682,2,FALSE) -> Meja Rapat | G103: Lokal | H103: - | I103: Kayu | J103: APBD | K103: 2009 | L103: - | M103: buah | N103: B | O103: 1 | P103: 4950000 | R103: 0 | S103: =SUM(P103-R103) -> 4950000 | T103: 5 | U103: =SUM(S103/T103) -> 990000 | V103: 0 | W103: =SUM(U103*V103) -> 0 | X103: 0 | Y103: =SUM(U103*X103) -> 0 | Z103: =SUM(W103+Y103) -> 0 | AA103: 5 | AB103: =SUM(U103*AA103) -> 4950000 | AC103: =SUM(S103-AB103) -> 0 | AD103: Ruang Rapat Kepala Dinas | AF103: ='[3]BI INTRA 2025'!Z115+'S2 2024 - A'!Y103 -> #REF! | AG103: =AB103-AF103 -> #REF!
B104: 1.3.2.05.02.01.008 | C104: 0001-0003 | E104: Meja Rapat Panjang | F104: =VLOOKUP(B104,[1]Sheet1!$H$4:$I$15682,2,FALSE) -> Meja Rapat | G104: Lokal | H104: - | I104: Kayu | J104: APBD | K104: 2009 | L104: - | M104: buah | N104: B | O104: 3 | P104: 4950000 | R104: 0 | S104: =SUM(P104-R104) -> 4950000 | T104: 5 | U104: =SUM(S104/T104) -> 990000 | V104: 0 | W104: =SUM(U104*V104) -> 0 | X104: 0 | Y104: =SUM(U104*X104) -> 0 | Z104: =SUM(W104+Y104) -> 0 | AA104: 5 | AB104: =SUM(U104*AA104) -> 4950000 | AC104: =SUM(S104-AB104) -> 0 | AD104: Aula | AF104: ='[3]BI INTRA 2025'!Z116+'S2 2024 - A'!Y104 -> #REF! | AG104: =AB104-AF104 -> #REF!
...

Sheet BI BERSIH DARI EKSTRA 2024
A1: BUKU INVENTARIS PENYUSUTAN
A2: PER 1 Juli s.d 31 Desember 2024
A4: SKPD | C4: : DINAS PEMBERDAYAAN PEREMPUAN, PERLINDUNGAN ANAK, DAN PENGENDALIAN PENDUDUK PROVINSI JAMBI | R4: Rumus Penyusutan = Nilai Perolehan - Nilai Residu / Masa manfaat
A5: KABUPATEN / KOTA | C5: : JAMBI
A6: PROVINSI | C6: : JAMBI | AB6: NO. KODE LOKASI : | AC6: 11.05.00.15.03
A7: TAHUN | C7: : 2024
A9: NOMOR | E9: SPESIFIKASI BARANG | I9: Bahan | J9: Asal / Cara Perolehan Barang | K9: Tahun Perolehan | L9: Ukuran Barang/ Konstruksi (P,S,D) | M9: Satuan | N9: Keadaan Barang (B/KB/RB) | O9: JUMLAH | Q9: Kolom untuk pengolahan Kapitalisasi atas adanya Rehab dll | R9: Nilai residu | S9: Nilai Perolehan setelah dikurangi nilai Residu | T9: Masa manfaat (tahun) | U9: Beban Penyusutan per tahun | V9: Beban Penyusutan Periode ini | AA9: Penyusutan tahun ke | AB9: Akumulasi Penyusutan | AC9: Nilai Buku | AD9: Lokasi Barang
A10: No. Urut | B10: Kode Barang | C10: Register | D10: Nama Barang Berdasarkan Kodefikasi | E10: Nama / Jenis Barang | F10: NAMA ASET 108 | G10: Merk/Type | H10: No. Sertifikat No. Pabrik No. Chasis No. Mesin, No. Polisi No. BPKB | O10: Barang | P10: Harga | V10: Semester I | X10: Semester II | Z10: Beban Tahun Ini
V11: Waktu | W11: Nilai | X11: Waktu | Y11: Nilai
A12: 1 | B12: 2 | C12: 3 | E12: 4 | G12: 5 | H12: 6 | I12: 7 | J12: 8 | K12: 9 | L12: 10 | M12: 11 | N12: 12 | O12: 13 | P12: 14 | Q12: 15 | R12: 16 | S12: 17 | T12: 18 | U12: 19 | V12: 20 | W12: 21 | X12: 22 | Y12: 23 | Z12: 24 | AA12: 25 | AB12: 26 | AC12: 27 | AD12: 28
A14: 01. | B14: TANAH | C14: - | E14: - | G14: - | H14: - | I14: - | J14: - | K14: - | L14: - | M14: - | N14: - | O14: - | P14: - | AD14: -
A16: 02. | B16: PERALATAN DAN MESIN | O16: =O17+O53+O200+O219+O224+O226+O228 -> 271 | P16: =P17+P53+P200+P219+P224+P226+P228 -> 3940215519 | S16: =S17+S53+S200+S219+S224+S226+S228 -> 3940215519 | U16: =U17+U53+U200+U219+U224+U226+U228 -> 3.7977253e+08 | W16: =W17+W53+W200+W219+W224+W226+W228 -> 45776635 | Y16: =Y17+Y53+Y200+Y219+Y224+Y226+Y228 -> 27461379 | Z16: =Z17+Z53+Z200+Z219+Z224+Z226+Z228 -> 73238013 | AB16: =AB17+AB53+AB200+AB219+AB228 -> 3.8229427e+09 | AC16: =AC17+AC53+AC200+AC219+AC224+AC226+AC228 -> 1.1727286e+08 | AF16: ='[3]BI INTRA 2025'!Z16+'BI BERSIH DARI EKSTRA 2024'!Y16 -> #REF! | AG16: =AB16-AF16 -> #REF!
B17: 1.3.2.02 | C17: a. Alat - Alat Besar | O17: =O19 -> 23 | P17: =P19 -> 2518491500 | S17: =S19 -> 2518491500 | U17: =U19 -> 1.7690593e+08 | W17: =W19 -> 37510143 | Y17: =Y19 -> 22226810 | Z17: =Z19 -> 59736952 | AB17: =AB19 -> 2.4013486e+09 | AC17: =AC19 -> 1.1714286e+08 | AF17: ='[3]BI INTRA 2025'!Z17+'BI BERSIH DARI EKSTRA 2024'!Y17 -> #REF! | AG17: =AB17-AF17 -> #REF!
B18: - | C18: - | E18: - | G18: - | H18: - | I18: - | J18: - | K18: - | L18: - | M18: - | N18: - | O18: - | P18: - | AF18: ='[3]BI INTRA 2025'!Z18+'BI BERSIH DARI EKSTRA 2024'!Y18 -> #REF! | AG18: =AB18-AF18 -> #REF!
B19: 1.3.2.02 | C19: ALAT ANGKUTAN | O19: =O20 -> 23 | P19: =P20 -> 2518491500 | S19: =S20 -> 2518491500 | U19: =U20 -> 1.7690593e+08 | W19: =W20 -> 37510143 | Y19: =Y20 -> 22226810 | Z19: =Z20 -> 59736952 | AB19: =AB20 -> 2.4013486e+09 | AC19: =AC20 -> 1.1714286e+08 | AF19: ='[3]BI INTRA 2025'!Z19+'BI BERSIH DARI EKSTRA 2024'!Y19 -> #REF! | AG19: =AB19-AF19 -> #REF!
B20: 1.3.2.02.02 | C20: ALAT ANGKUTAN DARAT BERMOTOR | O20: =O21+O33+O36 -> 23 | P20: =P21+P33+P36 -> 2518491500 | S20: =S21+S33+S36 -> 2518491500 | U20: =U21+U33+U36 -> 1.7690593e+08 | W20: =W21+W33+W36 -> 37510143 | Y20: =Y21+Y33+Y36 -> 22226810 | Z20: =Z21+Z33+Z36 -> 59736952 | AB20: =AB21+AB33+AB36 -> 2.4013486e+09 | AC20: =AC21+AC33+AC36 -> 1.1714286e+08 | AF20: ='[3]BI INTRA 2025'!Z20+'BI BERSIH DARI EKSTRA 2024'!Y20 -> #REF! | AG20: =AB20-AF20 -> #REF!
B21: 1.3.2.02.01.01 | C21: KENDARAAN DINAS BERMOTOR PERORANGAN | O21: =SUM(O22:O32) -> 10 | P21: =SUM(P22:P32) -> 2069500000 | S21: =SUM(S22:S32) -> 2069500000 | U21: =SUM(U22:U32) -> 1.5628571e+08 | W21: =SUM(W22:W32) -> 34807143 | Y21: =SUM(Y22:Y32) -> 19523810 | Z21: =SUM(Z22:Z32) -> 54330952 | AB21: =SUM(AB22:AB32) -> 1.9523571e+09 | AC21: =SUM(AC22:AC32) -> 1.1714286e+08 | AF21: ='[3]BI INTRA 2025'!Z21+'BI BERSIH DARI EKSTRA 2024'!Y21 -> #REF! | AG21: =AB21-AF21 -> #REF!
B22: 1.3.2.02.01.01.004 | C22: 0002 | E22: Mini Bus | F22: =VLOOKUP(B22,[1]Sheet1!$H$4:$I$15682,2,FALSE) -> Multi Purpose Vehicle (MPV) | G22: Kijang Inova | H22: MHFXW42G2A2161605, 1TR-6931093, BH 1949 Z, H-02365306 F | I22: Besi | J22: APBD | K22: 2010 | L22: - | M22: unit | N22: B | O22: 1 | P22: 218800000 | R22: 0 | S22: =SUM(P22-R22) -> 218800000 | T22: 7 | AA22: 7 | AB22: 218800000 | AC22: =SUM(S22-AB22) -> 0 | AD22: Nurbaiti, S. Sos, M. Si | AF22: ='[3]BI INTRA 2025'!Z22+'BI BERSIH DARI EKSTRA 2024'!Y22 -> #REF! | AG22: =AB22-AF22 -> #REF!
B23: 1.3.2.02.01.01.004 | C23: 0003 | E23: Mini Bus | F23: =VLOOKUP(B23,[1]Sheet1!$H$4:$I$15682,2,FALSE) -> Multi Purpose Vehicle (MPV) | G23: Toyota Avanza | H23: MHFM1BA3JAK233888, DF 62852, BH 1916 Z, H-02365307 F | I23: Besi | J23: APBD | K23: 2010 | L23: - | M23: unit | N23: B | O23: 1 | P23: 147100000 | R23: 0 | S23: =SUM(P23-R23) -> 147100000 | T23: 7 | AA23: 7 | AB23: 147100000 | AC23: =SUM(S23-AB23) -> 0 | AD23: Basri, S. Th. I, M. M | AF23: ='[3]BI INTRA 2025'!Z23+'BI BERSIH DARI EKSTRA 2024'!Y23 -> #REF! | AG23: =AB23-AF23 -> #REF!
B24: 1.3.2.02.01.01.004 | C24: 0004 | E24: Mini Bus | F24: =VLOOKUP(B24,[1]Sheet1!$H$4:$I$15682,2,FALSE) -> Multi Purpose Vehicle (MPV) | G24: Micro Bus 110 ST PS | H24: MHFC1JUX1A5000720, W04DT-PJ11979, BH 7102 HZ, H-01644121 F | I24: Besi | J24: APBD | K24: 2010 | L24: - | M24: unit | N24: B | O24: 1 | P24: 310000000 | R24: 0 | S24: =SUM(P24-R24) -> 310000000 | T24: 7 | AA24: 7 | AB24: 310000000 | AC24: =SUM(S24-AB24) -> 0 | AD24: Pool | AF24: ='[3]BI INTRA 2025'!Z24+'BI BERSIH DARI EKSTRA 2024'!Y24 -> #REF! | AG24: =AB24-AF24 -> #REF!
B25: 1.3.2.02.01.01.004 | C25: 0005 | E25: Mini Bus | F25: =VLOOKUP(B25,[1]Sheet1!$H$4:$I$15682,2,FALSE) -> Multi Purpose Vehicle (MPV) | G25: Toyota Avanza | H25: MHFM1BA3JBK322328, DH58588, BH 1369 Z, H-11430265 F | I25: Besi | J25: APBD | K25: 2011 | L25: - | M25: unit | N25: B | O25: 1 | P25: 150600000 | R25: 0 | S25: =SUM(P25-R25) -> 150600000 | T25: 7 | AA25: 7 | AB25: 150600000 | AC25: =SUM(S25-AB25) -> 0 | AD25: Mirzah Hasinah, S. E | AF25: ='[3]BI INTRA 2025'!Z25+'BI BERSIH DARI EKSTRA 2024'!Y25 -> #REF! | AG25: =AB25-AF25 -> #REF!
B26: 1.3.2.02.01.01.004 | C26: 0006 | E26: Mini Bus | F26: =VLOOKUP(B26,[1]Sheet1!$H$4:$I$15682,2,FALSE) -> Multi Purpose Vehicle (MPV) | G26: Toyota Avanza New G M/T | H26: MHKM1BA3JCK062489, DL08917, BH 1969 AZ, I-10999848 F | I26: Besi | J26: APBD | K26: 2012 | L26: - | M26: unit | N26: B | O26: 1 | P26: 149000000 | R26: 0 | S26: =SUM(P26-R26) -> 149000000 | T26: 7 | AA26: 7 | AB26: 149000000 | AC26: =SUM(S26-AB26) -> 0 | AD26: Drs. Achyar | AF26: ='[3]BI INTRA 2025'!Z26+'BI BERSIH DARI EKSTRA 2024'!Y26 -> #REF! | AG26: =AB26-AF26 -> #REF!
B27: 1.3.2.02.01.01.004 | C27: 0008 | E27: Mini Bus | F27: =VLOOKUP(B27,[1]Sheet1!$H$4:$I$15682,2,FALSE) -> Multi Purpose Vehicle (MPV) | G27: Toyota Rush 1500 G VVTI Manual | H27: MHFE2CJ2JDK034537, DDH5106, BH 1049 AZ, 100513.R00196, K-00103804 F | I27: Besi | J27: APBD | K27: 2013 | L27: - | M27: unit | N27: B | O27: 1 | P27: 186050000 | R27: 0 | S27: =SUM(P27-R27) -> 186050000 | T27: 7 | U27: =SUM(S27/T27) -> 26578571 | AA27: 7 | AB27: =SUM(U27*AA27) -> 186050000 | AC27: =SUM(S27-AB27) -> 0 | AD27: Hj. Zahnidar, S. Pd, M. M | AF27: ='[3]BI INTRA 2025'!Z27+'BI BERSIH DARI EKSTRA 2024'!Y27 -> #REF! | AG27: =AB27-AF27 -> #REF!
B28: 1.3.2.02.01.01.004 | C28: 0009 | E28: Mini Bus | F28: =VLOOKUP(B28,[1]Sheet1!$H$4:$I$15682,2,FALSE) -> Multi Purpose Vehicle (MPV) | G28: Toyota Rush 1500 G VVTI Manual | H28: MHFE2CJ2JDK034526, DDH5242, BH 1050 HZ, 100513.R00194, K-00103805 F | I28: Besi | J28: APBD | K28: 2013 | L28: - | M28: unit | N28: B | O28: 1 | P28: 186050000 | R28: 0 | S28: =SUM(P28-R28) -> 186050000 | T28: 7 | U28: =SUM(S28/T28) -> 26578571 | AA28: 7 | AB28: =SUM(U28*AA28) -> 186050000 | AC28: =SUM(S28-AB28) -> 0 | AD28: Chairun Nasichin, S. Sos, M. Si | AF28: ='[3]BI INTRA 2025'!Z28+'BI BERSIH DARI EKSTRA 2024'!Y28 -> #REF! | AG28: =AB28-AF28 -> #REF!
B29: 1.3.2.02.01.01.004 | C29: 0010 | E29: Mini Bus | F29: =VLOOKUP(B29,[1]Sheet1!$H$4:$I$15682,2,FALSE) -> Multi Purpose Vehicle (MPV) | G29: Phanter | H29: MHCTBR54BXC071458, E071458, BH 1240 AZ, A. No. 8115379 F | I29: Besi | J29: APBD | K29: 1999 | L29: - | M29: unit | N29: B | O29: 1 | P29: 80000000 | R29: 0 | S29: =SUM(P29-R29) -> 80000000 | T29: 7 | U29: =SUM(S29/T29) -> 11428571 | AA29: 7 | AB29: =SUM(U29*AA29) -> 80000000 | AC29: =SUM(S29-AB29) -> 0 | AD29: Pool | AF29: ='[3]BI INTRA 2025'!Z29+'BI BERSIH DARI EKSTRA 2024'!Y29 -> #REF! | AG29: =AB29-AF29 -> #REF!
B30: 1.3.2.02.01.01.004 | C30: 0011 | E30: Mini Bus | F30: =VLOOKUP(B30,[1]Sheet1!$H$4:$I$15682,2,FALSE) -> Multi Purpose Vehicle (MPV) | G30: Daihatsu Luxio | H30: MHKW3CA3JGK016302, 3SZDFZ0435, BH 1406 Z, L-0862978 F | I30: Besi | J30: Hibah dari Kemen PP dan PA RI | K30: 2017 | L30: - | M30: unit | N30: B | O30: 1 | P30: 231900000 | R30: 0 | S30: =SUM(P30-R30) -> 231900000 | T30: 7 | U30: =SUM(S30/T30) -> 33128571 | V30: =2/12 -> 0.16666667 | W30: =U30*V30 -> 5521428.6 | Y30: =U30*X30 -> 0 | Z30: =W30+Y30 -> 5521428.6 | AA30: =2024-K30+V30+X30-2/12 -> 7 | AB30: =U30*AA30 -> 231900000 | AC30: =SUM(S30-AB30) -> 0 | AD30: UPTD Perlindungan Perempuan dan Anak (UPTD PPA) | AF30: ='[3]BI INTRA 2025'!Z30+'BI BERSIH DARI EKSTRA 2024'!Y30 -> #REF! | AG30: =AB30-AF30 -> #REF!
B31: 1.3.2.02.01.01.004 | C31: 0012 | E31: Mini Bus | F31: =VLOOKUP(B31,[1]Sheet1!$H$4:$I$15682,2,FALSE) -> Multi Purpose Vehicle (MPV) | G31: Toyota Innova | H31: MHFAW8EM2K0213830,1TRA670110, BH 41, P06386906 F | I31: Besi | J31: APBD | K31: 2019 | L31: - | M31: unit | N31: B | O31: 1 | P31: 410000000 | R31: 0 | S31: =SUM(P31-R31) -> 410000000 | T31: 7 | U31: =SUM(S31/T31) -> 58571429 | V31: =6/12 -> 0.5 | W31: =U31*V31 -> 29285714 | X31: =4/12 -> 0.33333333 | Y31: =U31*X31 -> 19523810 | Z31: =W31+Y31 -> 48809524 | AA31: =2024-K31+V31+X31-10/12 -> 5 | AB31: =U31*AA31 -> 2.9285714e+08 | AC31: =S31-AB31 -> 1.1714286e+08 | AD31: Drs. R. Najmi | AF31: ='[3]BI INTRA 2025'!Z31+'BI BERSIH DARI EKSTRA 2024'!Y31 -> #REF! | AG31: =AB31-AF31 -> #REF!
AF32: ='[3]BI INTRA 2025'!Z32+'BI BERSIH DARI EKSTRA 2024'!Y32 -> #REF! | AG32: =AB32-AF32 -> #REF!
B33: 1.3.2.02.01.03 | C33: KENDARAAN BERMOTOR ANGKUTAN BARANG | O33: =O34 -> 1 | P33: =P34 -> 304650000 | S33: =S34 -> 304650000 | U33: =U34 -> 0 | W33: =W34 -> 0 | Y33: =Y34 -> 0 | Z33: =Z34 -> 0 | AB33: =AB34 -> 304650000 | AC33: =AC34 -> 0 | AF33: ='[3]BI INTRA 2025'!Z33+'BI BERSIH DARI EKSTRA 2024'!Y33 -> #REF! | AG33: =AB33-AF33 -> #REF!
B34: 1.3.2.02.01.03.002 | C34: 0007 | E34: Mini Bus | F34: =VLOOKUP(B34,[1]Sheet1!$H$4:$I$15682,2,FALSE) -> Pick Up | G34: HILUX DC 2.5 G | H34: MR0FR22G4C0613587, 2KD-S061952, BH 9685 AZ, K-00103631 F | I34: Besi | J34: APBD | K34: 2012 | L34: - | M34: unit | N34: B | O34: 1 | P34: 304650000 | R34: 0 | S34: =SUM(P34-R34) -> 304650000 | T34: 7 | AA34: 7 | AB34: 304650000 | AC34: =SUM(S34-AB34) -> 0 | AD34: Pool | AF34: ='[3]BI INTRA 2025'!Z34+'BI BERSIH DARI EKSTRA 2024'!Y34 -> #REF! | AG34: =AB34-AF34 -> #REF!
AF35: ='[3]BI INTRA 2025'!Z35+'BI BERSIH DARI EKSTRA 2024'!Y35 -> #REF! | AG35: =AB35-AF35 -> #REF!
B36: 1.3.2.02.01.04 | C36: KENDARAAN BERMOTOR BERODA DUA | O36: =SUM(O37:O48) -> 12 | P36: =SUM(P37:P48) -> 144341500 | S36: =SUM(S37:S48) -> 144341500 | U36: =SUM(U37:U48) -> 20620214 | W36: =SUM(W37:W48) -> 2703000 | Y36: =SUM(Y37:Y48) -> 2703000 | Z36: =SUM(Z37:Z48) -> 5406000 | AB36: =SUM(AB37:AB48) -> 144341500 | AC36: =SUM(AC37:AC48) -> 9.3132257e-10 | AF36: ='[3]BI INTRA 2025'!Z36+'BI BERSIH DARI EKSTRA 2024'!Y36 -> #REF! | AG36: =AB36-AF36 -> #REF!
B37: 1.3.2.02.01.04.001 | C37: 0001 | E37: Sepeda Motor | F37: =VLOOKUP(B37,[1]Sheet1!$H$4:$I$15682,2,FALSE) -> Sepeda Motor | G37: Honda Win | H37: MH3.3HB0005TK151, HAE20530338, BH 6718 AZ | I37: Besi | J37: APBD | K37: 1995 | L37: - | M37: unit | N37: B | O37: 1 | P37: 4800000 | R37: 0 | S37: =SUM(P37-R37) -> 4800000 | T37: 7 | U37: =SUM(S37/T37) -> 685714.29 | V37: 0 | W37: =SUM(U37*V37) -> 0 | X37: 0 | Y37: =SUM(U37*X37) -> 0 | Z37: =SUM(W37+Y37) -> 0 | AA37: 7 | AB37: =SUM(U37*AA37) -> 4800000 | AC37: =SUM(S37-AB37) -> 0 | AD37: DP3AP2 | AF37: ='[3]BI INTRA 2025'!Z37+'BI BERSIH DARI EKSTRA 2024'!Y37 -> #REF! | AG37: =AB37-AF37 -> #REF!
B38: 1.3.2.02.01.04.001 | C38: 0002 | E38: Sepeda Motor | F38: =VLOOKUP(B38,[1]Sheet1!$H$4:$I$15682,2,FALSE) -> Sepeda Motor | G38: Yamaha RX 115 | H38: HK117535332, 3HB140259, BH 4839 AZ | I38: Besi | J38: APBD | K38: 1995 | L38: - | M38: unit | N38: B | O38: 1 | P38: 9000000 | R38: 0 | S38: =SUM(P38-R38) -> 9000000 | T38: 7 | U38: =SUM(S38/T38) -> 1285714.3 | V38: 0 | W38: =SUM(U38*V38) -> 0 | X38: 0 | Y38: =SUM(U38*X38) -> 0 | Z38: =SUM(W38+Y38) -> 0 | AA38: 7 | AB38: =SUM(U38*AA38) -> 9000000 | AC38: =SUM(S38-AB38) -> 0 | AD38: Muflihan Chandra, S. H | AF38: ='[3]BI INTRA 2025'!Z38+'BI BERSIH DARI EKSTRA 2024'!Y38 -> #REF! | AG38: =AB38-AF38 -> #REF!
B39: 1.3.2.02.01.04.001 | C39: 0003 | E39: Sepeda Motor | F39: =VLOOKUP(B39,[1]Sheet1!$H$4:$I$15682,2,FALSE) -> Sepeda Motor | G39: Honda Star | H39: MH1GGHA17WK016607, GGHAE-1016478, BH 5720 AZ, A No. 8042328 F | I39: Besi | J39: APBD | K39: 1998 | L39: - | M39: unit | N39: B | O39: 1 | P39: 7400000 | R39: 0 | S39: =SUM(P39-R39) -> 7400000 | T39: 7 | U39: =SUM(S39/T39) -> 1057142.9 | V39: 0 | W39: =SUM(U39*V39) -> 0 | X39: 0 | Y39: =SUM(U39*X39) -> 0 | Z39: =SUM(W39+Y39) -> 0 | AA39: 7 | AB39: =SUM(U39*AA39) -> 7400000 | AC39: =SUM(S39-AB39) -> 9.3132257e-10 | AD39: UP | AF39: ='[3]BI INTRA 2025'!Z39+'BI BERSIH DARI EKSTRA 2024'!Y39 -> #REF! | AG39: =AB39-AF39 -> #REF!
B40: 1.3.2.02.01.04.001 | C40: 0004 | E40: Sepeda Motor | F40: =VLOOKUP(B40,[1]Sheet1!$H$4:$I$15682,2,FALSE) -> Sepeda Motor | G40: Honda Supra X 125 | H40: MH1JB41146K058990, JB41E-1058415, BH 2498 Z | I40: Besi | J40: APBD | K40: 2006 | L40: - | M40: unit | N40: B | O40: 1 | P40: 9000000 | R40: 0 | S40: =SUM(P40-R40) -> 9000000 | T40: 7 | U40: =SUM(S40/T40) -> 1285714.3 | V40: 0 | W40: =SUM(U40*V40) -> 0 | X40: 0 | Y40: =SUM(U40*X40) -> 0 | Z40: =SUM(W40+Y40) -> 0 | AA40: 7 | AB40: =SUM(U40*AA40) -> 9000000 | AC40: =SUM(S40-AB40) -> 0 | AD40: Hendri | AF40: ='[3]BI INTRA 2025'!Z40+'BI BERSIH DARI EKSTRA 2024'!Y40 -> #REF! | AG40: =AB40-AF40 -> #REF!
B41: 1.3.2.02.01.04.001 | C41: 0005 | E41: Sepeda Motor | F41: =VLOOKUP(B41,[1]Sheet1!$H$4:$I$15682,2,FALSE) -> Sepeda Motor | G41: Honda Supra 125 | H41: MH1JB51196K77335, JB51E-1770055, BH 4733 AZ, E No. 1991703 F | I41: Besi | J41: APBD | K41: 2007 | L41: - | M41: unit | N41: B | O41: 1 | P41: 4800000 | R41: 0 | S41: =SUM(P41-R41) -> 4800000 | T41: 7 | U41: =SUM(S41/T41) -> 685714.29 | V41: 0 | W41: =SUM(U41*V41) -> 0 | X41: 0 | Y41: =SUM(U41*X41) -> 0 | Z41: =SUM(W41+Y41) -> 0 | AA41: 7 | AB41: =SUM(U41*AA41) -> 4800000 | AC41: =SUM(S41-AB41) -> 0 | AD41: Pool | AF41: ='[3]BI INTRA 2025'!Z41+'BI BERSIH DARI EKSTRA 2024'!Y41 -> #REF! | AG41: =AB41-AF41 -> #REF!
B42: 1.3.2.02.01.04.001 | C42: 0010 | E42: Sepeda Motor | F42: =VLOOKUP(B42,[1]Sheet1!$H$4:$I$15682,2,FALSE) -> Sepeda Motor | G42: Honda New Supra X 125 CW | H42: MHIJB9128BK600088, JB91E-2590978, BH 2930 HZ, I-00593971 F | I42: Besi | J42: APBD | K42: 2011 | L42: - | M42: unit | N42: B | O42: 1 | P42: 14300000 | R42: 0 | S42: =SUM(P42-R42) -> 14300000 | T42: 7 | U42: =SUM(S42/T42) -> 2042857.1 | V42: =6/12 -> 0.5 | X42: 0 | Y42: =SUM(U42*X42) -> 0 | Z42: =SUM(W42+Y42) -> 0 | AA42: 7 | AB42: =SUM(U42*AA42) -> 14300000 | AC42: =SUM(S42-AB42) -> 0 | AD42: Eti Subiarti, S.E | AF42: ='[3]BI INTRA 2025'!Z42+'BI BERSIH DARI EKSTRA 2024'!Y42 -> #REF! | AG42: =AB42-AF42 -> #REF!
