Workbook

Sheet BI INTRA 2026 smt 1
A1: BUKU INVENTARIS PENYUSUTAN
A2: PER 1 Januari s.d 30 Juni 2026
A4: SKPD | C4: : DINAS PEMBERDAYAAN PEREMPUAN, PERLINDUNGAN ANAK, DAN PENGENDALIAN PENDUDUK PROVINSI JAMBI | R4: Rumus Penyusutan = Nilai Perolehan - Nilai Residu / Masa manfaat
A5: KABUPATEN / KOTA | C5: : JAMBI
A6: PROVINSI | C6: : JAMBI | AB6: NO. KODE LOKASI : | AC6: 11.05.00.15.03
A7: TAHUN | C7: : 2026
A9: NOMOR | E9: SPESIFIKASI BARANG | I9: Bahan | J9: Asal / Cara Perolehan Barang | K9: Tahun Perolehan | L9: Ukuran Barang/ Konstruksi (P,S,D) | M9: Satuan | N9: Keadaan Barang (B/KB/RB) | O9: JUMLAH | Q9: Kolom untuk pengolahan Kapitalisasi atas adanya Rehab dll | R9: Nilai residu | S9: Nilai Perolehan setelah dikurangi nilai Residu | T9: Masa manfaat (tahun) | U9: Beban Penyusutan per tahun | V9: Beban Penyusutan Periode ini | AA9: Penyusutan tahun ke | AB9: Akumulasi Penyusutan | AC9: Nilai Buku | AD9: Lokasi Barang
A10: No. Urut | B10: Kode Barang | C10: Register | D10: Nama Barang Berdasarkan Kodefikasi | E10: Nama / Jenis Barang | F10: NAMA ASET 108 | G10: Merk/Type | H10: No. Sertifikat No. Pabrik No. Chasis No. Mesin, No. Polisi No. BPKB | O10: Barang | P10: Harga | V10: Semester I | X10: Semester II | Z10: Beban Tahun Ini
V11: Waktu | W11: Nilai | X11: Waktu | Y11: Nilai
A12: 1 | B12: 2 | C12: 3 | E12: 4 | G12: 5 | H12: 6 | I12: 7 | J12: 8 | K12: 9 | L12: 10 | M12: 11 | N12: 12 | O12: 13 | P12: 14 | Q12: 15 | R12: 16 | S12: 17 | T12: 18 | U12: 19 | V12: 20 | W12: 21 | X12: 22 | Y12: 23 | Z12: 24 | AA12: 25 | AB12: 26 | AC12: 27 | AD12: 28
A14: 01. | B14: TANAH | C14: - | E14: - | G14: - | H14: - | I14: - | J14: - | K14: - | L14: - | M14: - | N14: - | O14: - | P14: - | AD14: -
A16: 02. | B16: PERALATAN DAN MESIN | F16: =F14-F15 -> 0 | O16: =O17+O53+O200+O219+O224+O226+O228 -> 271 | P16: =P17+P53+P200+P219+P224+P226+P228 -> 3940215519 | S16: =S17+S53+S200+S219+S224+S226+S228 -> 3940215519 | U16: =U17+U53+U200+U219+U224+U226+U228 -> 3.7977253e+08 | W16: =W17+W53+W200+W219+W224+W226+W228 -> 29415714 | Y16: =Y17+Y53+Y200+Y219+Y224+Y226+Y228 -> 0 | Z16: =Z17+Z53+Z200+Z219+Z224+Z226+Z228 -> 29415714 | AB16: =AB17+AB53+AB200+AB219+AB228 -> 3.9206917e+09 | AC16: =AC17+AC53+AC200+AC219+AC224+AC226+AC228 -> 19523810 | AE16: ='BI INTRA 2025'!AB16+'BI INTRA 2026 smt 1'!Y16 -> 3.8621203e+09 | AF16: =AB16-AE16 -> 58571429
B17: 1.3.2.02 | C17: a. Alat - Alat Besar | O17: =O19 -> 23 | P17: =P19 -> 2518491500 | S17: =S19 -> 2518491500 | U17: =U19 -> 1.7690593e+08 | W17: =W19 -> 29285714 | Y17: =Y19 -> 0 | Z17: =Z19 -> 29285714 | AB17: =AB19 -> 2.4989677e+09 | AC17: =AC19 -> 19523810 | AE17: ='BI INTRA 2025'!AB17+'BI INTRA 2026 smt 1'!Y17 -> 2.4403963e+09 | AF17: =AB17-AE17 -> 58571429
B18: - | C18: - | E18: - | G18: - | H18: - | I18: - | J18: - | K18: - | L18: - | M18: - | N18: - | O18: - | P18: - | AE18: ='BI INTRA 2025'!AB18+'BI INTRA 2026 smt 1'!Y18 -> 0 | AF18: =AB18-AE18 -> 0
B19: 1.3.2.02 | C19: ALAT ANGKUTAN | O19: =O20 -> 23 | P19: =P20 -> 2518491500 | S19: =S20 -> 2518491500 | U19: =U20 -> 1.7690593e+08 | W19: =W20 -> 29285714 | Y19: =Y20 -> 0 | Z19: =Z20 -> 29285714 | AB19: =AB20 -> 2.4989677e+09 | AC19: =AC20 -> 19523810 | AE19: ='BI INTRA 2025'!AB19+'BI INTRA 2026 smt 1'!Y19 -> 2.4403963e+09 | AF19: =AB19-AE19 -> 58571429
B20: 1.3.2.02.02 | C20: ALAT ANGKUTAN DARAT BERMOTOR | O20: =O21+O33+O36 -> 23 | P20: =P21+P33+P36 -> 2518491500 | S20: =S21+S33+S36 -> 2518491500 | U20: =U21+U33+U36 -> 1.7690593e+08 | W20: =W21+W33+W36 -> 29285714 | Y20: =Y21+Y33+Y36 -> 0 | Z20: =Z21+Z33+Z36 -> 29285714 | AB20: =AB21+AB33+AB36 -> 2.4989677e+09 | AC20: =AC21+AC33+AC36 -> 19523810 | AE20: ='BI INTRA 2025'!AB20+'BI INTRA 2026 smt 1'!Y20 -> 2.4403963e+09 | AF20: =AB20-AE20 -> 58571429
B21: 1.3.2.02.01.01 | C21: KENDARAAN DINAS BERMOTOR PERORANGAN | O21: =SUM(O22:O32) -> 10 | P21: =SUM(P22:P32) -> 2069500000 | S21: =SUM(S22:S32) -> 2069500000 | U21: =SUM(U22:U32) -> 1.5628571e+08 | W21: =SUM(W22:W32) -> 29285714 | Y21: =SUM(Y22:Y32) -> 0 | Z21: =SUM(Z22:Z32) -> 29285714 | AB21: =SUM(AB22:AB32) -> 2.0499762e+09 | AC21: =SUM(AC22:AC32) -> 19523810 | AE21: ='BI INTRA 2025'!AB21+'BI INTRA 2026 smt 1'!Y21 -> 1.9914048e+09 | AF21: =AB21-AE21 -> 58571429
B22: 1.3.2.02.01.01.004 | C22: 0002 | E22: Mini Bus | F22: =VLOOKUP(B22,[1]Sheet1!$H$4:$I$15682,2,FALSE) -> Multi Purpose Vehicle (MPV) | G22: Kijang Inova | H22: MHFXW42G2A2161605, 1TR-6931093, BH 1949 Z, H-02365306 F | I22: Besi | J22: APBD | K22: 2010 | L22: - | M22: unit | N22: B | O22: 1 | P22: 218800000 | R22: 0 | S22: =SUM(P22-R22) -> 218800000 | T22: 7 | AA22: 7 | AB22: 218800000 | AC22: =SUM(S22-AB22) -> 0 | AD22: Amirzan, S. E | AE22: ='BI INTRA 2025'!AB22+'BI INTRA 2026 smt 1'!Y22 -> 218800000 | AF22: =AB22-AE22 -> 0
B23: 1.3.2.02.01.01.004 | C23: 0003 | E23: Mini Bus | F23: =VLOOKUP(B23,[1]Sheet1!$H$4:$I$15682,2,FALSE) -> Multi Purpose Vehicle (MPV) | G23: Toyota Avanza | H23: MHFM1BA3JAK233888, DF 62852, BH 1916 Z, H-02365307 F | I23: Besi | J23: APBD | K23: 2010 | L23: - | M23: unit | N23: B | O23: 1 | P23: 147100000 | R23: 0 | S23: =SUM(P23-R23) -> 147100000 | T23: 7 | AA23: 7 | AB23: 147100000 | AC23: =SUM(S23-AB23) -> 0 | AD23: Basri, S. Th. I, M. M | AE23: ='BI INTRA 2025'!AB23+'BI INTRA 2026 smt 1'!Y23 -> 147100000 | AF23: =AB23-AE23 -> 0
B24: 1.3.2.02.01.01.004 | C24: 0004 | E24: Mini Bus | F24: =VLOOKUP(B24,[1]Sheet1!$H$4:$I$15682,2,FALSE) -> Multi Purpose Vehicle (MPV) | G24: Micro Bus 110 ST PS | H24: MHFC1JUX1A5000720, W04DT-PJ11979, BH 7102 HZ, H-01644121 F | I24: Besi | J24: APBD | K24: 2010 | L24: - | M24: unit | N24: B | O24: 1 | P24: 310000000 | R24: 0 | S24: =SUM(P24-R24) -> 310000000 | T24: 7 | AA24: 7 | AB24: 310000000 | AC24: =SUM(S24-AB24) -> 0 | AD24: Pool | AE24: ='BI INTRA 2025'!AB24+'BI INTRA 2026 smt 1'!Y24 -> 310000000 | AF24: =AB24-AE24 -> 0
B25: 1.3.2.02.01.01.004 | C25: 0005 | E25: Mini Bus | F25: =VLOOKUP(B25,[1]Sheet1!$H$4:$I$15682,2,FALSE) -> Multi Purpose Vehicle (MPV) | G25: Toyota Avanza | H25: MHFM1BA3JBK322328, DH58588, BH 1369 Z, H-11430265 F | I25: Besi | J25: APBD | K25: 2011 | L25: - | M25: unit | N25: B | O25: 1 | P25: 150600000 | R25: 0 | S25: =SUM(P25-R25) -> 150600000 | T25: 7 | AA25: 7 | AB25: 150600000 | AC25: =SUM(S25-AB25) -> 0 | AD25: Nene Triana, S. STP, M. T | AE25: ='BI INTRA 2025'!AB25+'BI INTRA 2026 smt 1'!Y25 -> 150600000 | AF25: =AB25-AE25 -> 0
B26: 1.3.2.02.01.01.004 | C26: 0006 | E26: Mini Bus | F26: =VLOOKUP(B26,[1]Sheet1!$H$4:$I$15682,2,FALSE) -> Multi Purpose Vehicle (MPV) | G26: Toyota Avanza New G M/T | H26: MHKM1BA3JCK062489, DL08917, BH 1969 AZ, I-10999848 F | I26: Besi | J26: APBD | K26: 2012 | L26: - | M26: unit | N26: B | O26: 1 | P26: 149000000 | R26: 0 | S26: =SUM(P26-R26) -> 149000000 | T26: 7 | AA26: 7 | AB26: 149000000 | AC26: =SUM(S26-AB26) -> 0 | AD26: Drs. Achyar | AE26: ='BI INTRA 2025'!AB26+'BI INTRA 2026 smt 1'!Y26 -> 149000000 | AF26: =AB26-AE26 -> 0
B27: 1.3.2.02.01.01.004 | C27: 0008 | E27: Mini Bus | F27: =VLOOKUP(B27,[1]Sheet1!$H$4:$I$15682,2,FALSE) -> Multi Purpose Vehicle (MPV) | G27: Toyota Rush 1500 G VVTI Manual | H27: MHFE2CJ2JDK034537, DDH5106, BH 1049 AZ, 100513.R00196, K-00103804 F | I27: Besi | J27: APBD | K27: 2013 | L27: - | M27: unit | N27: B | O27: 1 | P27: 186050000 | R27: 0 | S27: =SUM(P27-R27) -> 186050000 | T27: 7 | U27: =SUM(S27/T27) -> 26578571 | AA27: 7 | AB27: =SUM(U27*AA27) -> 186050000 | AC27: =SUM(S27-AB27) -> 0 | AD27: Hj. Zahnidar, S. Pd, M. M | AE27: ='BI INTRA 2025'!AB27+'BI INTRA 2026 smt 1'!Y27 -> 186050000 | AF27: =AB27-AE27 -> 0
B28: 1.3.2.02.01.01.004 | C28: 0009 | E28: Mini Bus | F28: =VLOOKUP(B28,[1]Sheet1!$H$4:$I$15682,2,FALSE) -> Multi Purpose Vehicle (MPV) | G28: Toyota Rush 1500 G VVTI Manual | H28: MHFE2CJ2JDK034526, DDH5242, BH 1050 HZ, 100513.R00194, K-00103805 F | I28: Besi | J28: APBD | K28: 2013 | L28: - | M28: unit | N28: B | O28: 1 | P28: 186050000 | R28: 0 | S28: =SUM(P28-R28) -> 186050000 | T28: 7 | U28: =SUM(S28/T28) -> 26578571 | AA28: 7 | AB28: =SUM(U28*AA28) -> 186050000 | AC28: =SUM(S28-AB28) -> 0 | AD28: Chairun Nasichin, S. Sos, M. Si | AE28: ='BI INTRA 2025'!AB28+'BI INTRA 2026 smt 1'!Y28 -> 186050000 | AF28: =AB28-AE28 -> 0
B29: 1.3.2.02.01.01.004 | C29: 0010 | E29: Mini Bus | F29: =VLOOKUP(B29,[1]Sheet1!$H$4:$I$15682,2,FALSE) -> Multi Purpose Vehicle (MPV) | G29: Phanter | H29: MHCTBR54BXC071458, E071458, BH 1240 AZ, A. No. 8115379 F | I29: Besi | J29: APBD | K29: 1999 | L29: - | M29: unit | N29: B | O29: 1 | P29: 80000000 | R29: 0 | S29: =SUM(P29-R29) -> 80000000 | T29: 7 | U29: =SUM(S29/T29) -> 11428571 | AA29: 7 | AB29: =SUM(U29*AA29) -> 80000000 | AC29: =SUM(S29-AB29) -> 0 | AD29: Pool | AE29: ='BI INTRA 2025'!AB29+'BI INTRA 2026 smt 1'!Y29 -> 80000000 | AF29: =AB29-AE29 -> 0
B30: 1.3.2.02.01.01.004 | C30: 0011 | E30: Mini Bus | F30: =VLOOKUP(B30,[1]Sheet1!$H$4:$I$15682,2,FALSE) -> Multi Purpose Vehicle (MPV) | G30: Daihatsu Luxio | H30: MHKW3CA3JGK016302, 3SZDFZ0435, BH 1406 Z, L-0862978 F | I30: Besi | J30: Hibah dari Kemen PP dan PA RI | K30: 2017 | L30: - | M30: unit | N30: B | O30: 1 | P30: 231900000 | R30: 0 | S30: =SUM(P30-R30) -> 231900000 | T30: 7 | U30: =SUM(S30/T30) -> 33128571 | AA30: 7 | AB30: 231900000 | AC30: =SUM(S30-AB30) -> 0 | AD30: UPTD Perlindungan Perempuan dan Anak (UPTD PPA) | AE30: ='BI INTRA 2025'!AB30+'BI INTRA 2026 smt 1'!Y30 -> 231900000 | AF30: =AB30-AE30 -> 0
B31: 1.3.2.02.01.01.004 | C31: 0012 | E31: Mini Bus | F31: =VLOOKUP(B31,[1]Sheet1!$H$4:$I$15682,2,FALSE) -> Multi Purpose Vehicle (MPV) | G31: Toyota Innova | H31: MHFAW8EM2K0213830,1TRA670110, BH 41, P06386906 F | I31: Besi | J31: APBD | K31: 2019 | L31: - | M31: unit | N31: B | O31: 1 | P31: 410000000 | R31: 0 | S31: =SUM(P31-R31) -> 410000000 | T31: 7 | U31: =SUM(S31/T31) -> 58571429 | V31: 0.5 | W31: =U31*V31 -> 29285714 | X31: 0 | Y31: =U31*X31 -> 0 | Z31: =W31+Y31 -> 29285714 | AA31: =2026-K31+V31+X31-10/12 -> 6.6666667 | AB31: =U31*AA31 -> 3.9047619e+08 | AC31: =S31-AB31 -> 19523810 | AD31: Drs. R. Najmi | AE31: ='BI INTRA 2025'!AB31+'BI INTRA 2026 smt 1'!Y31 -> 3.3190476e+08 | AF31: =AB31-AE31 -> 58571429 | AI31: (koreksi kurang susut)
AE32: ='BI INTRA 2025'!AB32+'BI INTRA 2026 smt 1'!Y32 -> 0 | AF32: =AB32-AE32 -> 0
B33: 1.3.2.02.01.03 | C33: KENDARAAN BERMOTOR ANGKUTAN BARANG | O33: =O34 -> 1 | P33: =P34 -> 304650000 | S33: =S34 -> 304650000 | U33: =U34 -> 0 | W33: =W34 -> 0 | Y33: =Y34 -> 0 | Z33: =Z34 -> 0 | AB33: =AB34 -> 304650000 | AC33: =AC34 -> 0 | AE33: ='BI INTRA 2025'!AB33+'BI INTRA 2026 smt 1'!Y33 -> 304650000 | AF33: =AB33-AE33 -> 0
B34: 1.3.2.02.01.03.002 | C34: 0007 | E34: Mini Bus | F34: =VLOOKUP(B34,[1]Sheet1!$H$4:$I$15682,2,FALSE) -> Pick Up | G34: HILUX DC 2.5 G | H34: MR0FR22G4C0613587, 2KD-S061952, BH 9685 AZ, K-00103631 F | I34: Besi | J34: APBD | K34: 2012 | L34: - | M34: unit | N34: B | O34: 1 | P34: 304650000 | R34: 0 | S34: =SUM(P34-R34) -> 304650000 | T34: 7 | AA34: 7 | AB34: 304650000 | AC34: =SUM(S34-AB34) -> 0 | AD34: Pool | AE34: ='BI INTRA 2025'!AB34+'BI INTRA 2026 smt 1'!Y34 -> 304650000 | AF34: =AB34-AE34 -> 0
AE35: ='BI INTRA 2025'!AB35+'BI INTRA 2026 smt 1'!Y35 -> 0 | AF35: =AB35-AE35 -> 0
B36: 1.3.2.02.01.04 | C36: KENDARAAN BERMOTOR BERODA DUA | O36: =SUM(O37:O48) -> 12 | P36: =SUM(P37:P48) -> 144341500 | S36: =SUM(S37:S48) -> 144341500 | U36: =SUM(U37:U48) -> 20620214 | W36: =SUM(W37:W48) -> 0 | Y36: =SUM(Y37:Y48) -> 0 | Z36: =SUM(Z37:Z48) -> 0 | AB36: =SUM(AB37:AB48) -> 144341500 | AC36: =SUM(AC37:AC48) -> 9.3132257e-10 | AE36: ='BI INTRA 2025'!AB36+'BI INTRA 2026 smt 1'!Y36 -> 144341500 | AF36: =AB36-AE36 -> 0
B37: 1.3.2.02.01.04.001 | C37: 0001 | E37: Sepeda Motor | F37: =VLOOKUP(B37,[1]Sheet1!$H$4:$I$15682,2,FALSE) -> Sepeda Motor | G37: Honda Win | H37: MH3.3HB0005TK151, HAE20530338, BH 6718 AZ | I37: Besi | J37: APBD | K37: 1995 | L37: - | M37: unit | N37: B | O37: 1 | P37: 4800000 | R37: 0 | S37: =SUM(P37-R37) -> 4800000 | T37: 7 | U37: =SUM(S37/T37) -> 685714.29 | V37: 0 | W37: =SUM(U37*V37) -> 0 | X37: 0 | Y37: =SUM(U37*X37) -> 0 | Z37: =SUM(W37+Y37) -> 0 | AA37: 7 | AB37: =SUM(U37*AA37) -> 4800000 | AC37: =SUM(S37-AB37) -> 0 | AD37: DP3AP2 | AE37: ='BI INTRA 2025'!AB37+'BI INTRA 2026 smt 1'!Y37 -> 4800000 | AF37: =AB37-AE37 -> 0
B38: 1.3.2.02.01.04.001 | C38: 0002 | E38: Sepeda Motor | F38: =VLOOKUP(B38,[1]Sheet1!$H$4:$I$15682,2,FALSE) -> Sepeda Motor | G38: Yamaha RX 115 | H38: HK117535332, 3HB140259, BH 4839 AZ | I38: Besi | J38: APBD | K38: 1995 | L38: - | M38: unit | N38: B | O38: 1 | P38: 9000000 | R38: 0 | S38: =SUM(P38-R38) -> 9000000 | T38: 7 | U38: =SUM(S38/T38) -> 1285714.3 | V38: 0 | W38: =SUM(U38*V38) -> 0 | X38: 0 | Y38: =SUM(U38*X38) -> 0 | Z38: =SUM(W38+Y38) -> 0 | AA38: 7 | AB38: =SUM(U38*AA38) -> 9000000 | AC38: =SUM(S38-AB38) -> 0 | AD38: Muflihan Chandra, S. H | AE38: ='BI INTRA 2025'!AB38+'BI INTRA 2026 smt 1'!Y38 -> 9000000 | AF38: =AB38-AE38 -> 0
B39: 1.3.2.02.01.04.001 | C39: 0003 | E39: Sepeda Motor | F39: =VLOOKUP(B39,[1]Sheet1!$H$4:$I$15682,2,FALSE) -> Sepeda Motor | G39: Honda Star | H39: MH1GGHA17WK016607, GGHAE-1016478, BH 5720 AZ, A No. 8042328 F | I39: Besi | J39: APBD | K39: 1998 | L39: - | M39: unit | N39: B | O39: 1 | P39: 7400000 | R39: 0 | S39: =SUM(P39-R39) -> 7400000 | T39: 7 | U39: =SUM(S39/T39) -> 1057142.9 | V39: 0 | W39: =SUM(U39*V39) -> 0 | X39: 0 | Y39: =SUM(U39*X39) -> 0 | Z39: =SUM(W39+Y39) -> 0 | AA39: 7 | AB39: =SUM(U39*AA39) -> 7400000 | AC39: =SUM(S39-AB39) -> 9.3132257e-10 | AD39: UP | AE39: ='BI INTRA 2025'!AB39+'BI INTRA 2026 smt 1'!Y39 -> 7400000 | AF39: =AB39-AE39 -> 0
B40: 1.3.2.02.01.04.001 | C40: 0004 | E40: Sepeda Motor | F40: =VLOOKUP(B40,[1]Sheet1!$H$4:$I$15682,2,FALSE) -> Sepeda Motor | G40: Honda Supra X 125 | H40: MH1JB41146K058990, JB41E-1058415, BH 2498 Z | I40: Besi | J40: APBD | K40: 2006 | L40: - | M40: unit | N40: B | O40: 1 | P40: 9000000 | R40: 0 | S40: =SUM(P40-R40) -> 9000000 | T40: 7 | U40: =SUM(S40/T40) -> 1285714.3 | V40: 0 | W40: =SUM(U40*V40) -> 0 | X40: 0 | Y40: =SUM(U40*X40) -> 0 | Z40: =SUM(W40+Y40) -> 0 | AA40: 7 | AB40: =SUM(U40*AA40) -> 9000000 | AC40: =SUM(S40-AB40) -> 0 | AD40: Hendri | AE40: ='BI INTRA 2025'!AB40+'BI INTRA 2026 smt 1'!Y40 -> 9000000 | AF40: =AB40-AE40 -> 0
B41: 1.3.2.02.01.04.001 | C41: 0005 | E41: Sepeda Motor | F41: =VLOOKUP(B41,[1]Sheet1!$H$4:$I$15682,2,FALSE) -> Sepeda Motor | G41: Honda Supra 125 | H41: MH1JB51196K77335, JB51E-1770055, BH 4733 AZ, E No. 1991703 F | I41: Besi | J41: APBD | K41: 2007 | L41: - | M41: unit | N41: B | O41: 1 | P41: 4800000 | R41: 0 | S41: =SUM(P41-R41) -> 4800000 | T41: 7 | U41: =SUM(S41/T41) -> 685714.29 | V41: 0 | W41: =SUM(U41*V41) -> 0 | X41: 0 | Y41: =SUM(U41*X41) -> 0 | Z41: =SUM(W41+Y41) -> 0 | AA41: 7 | AB41: =SUM(U41*AA41) -> 4800000 | AC41: =SUM(S41-AB41) -> 0 | AD41: Pool | AE41: ='BI INTRA 2025'!AB41+'BI INTRA 2026 smt 1'!Y41 -> 4800000 | AF41: =AB41-AE41 -> 0
B42: 1.3.2.02.01.04.001 | C42: 0010 | E42: Sepeda Motor | F42: =VLOOKUP(B42,[1]Sheet1!$H$4:$I$15682,2,FALSE) -> Sepeda Motor | G42: Honda New Supra X 125 CW | H42: MHIJB9128BK600088, JB91E-2590978, BH 2930 HZ, I-00593971 F | I42: Besi | J42: APBD | K42: 2011 | L42: - | M42: unit | N42: B | O42: 1 | P42: 14300000 | R42: 0 | S42: =SUM(P42-R42) -> 14300000 | T42: 7 | U42: =SUM(S42/T42) -> 2042857.1 | V42: =6/12 -> 0.5 | X42: 0 | Y42: =SUM(U42*X42) -> 0 | Z42: =SUM(W42+Y42) -> 0 | AA42: 7 | AB42: =SUM(U42*AA42) -> 14300000 | AC42: =SUM(S42-AB42) -> 0 | AD42: Eti Subiarti, S.E | AE42: ='BI INTRA 2025'!AB42+'BI INTRA 2026 smt 1'!Y42 -> 14300000 | AF42: =AB42-AE42 -> 0
B43: 1.3.2.02.01.04.001 | C43: 0011 | E43: Sepeda Motor | F43: =VLOOKUP(B43,[1]Sheet1!$H$4:$I$15682,2,FALSE) -> Sepeda Motor | G43: Honda New Supra X 125 CW | H43: MH1JB9123BK600239, JB91E-2591195, BH 2927 HZ, I-00593970 F | I43: Besi | J43: APBD | K43: 2011 | L43: - | M43: unit | N43: B | O43: 1 | P43: 14300000 | R43: 0 | S43: =SUM(P43-R43) -> 14300000 | T43: 7 | U43: =SUM(S43/T43) -> 2042857.1 | V43: =6/12 -> 0.5 | X43: 0 | Y43: =SUM(U43*X43) -> 0 | Z43: =SUM(W43+Y43) -> 0 | AA43: 7 | AB43: =SUM(U43*AA43) -> 14300000 | AC43: =SUM(S43-AB43) -> 0 | AD43: Subbag Program | AE43: ='BI INTRA 2025'!AB43+'BI INTRA 2026 smt 1'!Y43 -> 14300000 | AF43: =AB43-AE43 -> 0
B44: 1.3.2.02.01.04.001 | C44: 0012 | E44: Sepeda Motor | F44: =VLOOKUP(B44,[1]Sheet1!$H$4:$I$15682,2,FALSE) -> Sepeda Motor | G44: Honda New Supra X 125 CW | H44: MH1JB9129BK613738, JB91E-2604124, BH 2926 HZ, I-00593969 F | I44: Besi | J44: APBD | K44: 2011 | L44: - | M44: unit | N44: B | O44: 1 | P44: 14300000 | R44: 0 | S44: =SUM(P44-R44) -> 14300000 | T44: 7 | U44: =SUM(S44/T44) -> 2042857.1 | V44: =6/12 -> 0.5 | X44: 0 | Y44: =SUM(U44*X44) -> 0 | Z44: =SUM(W44+Y44) -> 0 | AA44: 7 | AB44: =SUM(U44*AA44) -> 14300000 | AC44: =SUM(S44-AB44) -> 0 | AD44: Ulil Fahmi, S. Th. I | AE44: ='BI INTRA 2025'!AB44+'BI INTRA 2026 smt 1'!Y44 -> 14300000 | AF44: =AB44-AE44 -> 0
...

Sheet BI INTRA 2025
A1: BUKU INVENTARIS PENYUSUTAN
A2: PER 1 Januari s.d 30 Juni 2025
A4: SKPD | C4: : DINAS PEMBERDAYAAN PEREMPUAN, PERLINDUNGAN ANAK, DAN PENGENDALIAN PENDUDUK PROVINSI JAMBI | R4: Rumus Penyusutan = Nilai Perolehan - Nilai Residu / Masa manfaat
A5: KABUPATEN / KOTA | C5: : JAMBI
A6: PROVINSI | C6: : JAMBI | AB6: NO. KODE LOKASI : | AC6: 11.05.00.15.03
A7: TAHUN | C7: : 2025
A9: NOMOR | E9: SPESIFIKASI BARANG | I9: Bahan | J9: Asal / Cara Perolehan Barang | K9: Tahun Perolehan | L9: Ukuran Barang/ Konstruksi (P,S,D) | M9: Satuan | N9: Keadaan Barang (B/KB/RB) | O9: JUMLAH | Q9: Kolom untuk pengolahan Kapitalisasi atas adanya Rehab dll | R9: Nilai residu | S9: Nilai Perolehan setelah dikurangi nilai Residu | T9: Masa manfaat (tahun) | U9: Beban Penyusutan per tahun | V9: Beban Penyusutan Periode ini | AA9: Penyusutan tahun ke | AB9: Akumulasi Penyusutan | AC9: Nilai Buku | AD9: Lokasi Barang
A10: No. Urut | B10: Kode Barang | C10: Register | D10: Nama Barang Berdasarkan Kodefikasi | E10: Nama / Jenis Barang | F10: NAMA ASET 108 | G10: Merk/Type | H10: No. Sertifikat No. Pabrik No. Chasis No. Mesin, No. Polisi No. BPKB | O10: Barang | P10: Harga | V10: Semester I | X10: Semester II | Z10: Beban Tahun Ini
V11: Waktu | W11: Nilai | X11: Waktu | Y11: Nilai
A12: 1 | B12: 2 | C12: 3 | E12: 4 | G12: 5 | H12: 6 | I12: 7 | J12: 8 | K12: 9 | L12: 10 | M12: 11 | N12: 12 | O12: 13 | P12: 14 | Q12: 15 | R12: 16 | S12: 17 | T12: 18 | U12: 19 | V12: 20 | W12: 21 | X12: 22 | Y12: 23 | Z12: 24 | AA12: 25 | AB12: 26 | AC12: 27 | AD12: 28
A14: 01. | B14: TANAH | C14: - | E14: - | G14: - | H14: - | I14: - | J14: - | K14: - | L14: - | M14: - | N14: - | O14: - | P14: - | AD14: -
A16: 02. | B16: PERALATAN DAN MESIN | F16: =F14-F15 -> 0 | O16: =O17+O53+O200+O219+O224+O226+O228 -> 271 | P16: =P17+P53+P200+P219+P224+P226+P228 -> 3940215519 | S16: =S17+S53+S200+S219+S224+S226+S228 -> 3940215519 | U16: =U17+U53+U200+U219+U224+U226+U228 -> 3.7977253e+08 | W16: =W17+W53+W200+W219+W224+W226+W228 -> 29415714 | Y16: =Y17+Y53+Y200+Y219+Y224+Y226+Y228 -> 0 | Z16: =Z17+Z53+Z200+Z219+Z224+Z226+Z228 -> 29415714 | AB16: =AB17+AB53+AB200+AB219+AB228 -> 3.8621203e+09 | AC16: =AC17+AC53+AC200+AC219+AC224+AC226+AC228 -> 78095238
B17: 1.3.2.02 | C17: a. Alat - Alat Besar | O17: =O19 -> 23 | P17: =P19 -> 2518491500 | S17: =S19 -> 2518491500 | U17: =U19 -> 1.7690593e+08 | W17: =W19 -> 29285714 | Y17: =Y19 -> 0 | Z17: =Z19 -> 29285714 | AB17: =AB19 -> 2.4403963e+09 | AC17: =AC19 -> 78095238
B18: - | C18: - | E18: - | G18: - | H18: - | I18: - | J18: - | K18: - | L18: - | M18: - | N18: - | O18: - | P18: -
B19: 1.3.2.02 | C19: ALAT ANGKUTAN | O19: =O20 -> 23 | P19: =P20 -> 2518491500 | S19: =S20 -> 2518491500 | U19: =U20 -> 1.7690593e+08 | W19: =W20 -> 29285714 | Y19: =Y20 -> 0 | Z19: =Z20 -> 29285714 | AB19: =AB20 -> 2.4403963e+09 | AC19: =AC20 -> 78095238
B20: 1.3.2.02.02 | C20: ALAT ANGKUTAN DARAT BERMOTOR | O20: =O21+O33+O36 -> 23 | P20: =P21+P33+P36 -> 2518491500 | S20: =S21+S33+S36 -> 2518491500 | U20: =U21+U33+U36 -> 1.7690593e+08 | W20: =W21+W33+W36 -> 29285714 | Y20: =Y21+Y33+Y36 -> 0 | Z20: =Z21+Z33+Z36 -> 29285714 | AB20: =AB21+AB33+AB36 -> 2.4403963e+09 | AC20: =AC21+AC33+AC36 -> 78095238
B21: 1.3.2.02.01.01 | C21: KENDARAAN DINAS BERMOTOR PERORANGAN | O21: =SUM(O22:O32) -> 10 | P21: =SUM(P22:P32) -> 2069500000 | S21: =SUM(S22:S32) -> 2069500000 | U21: =SUM(U22:U32) -> 1.5628571e+08 | W21: =SUM(W22:W32) -> 29285714 | Y21: =SUM(Y22:Y32) -> 0 | Z21: =SUM(Z22:Z32) -> 29285714 | AB21: =SUM(AB22:AB32) -> 1.9914048e+09 | AC21: =SUM(AC22:AC32) -> 78095238
B22: 1.3.2.02.01.01.004 | C22: 0002 | E22: Mini Bus | F22: =VLOOKUP(B22,[2]Sheet1!$H$4:$I$15682,2,FALSE) -> Multi Purpose Vehicle (MPV) | G22: Kijang Inova | H22: MHFXW42G2A2161605, 1TR-6931093, BH 1949 Z, H-02365306 F | I22: Besi | J22: APBD | K22: 2010 | L22: - | M22: unit | N22: B | O22: 1 | P22: 218800000 | R22: 0 | S22: =SUM(P22-R22) -> 218800000 | T22: 7 | AA22: 7 | AB22: 218800000 | AC22: =SUM(S22-AB22) -> 0 | AD22: Nurbaiti, S. Sos, M. Si
B23: 1.3.2.02.01.01.004 | C23: 0003 | E23: Mini Bus | F23: =VLOOKUP(B23,[2]Sheet1!$H$4:$I$15682,2,FALSE) -> Multi Purpose Vehicle (MPV) | G23: Toyota Avanza | H23: MHFM1BA3JAK233888, DF 62852, BH 1916 Z, H-02365307 F | I23: Besi | J23: APBD | K23: 2010 | L23: - | M23: unit | N23: B | O23: 1 | P23: 147100000 | R23: 0 | S23: =SUM(P23-R23) -> 147100000 | T23: 7 | AA23: 7 | AB23: 147100000 | AC23: =SUM(S23-AB23) -> 0 | AD23: Basri, S. Th. I, M. M
B24: 1.3.2.02.01.01.004 | C24: 0004 | E24: Mini Bus | F24: =VLOOKUP(B24,[2]Sheet1!$H$4:$I$15682,2,FALSE) -> Multi Purpose Vehicle (MPV) | G24: Micro Bus 110 ST PS | H24: MHFC1JUX1A5000720, W04DT-PJ11979, BH 7102 HZ, H-01644121 F | I24: Besi | J24: APBD | K24: 2010 | L24: - | M24: unit | N24: B | O24: 1 | P24: 310000000 | R24: 0 | S24: =SUM(P24-R24) -> 310000000 | T24: 7 | AA24: 7 | AB24: 310000000 | AC24: =SUM(S24-AB24) -> 0 | AD24: Pool
B25: 1.3.2.02.01.01.004 | C25: 0005 | E25: Mini Bus | F25: =VLOOKUP(B25,[2]Sheet1!$H$4:$I$15682,2,FALSE) -> Multi Purpose Vehicle (MPV) | G25: Toyota Avanza | H25: MHFM1BA3JBK322328, DH58588, BH 1369 Z, H-11430265 F | I25: Besi | J25: APBD | K25: 2011 | L25: - | M25: unit | N25: B | O25: 1 | P25: 150600000 | R25: 0 | S25: =SUM(P25-R25) -> 150600000 | T25: 7 | AA25: 7 | AB25: 150600000 | AC25: =SUM(S25-AB25) -> 0 | AD25: Mirzah Hasinah, S. E
B26: 1.3.2.02.01.01.004 | C26: 0006 | E26: Mini Bus | F26: =VLOOKUP(B26,[2]Sheet1!$H$4:$I$15682,2,FALSE) -> Multi Purpose Vehicle (MPV) | G26: Toyota Avanza New G M/T | H26: MHKM1BA3JCK062489, DL08917, BH 1969 AZ, I-10999848 F | I26: Besi | J26: APBD | K26: 2012 | L26: - | M26: unit | N26: B | O26: 1 | P26: 149000000 | R26: 0 | S26: =SUM(P26-R26) -> 149000000 | T26: 7 | AA26: 7 | AB26: 149000000 | AC26: =SUM(S26-AB26) -> 0 | AD26: Drs. Achyar
B27: 1.3.2.02.01.01.004 | C27: 0008 | E27: Mini Bus | F27: =VLOOKUP(B27,[2]Sheet1!$H$4:$I$15682,2,FALSE) -> Multi Purpose Vehicle (MPV) | G27: Toyota Rush 1500 G VVTI Manual | H27: MHFE2CJ2JDK034537, DDH5106, BH 1049 AZ, 100513.R00196, K-00103804 F | I27: Besi | J27: APBD | K27: 2013 | L27: - | M27: unit | N27: B | O27: 1 | P27: 186050000 | R27: 0 | S27: =SUM(P27-R27) -> 186050000 | T27: 7 | U27: =SUM(S27/T27) -> 26578571 | AA27: 7 | AB27: =SUM(U27*AA27) -> 186050000 | AC27: =SUM(S27-AB27) -> 0 | AD27: Hj. Zahnidar, S. Pd, M. M
B28: 1.3.2.02.01.01.004 | C28: 0009 | E28: Mini Bus | F28: =VLOOKUP(B28,[2]Sheet1!$H$4:$I$15682,2,FALSE) -> Multi Purpose Vehicle (MPV) | G28: Toyota Rush 1500 G VVTI Manual | H28: MHFE2CJ2JDK034526, DDH5242, BH 1050 HZ, 100513.R00194, K-00103805 F | I28: Besi | J28: APBD | K28: 2013 | L28: - | M28: unit | N28: B | O28: 1 | P28: 186050000 | R28: 0 | S28: =SUM(P28-R28) -> 186050000 | T28: 7 | U28: =SUM(S28/T28) -> 26578571 | AA28: 7 | AB28: =SUM(U28*AA28) -> 186050000 | AC28: =SUM(S28-AB28) -> 0 | AD28: Chairun Nasichin, S. Sos, M. Si
B29: 1.3.2.02.01.01.004 | C29: 0010 | E29: Mini Bus | F29: =VLOOKUP(B29,[2]Sheet1!$H$4:$I$15682,2,FALSE) -> Multi Purpose Vehicle (MPV) | G29: Phanter | H29: MHCTBR54BXC071458, E071458, BH 1240 AZ, A. No. 8115379 F | I29: Besi | J29: APBD | K29: 1999 | L29: - | M29: unit | N29: B | O29: 1 | P29: 80000000 | R29: 0 | S29: =SUM(P29-R29) -> 80000000 | T29: 7 | U29: =SUM(S29/T29) -> 11428571 | AA29: 7 | AB29: =SUM(U29*AA29) -> 80000000 | AC29: =SUM(S29-AB29) -> 0 | AD29: Pool
B30: 1.3.2.02.01.01.004 | C30: 0011 | E30: Mini Bus | F30: =VLOOKUP(B30,[2]Sheet1!$H$4:$I$15682,2,FALSE) -> Multi Purpose Vehicle (MPV) | G30: Daihatsu Luxio | H30: MHKW3CA3JGK016302, 3SZDFZ0435, BH 1406 Z, L-0862978 F | I30: Besi | J30: Hibah dari Kemen PP dan PA RI | K30: 2017 | L30: - | M30: unit | N30: B | O30: 1 | P30: 231900000 | R30: 0 | S30: =SUM(P30-R30) -> 231900000 | T30: 7 | U30: =SUM(S30/T30) -> 33128571 | AA30: 7 | AB30: 231900000 | AC30: =SUM(S30-AB30) -> 0 | AD30: UPTD Perlindungan Perempuan dan Anak (UPTD PPA)
B31: 1.3.2.02.01.01.004 | C31: 0012 | E31: Mini Bus | F31: =VLOOKUP(B31,[2]Sheet1!$H$4:$I$15682,2,FALSE) -> Multi Purpose Vehicle (MPV) | G31: Toyota Innova | H31: MHFAW8EM2K0213830,1TRA670110, BH 41, P06386906 F | I31: Besi | J31: APBD | K31: 2019 | L31: - | M31: unit | N31: B | O31: 1 | P31: 410000000 | R31: 0 | S31: =SUM(P31-R31) -> 410000000 | T31: 7 | U31: =SUM(S31/T31) -> 58571429 | V31: 0.5 | W31: =U31*V31 -> 29285714 | Z31: =W31+Y31 -> 29285714 | AA31: =2025-K31+V31+X31-10/12 -> 5.6666667 | AB31: =U31*AA31 -> 3.3190476e+08 | AC31: =S31-AB31 -> 78095238 | AD31: Drs. R. Najmi | AI31: (koreksi kurang susut)
B33: 1.3.2.02.01.03 | C33: KENDARAAN BERMOTOR ANGKUTAN BARANG | O33: =O34 -> 1 | P33: =P34 -> 304650000 | S33: =S34 -> 304650000 | U33: =U34 -> 0 | W33: =W34 -> 0 | Y33: =Y34 -> 0 | Z33: =Z34 -> 0 | AB33: =AB34 -> 304650000 | AC33: =AC34 -> 0
B34: 1.3.2.02.01.03.002 | C34: 0007 | E34: Mini Bus | F34: =VLOOKUP(B34,[2]Sheet1!$H$4:$I$15682,2,FALSE) -> Pick Up | G34: HILUX DC 2.5 G | H34: MR0FR22G4C0613587, 2KD-S061952, BH 9685 AZ, K-00103631 F | I34: Besi | J34: APBD | K34: 2012 | L34: - | M34: unit | N34: B | O34: 1 | P34: 304650000 | R34: 0 | S34: =SUM(P34-R34) -> 304650000 | T34: 7 | AA34: 7 | AB34: 304650000 | AC34: =SUM(S34-AB34) -> 0 | AD34: Pool
B36: 1.3.2.02.01.04 | C36: KENDARAAN BERMOTOR BERODA DUA | O36: =SUM(O37:O48) -> 12 | P36: =SUM(P37:P48) -> 144341500 | S36: =SUM(S37:S48) -> 144341500 | U36: =SUM(U37:U48) -> 20620214 | W36: =SUM(W37:W48) -> 0 | Y36: =SUM(Y37:Y48) -> 0 | Z36: =SUM(Z37:Z48) -> 0 | AB36: =SUM(AB37:AB48) -> 144341500 | AC36: =SUM(AC37:AC48) -> 9.3132257e-10
B37: 1.3.2.02.01.04.001 | C37: 0001 | E37: Sepeda Motor | F37: =VLOOKUP(B37,[2]Sheet1!$H$4:$I$15682,2,FALSE) -> Sepeda Motor | G37: Honda Win | H37: MH3.3HB0005TK151, HAE20530338, BH 6718 AZ | I37: Besi | J37: APBD | K37: 1995 | L37: - | M37: unit | N37: B | O37: 1 | P37: 4800000 | R37: 0 | S37: =SUM(P37-R37) -> 4800000 | T37: 7 | U37: =SUM(S37/T37) -> 685714.29 | V37: 0 | W37: =SUM(U37*V37) -> 0 | X37: 0 | Y37: =SUM(U37*X37) -> 0 | Z37: =SUM(W37+Y37) -> 0 | AA37: 7 | AB37: =SUM(U37*AA37) -> 4800000 | AC37: =SUM(S37-AB37) -> 0 | AD37: DP3AP2
B38: 1.3.2.02.01.04.001 | C38: 0002 | E38: Sepeda Motor | F38: =VLOOKUP(B38,[2]Sheet1!$H$4:$I$15682,2,FALSE) -> Sepeda Motor | G38: Yamaha RX 115 | H38: HK117535332, 3HB140259, BH 4839 AZ | I38: Besi | J38: APBD | K38: 1995 | L38: - | M38: unit | N38: B | O38: 1 | P38: 9000000 | R38: 0 | S38: =SUM(P38-R38) -> 9000000 | T38: 7 | U38: =SUM(S38/T38) -> 1285714.3 | V38: 0 | W38: =SUM(U38*V38) -> 0 | X38: 0 | Y38: =SUM(U38*X38) -> 0 | Z38: =SUM(W38+Y38) -> 0 | AA38: 7 | AB38: =SUM(U38*AA38) -> 9000000 | AC38: =SUM(S38-AB38) -> 0 | AD38: Muflihan Chandra, S. H
B39: 1.3.2.02.01.04.001 | C39: 0003 | E39: Sepeda Motor | F39: =VLOOKUP(B39,[2]Sheet1!$H$4:$I$15682,2,FALSE) -> Sepeda Motor | G39: Honda Star | H39: MH1GGHA17WK016607, GGHAE-1016478, BH 5720 AZ, A No. 8042328 F | I39: Besi | J39: APBD | K39: 1998 | L39: - | M39: unit | N39: B | O39: 1 | P39: 7400000 | R39: 0 | S39: =SUM(P39-R39) -> 7400000 | T39: 7 | U39: =SUM(S39/T39) -> 1057142.9 | V39: 0 | W39: =SUM(U39*V39) -> 0 | X39: 0 | Y39: =SUM(U39*X39) -> 0 | Z39: =SUM(W39+Y39) -> 0 | AA39: 7 | AB39: =SUM(U39*AA39) -> 7400000 | AC39: =SUM(S39-AB39) -> 9.3132257e-10 | AD39: UP
B40: 1.3.2.02.01.04.001 | C40: 0004 | E40: Sepeda Motor | F40: =VLOOKUP(B40,[2]Sheet1!$H$4:$I$15682,2,FALSE) -> Sepeda Motor | G40: Honda Supra X 125 | H40: MH1JB41146K058990, JB41E-1058415, BH 2498 Z | I40: Besi | J40: APBD | K40: 2006 | L40: - | M40: unit | N40: B | O40: 1 | P40: 9000000 | R40: 0 | S40: =SUM(P40-R40) -> 9000000 | T40: 7 | U40: =SUM(S40/T40) -> 1285714.3 | V40: 0 | W40: =SUM(U40*V40) -> 0 | X40: 0 | Y40: =SUM(U40*X40) -> 0 | Z40: =SUM(W40+Y40) -> 0 | AA40: 7 | AB40: =SUM(U40*AA40) -> 9000000 | AC40: =SUM(S40-AB40) -> 0 | AD40: Hendri
B41: 1.3.2.02.01.04.001 | C41: 0005 | E41: Sepeda Motor | F41: =VLOOKUP(B41,[2]Sheet1!$H$4:$I$15682,2,FALSE) -> Sepeda Motor | G41: Honda Supra 125 | H41: MH1JB51196K77335, JB51E-1770055, BH 4733 AZ, E No. 1991703 F | I41: Besi | J41: APBD | K41: 2007 | L41: - | M41: unit | N41: B | O41: 1 | P41: 4800000 | R41: 0 | S41: =SUM(P41-R41) -> 4800000 | T41: 7 | U41: =SUM(S41/T41) -> 685714.29 | V41: 0 | W41: =SUM(U41*V41) -> 0 | X41: 0 | Y41: =SUM(U41*X41) -> 0 | Z41: =SUM(W41+Y41) -> 0 | AA41: 7 | AB41: =SUM(U41*AA41) -> 4800000 | AC41: =SUM(S41-AB41) -> 0 | AD41: Pool
B42: 1.3.2.02.01.04.001 | C42: 0010 | E42: Sepeda Motor | F42: =VLOOKUP(B42,[2]Sheet1!$H$4:$I$15682,2,FALSE) -> Sepeda Motor | G42: Honda New Supra X 125 CW | H42: MHIJB9128BK600088, JB91E-2590978, BH 2930 HZ, I-00593971 F | I42: Besi | J42: APBD | K42: 2011 | L42: - | M42: unit | N42: B | O42: 1 | P42: 14300000 | R42: 0 | S42: =SUM(P42-R42) -> 14300000 | T42: 7 | U42: =SUM(S42/T42) -> 2042857.1 | V42: =6/12 -> 0.5 | X42: 0 | Y42: =SUM(U42*X42) -> 0 | Z42: =SUM(W42+Y42) -> 0 | AA42: 7 | AB42: =SUM(U42*AA42) -> 14300000 | AC42: =SUM(S42-AB42) -> 0 | AD42: Eti Subiarti, S.E
B43: 1.3.2.02.01.04.001 | C43: 0011 | E43: Sepeda Motor | F43: =VLOOKUP(B43,[2]Sheet1!$H$4:$I$15682,2,FALSE) -> Sepeda Motor | G43: Honda New Supra X 125 CW | H43: MH1JB9123BK600239, JB91E-2591195, BH 2927 HZ, I-00593970 F | I43: Besi | J43: APBD | K43: 2011 | L43: - | M43: unit | N43: B | O43: 1 | P43: 14300000 | R43: 0 | S43: =SUM(P43-R43) -> 14300000 | T43: 7 | U43: =SUM(S43/T43) -> 2042857.1 | V43: =6/12 -> 0.5 | X43: 0 | Y43: =SUM(U43*X43) -> 0 | Z43: =SUM(W43+Y43) -> 0 | AA43: 7 | AB43: =SUM(U43*AA43) -> 14300000 | AC43: =SUM(S43-AB43) -> 0 | AD43: Subbag Program
B44: 1.3.2.02.01.04.001 | C44: 0012 | E44: Sepeda Motor | F44: =VLOOKUP(B44,[2]Sheet1!$H$4:$I$15682,2,FALSE) -> Sepeda Motor | G44: Honda New Supra X 125 CW | H44: MH1JB9129BK613738, JB91E-2604124, BH 2926 HZ, I-00593969 F | I44: Besi | J44: APBD | K44: 2011 | L44: - | M44: unit | N44: B | O44: 1 | P44: 14300000 | R44: 0 | S44: =SUM(P44-R44) -> 14300000 | T44: 7 | U44: =SUM(S44/T44) -> 2042857.1 | V44: =6/12 -> 0.5 | X44: 0 | Y44: =SUM(U44*X44) -> 0 | Z44: =SUM(W44+Y44) -> 0 | AA44: 7 | AB44: =SUM(U44*AA44) -> 14300000 | AC44: =SUM(S44-AB44) -> 0 | AD44: Ulil Fahmi, S. Th. I
B45: 1.3.2.02.01.04.001 | C45: 0013 | E45: Sepeda Motor | F45: =VLOOKUP(B45,[2]Sheet1!$H$4:$I$15682,2,FALSE) -> Sepeda Motor | G45: Suzuki Axelo | H45: MH8BF45SADJ 176985, F496-1D 448065, BH 3771 HZ, K-03781638 F | I45: Besi | J45: APBD | K45: 2013 | L45: - | M45: unit | N45: B | O45: 1 | P45: 14914500 | R45: 0 | S45: =SUM(P45-R45) -> 14914500 | T45: 7 | U45: =SUM(S45/T45) -> 2130642.9 | V45: 0 | W45: 0 | X45: 0 | Y45: =SUM(U45*X45) -> 0 | Z45: =SUM(W45+Y45) -> 0 | AA45: 7 | AB45: =SUM(U45*AA45) -> 14914500 | AC45: =SUM(S45-AB45) -> 0 | AD45: Febyanto, S. Th. I
B46: 1.3.2.02.01.04.001 | C46: 0014 | E46: Sepeda Motor | F46: =VLOOKUP(B46,[2]Sheet1!$H$4:$I$15682,2,FALSE) -> Sepeda Motor | G46: Suzuki Sky Drive Racing | H46: MH8CF48NADJ 252494, F4A9-ID 252513, BH 3770 HZ, K-03781644 F | I46: Besi | J46: APBD | K46: 2013 | L46: - | M46: unit | N46: B | O46: 1 | P46: 13685000 | R46: 0 | S46: =SUM(P46-R46) -> 13685000 | T46: 7 | U46: =SUM(S46/T46) -> 1955000 | V46: 0 | W46: 0 | X46: 0 | Y46: =SUM(U46*X46) -> 0 | Z46: =SUM(W46+Y46) -> 0 | AA46: 7 | AB46: =SUM(U46*AA46) -> 13685000 | AC46: =SUM(S46-AB46) -> 0 | AD46: Novi Muthia, S. STP, M. AP
...

Sheet BI INTRA 2025_smt II
A1: BUKU INVENTARIS PENYUSUTAN
A2: PER 1 Januari s.d 30 Juni 2025
A4: SKPD | C4: : DINAS PEMBERDAYAAN PEREMPUAN, PERLINDUNGAN ANAK, DAN PENGENDALIAN PENDUDUK PROVINSI JAMBI | R4: Rumus Penyusutan = Nilai Perolehan - Nilai Residu / Masa manfaat
A5: KABUPATEN / KOTA | C5: : JAMBI
A6: PROVINSI | C6: : JAMBI | AB6: NO. KODE LOKASI : | AC6: 11.05.00.15.03
A7: TAHUN | C7: : 2025
A9: NOMOR | E9: SPESIFIKASI BARANG | I9: Bahan | J9: Asal / Cara Perolehan Barang | K9: Tahun Perolehan | L9: Ukuran Barang/ Konstruksi (P,S,D) | M9: Satuan | N9: Keadaan Barang (B/KB/RB) | O9: JUMLAH | Q9: Kolom untuk pengolahan Kapitalisasi atas adanya Rehab dll | R9: Nilai residu | S9: Nilai Perolehan setelah dikurangi nilai Residu | T9: Masa manfaat (tahun) | U9: Beban Penyusutan per tahun | V9: Beban Penyusutan Periode ini | AA9: Penyusutan tahun ke | AB9: Akumulasi Penyusutan | AC9: Nilai Buku | AD9: Lokasi Barang
A10: No. Urut | B10: Kode Barang | C10: Register | D10: Nama Barang Berdasarkan Kodefikasi | E10: Nama / Jenis Barang | F10: NAMA ASET 108 | G10: Merk/Type | H10: No. Sertifikat No. Pabrik No. Chasis No. Mesin, No. Polisi No. BPKB | O10: Barang | P10: Harga | V10: Semester I | X10: Semester II | Z10: Beban Tahun Ini
V11: Waktu | W11: Nilai | X11: Waktu | Y11: Nilai
A12: 1 | B12: 2 | C12: 3 | E12: 4 | G12: 5 | H12: 6 | I12: 7 | J12: 8 | K12: 9 | L12: 10 | M12: 11 | N12: 12 | O12: 13 | P12: 14 | Q12: 15 | R12: 16 | S12: 17 | T12: 18 | U12: 19 | V12: 20 | W12: 21 | X12: 22 | Y12: 23 | Z12: 24 | AA12: 25 | AB12: 26 | AC12: 27 | AD12: 28
A14: 01. | B14: TANAH | C14: - | E14: - | G14: - | H14: - | I14: - | J14: - | K14: - | L14: - | M14: - | N14: - | O14: - | P14: - | AD14: -
A16: 02. | B16: PERALATAN DAN MESIN | F16: =F14-F15 -> 0 | O16: =O17+O53+O200+O219+O224+O226+O228 -> 271 | P16: =P17+P53+P200+P219+P224+P226+P228 -> 3940215519 | S16: =S17+S53+S200+S219+S224+S226+S228 -> 3940215519 | U16: =U17+U53+U200+U219+U224+U226+U228 -> 3.7977253e+08 | W16: =W17+W53+W200+W219+W224+W226+W228 -> 29415714 | Y16: =Y17+Y53+Y200+Y219+Y224+Y226+Y228 -> 29285714 | Z16: =Z17+Z53+Z200+Z219+Z224+Z226+Z228 -> 58701429 | AB16: =AB17+AB53+AB200+AB219+AB228 -> 3.891406e+09 | AC16: =AC17+AC53+AC200+AC219+AC224+AC226+AC228 -> 48809524 | AE16: ='BI INTRA 2025'!AB16+'BI INTRA 2025_smt II'!Y16 -> 3.891406e+09 | AF16: =AB16-AE16 -> 0
B17: 1.3.2.02 | C17: a. Alat - Alat Besar | O17: =O19 -> 23 | P17: =P19 -> 2518491500 | S17: =S19 -> 2518491500 | U17: =U19 -> 1.7690593e+08 | W17: =W19 -> 29285714 | Y17: =Y19 -> 29285714 | Z17: =Z19 -> 58571429 | AB17: =AB19 -> 2.469682e+09 | AC17: =AC19 -> 48809524 | AE17: ='BI INTRA 2025'!AB17+'BI INTRA 2025_smt II'!Y17 -> 2.469682e+09 | AF17: =AB17-AE17 -> 0
B18: - | C18: - | E18: - | G18: - | H18: - | I18: - | J18: - | K18: - | L18: - | M18: - | N18: - | O18: - | P18: - | AE18: ='BI INTRA 2025'!AB18+'BI INTRA 2025_smt II'!Y18 -> 0 | AF18: =AB18-AE18 -> 0
B19: 1.3.2.02 | C19: ALAT ANGKUTAN | O19: =O20 -> 23 | P19: =P20 -> 2518491500 | S19: =S20 -> 2518491500 | U19: =U20 -> 1.7690593e+08 | W19: =W20 -> 29285714 | Y19: =Y20 -> 29285714 | Z19: =Z20 -> 58571429 | AB19: =AB20 -> 2.469682e+09 | AC19: =AC20 -> 48809524 | AE19: ='BI INTRA 2025'!AB19+'BI INTRA 2025_smt II'!Y19 -> 2.469682e+09 | AF19: =AB19-AE19 -> 0
B20: 1.3.2.02.02 | C20: ALAT ANGKUTAN DARAT BERMOTOR | O20: =O21+O33+O36 -> 23 | P20: =P21+P33+P36 -> 2518491500 | S20: =S21+S33+S36 -> 2518491500 | U20: =U21+U33+U36 -> 1.7690593e+08 | W20: =W21+W33+W36 -> 29285714 | Y20: =Y21+Y33+Y36 -> 29285714 | Z20: =Z21+Z33+Z36 -> 58571429 | AB20: =AB21+AB33+AB36 -> 2.469682e+09 | AC20: =AC21+AC33+AC36 -> 48809524 | AE20: ='BI INTRA 2025'!AB20+'BI INTRA 2025_smt II'!Y20 -> 2.469682e+09 | AF20: =AB20-AE20 -> 0
B21: 1.3.2.02.01.01 | C21: KENDARAAN DINAS BERMOTOR PERORANGAN | O21: =SUM(O22:O32) -> 10 | P21: =SUM(P22:P32) -> 2069500000 | S21: =SUM(S22:S32) -> 2069500000 | U21: =SUM(U22:U32) -> 1.5628571e+08 | W21: =SUM(W22:W32) -> 29285714 | Y21: =SUM(Y22:Y32) -> 29285714 | Z21: =SUM(Z22:Z32) -> 58571429 | AB21: =SUM(AB22:AB32) -> 2.0206905e+09 | AC21: =SUM(AC22:AC32) -> 48809524 | AE21: ='BI INTRA 2025'!AB21+'BI INTRA 2025_smt II'!Y21 -> 2.0206905e+09 | AF21: =AB21-AE21 -> 0
B22: 1.3.2.02.01.01.004 | C22: 0002 | E22: Mini Bus | F22: =VLOOKUP(B22,[1]Sheet1!$H$4:$I$15682,2,FALSE) -> Multi Purpose Vehicle (MPV) | G22: Kijang Inova | H22: MHFXW42G2A2161605, 1TR-6931093, BH 1949 Z, H-02365306 F | I22: Besi | J22: APBD | K22: 2010 | L22: - | M22: unit | N22: B | O22: 1 | P22: 218800000 | R22: 0 | S22: =SUM(P22-R22) -> 218800000 | T22: 7 | AA22: 7 | AB22: 218800000 | AC22: =SUM(S22-AB22) -> 0 | AD22: Amirzan, S. E | AE22: ='BI INTRA 2025'!AB22+'BI INTRA 2025_smt II'!Y22 -> 218800000 | AF22: =AB22-AE22 -> 0
B23: 1.3.2.02.01.01.004 | C23: 0003 | E23: Mini Bus | F23: =VLOOKUP(B23,[1]Sheet1!$H$4:$I$15682,2,FALSE) -> Multi Purpose Vehicle (MPV) | G23: Toyota Avanza | H23: MHFM1BA3JAK233888, DF 62852, BH 1916 Z, H-02365307 F | I23: Besi | J23: APBD | K23: 2010 | L23: - | M23: unit | N23: B | O23: 1 | P23: 147100000 | R23: 0 | S23: =SUM(P23-R23) -> 147100000 | T23: 7 | AA23: 7 | AB23: 147100000 | AC23: =SUM(S23-AB23) -> 0 | AD23: Basri, S. Th. I, M. M | AE23: ='BI INTRA 2025'!AB23+'BI INTRA 2025_smt II'!Y23 -> 147100000 | AF23: =AB23-AE23 -> 0
B24: 1.3.2.02.01.01.004 | C24: 0004 | E24: Mini Bus | F24: =VLOOKUP(B24,[1]Sheet1!$H$4:$I$15682,2,FALSE) -> Multi Purpose Vehicle (MPV) | G24: Micro Bus 110 ST PS | H24: MHFC1JUX1A5000720, W04DT-PJ11979, BH 7102 HZ, H-01644121 F | I24: Besi | J24: APBD | K24: 2010 | L24: - | M24: unit | N24: B | O24: 1 | P24: 310000000 | R24: 0 | S24: =SUM(P24-R24) -> 310000000 | T24: 7 | AA24: 7 | AB24: 310000000 | AC24: =SUM(S24-AB24) -> 0 | AD24: Pool | AE24: ='BI INTRA 2025'!AB24+'BI INTRA 2025_smt II'!Y24 -> 310000000 | AF24: =AB24-AE24 -> 0
B25: 1.3.2.02.01.01.004 | C25: 0005 | E25: Mini Bus | F25: =VLOOKUP(B25,[1]Sheet1!$H$4:$I$15682,2,FALSE) -> Multi Purpose Vehicle (MPV) | G25: Toyota Avanza | H25: MHFM1BA3JBK322328, DH58588, BH 1369 Z, H-11430265 F | I25: Besi | J25: APBD | K25: 2011 | L25: - | M25: unit | N25: B | O25: 1 | P25: 150600000 | R25: 0 | S25: =SUM(P25-R25) -> 150600000 | T25: 7 | AA25: 7 | AB25: 150600000 | AC25: =SUM(S25-AB25) -> 0 | AD25: Nene Triana, S. STP, M. T | AE25: ='BI INTRA 2025'!AB25+'BI INTRA 2025_smt II'!Y25 -> 150600000 | AF25: =AB25-AE25 -> 0
B26: 1.3.2.02.01.01.004 | C26: 0006 | E26: Mini Bus | F26: =VLOOKUP(B26,[1]Sheet1!$H$4:$I$15682,2,FALSE) -> Multi Purpose Vehicle (MPV) | G26: Toyota Avanza New G M/T | H26: MHKM1BA3JCK062489, DL08917, BH 1969 AZ, I-10999848 F | I26: Besi | J26: APBD | K26: 2012 | L26: - | M26: unit | N26: B | O26: 1 | P26: 149000000 | R26: 0 | S26: =SUM(P26-R26) -> 149000000 | T26: 7 | AA26: 7 | AB26: 149000000 | AC26: =SUM(S26-AB26) -> 0 | AD26: Drs. Achyar | AE26: ='BI INTRA 2025'!AB26+'BI INTRA 2025_smt II'!Y26 -> 149000000 | AF26: =AB26-AE26 -> 0
B27: 1.3.2.02.01.01.004 | C27: 0008 | E27: Mini Bus | F27: =VLOOKUP(B27,[1]Sheet1!$H$4:$I$15682,2,FALSE) -> Multi Purpose Vehicle (MPV) | G27: Toyota Rush 1500 G VVTI Manual | H27: MHFE2CJ2JDK034537, DDH5106, BH 1049 AZ, 100513.R00196, K-00103804 F | I27: Besi | J27: APBD | K27: 2013 | L27: - | M27: unit | N27: B | O27: 1 | P27: 186050000 | R27: 0 | S27: =SUM(P27-R27) -> 186050000 | T27: 7 | U27: =SUM(S27/T27) -> 26578571 | AA27: 7 | AB27: =SUM(U27*AA27) -> 186050000 | AC27: =SUM(S27-AB27) -> 0 | AD27: Hj. Zahnidar, S. Pd, M. M | AE27: ='BI INTRA 2025'!AB27+'BI INTRA 2025_smt II'!Y27 -> 186050000 | AF27: =AB27-AE27 -> 0
B28: 1.3.2.02.01.01.004 | C28: 0009 | E28: Mini Bus | F28: =VLOOKUP(B28,[1]Sheet1!$H$4:$I$15682,2,FALSE) -> Multi Purpose Vehicle (MPV) | G28: Toyota Rush 1500 G VVTI Manual | H28: MHFE2CJ2JDK034526, DDH5242, BH 1050 HZ, 100513.R00194, K-00103805 F | I28: Besi | J28: APBD | K28: 2013 | L28: - | M28: unit | N28: B | O28: 1 | P28: 186050000 | R28: 0 | S28: =SUM(P28-R28) -> 186050000 | T28: 7 | U28: =SUM(S28/T28) -> 26578571 | AA28: 7 | AB28: =SUM(U28*AA28) -> 186050000 | AC28: =SUM(S28-AB28) -> 0 | AD28: Chairun Nasichin, S. Sos, M. Si | AE28: ='BI INTRA 2025'!AB28+'BI INTRA 2025_smt II'!Y28 -> 186050000 | AF28: =AB28-AE28 -> 0
B29: 1.3.2.02.01.01.004 | C29: 0010 | E29: Mini Bus | F29: =VLOOKUP(B29,[1]Sheet1!$H$4:$I$15682,2,FALSE) -> Multi Purpose Vehicle (MPV) | G29: Phanter | H29: MHCTBR54BXC071458, E071458, BH 1240 AZ, A. No. 8115379 F | I29: Besi | J29: APBD | K29: 1999 | L29: - | M29: unit | N29: B | O29: 1 | P29: 80000000 | R29: 0 | S29: =SUM(P29-R29) -> 80000000 | T29: 7 | U29: =SUM(S29/T29) -> 11428571 | AA29: 7 | AB29: =SUM(U29*AA29) -> 80000000 | AC29: =SUM(S29-AB29) -> 0 | AD29: Pool | AE29: ='BI INTRA 2025'!AB29+'BI INTRA 2025_smt II'!Y29 -> 80000000 | AF29: =AB29-AE29 -> 0
B30: 1.3.2.02.01.01.004 | C30: 0011 | E30: Mini Bus | F30: =VLOOKUP(B30,[1]Sheet1!$H$4:$I$15682,2,FALSE) -> Multi Purpose Vehicle (MPV) | G30: Daihatsu Luxio | H30: MHKW3CA3JGK016302, 3SZDFZ0435, BH 1406 Z, L-0862978 F | I30: Besi | J30: Hibah dari Kemen PP dan PA RI | K30: 2017 | L30: - | M30: unit | N30: B | O30: 1 | P30: 231900000 | R30: 0 | S30: =SUM(P30-R30) -> 231900000 | T30: 7 | U30: =SUM(S30/T30) -> 33128571 | AA30: 7 | AB30: 231900000 | AC30: =SUM(S30-AB30) -> 0 | AD30: UPTD Perlindungan Perempuan dan Anak (UPTD PPA) | AE30: ='BI INTRA 2025'!AB30+'BI INTRA 2025_smt II'!Y30 -> 231900000 | AF30: =AB30-AE30 -> 0
B31: 1.3.2.02.01.01.004 | C31: 0012 | E31: Mini Bus | F31: =VLOOKUP(B31,[1]Sheet1!$H$4:$I$15682,2,FALSE) -> Multi Purpose Vehicle (MPV) | G31: Toyota Innova | H31: MHFAW8EM2K0213830,1TRA670110, BH 41, P06386906 F | I31: Besi | J31: APBD | K31: 2019 | L31: - | M31: unit | N31: B | O31: 1 | P31: 410000000 | R31: 0 | S31: =SUM(P31-R31) -> 410000000 | T31: 7 | U31: =SUM(S31/T31) -> 58571429 | V31: 0.5 | W31: =U31*V31 -> 29285714 | X31: =6/12 -> 0.5 | Y31: =U31*X31 -> 29285714 | Z31: =W31+Y31 -> 58571429 | AA31: =2025-K31+V31+X31-10/12 -> 6.1666667 | AB31: =U31*AA31 -> 3.6119048e+08 | AC31: =S31-AB31 -> 48809524 | AD31: Drs. R. Najmi | AE31: ='BI INTRA 2025'!AB31+'BI INTRA 2025_smt II'!Y31 -> 3.6119048e+08 | AF31: =AB31-AE31 -> 0 | AI31: (koreksi kurang susut)
AE32: ='BI INTRA 2025'!AB32+'BI INTRA 2025_smt II'!Y32 -> 0 | AF32: =AB32-AE32 -> 0
B33: 1.3.2.02.01.03 | C33: KENDARAAN BERMOTOR ANGKUTAN BARANG | O33: =O34 -> 1 | P33: =P34 -> 304650000 | S33: =S34 -> 304650000 | U33: =U34 -> 0 | W33: =W34 -> 0 | Y33: =Y34 -> 0 | Z33: =Z34 -> 0 | AB33: =AB34 -> 304650000 | AC33: =AC34 -> 0 | AE33: ='BI INTRA 2025'!AB33+'BI INTRA 2025_smt II'!Y33 -> 304650000 | AF33: =AB33-AE33 -> 0
B34: 1.3.2.02.01.03.002 | C34: 0007 | E34: Mini Bus | F34: =VLOOKUP(B34,[1]Sheet1!$H$4:$I$15682,2,FALSE) -> Pick Up | G34: HILUX DC 2.5 G | H34: MR0FR22G4C0613587, 2KD-S061952, BH 9685 AZ, K-00103631 F | I34: Besi | J34: APBD | K34: 2012 | L34: - | M34: unit | N34: B | O34: 1 | P34: 304650000 | R34: 0 | S34: =SUM(P34-R34) -> 304650000 | T34: 7 | AA34: 7 | AB34: 304650000 | AC34: =SUM(S34-AB34) -> 0 | AD34: Pool | AE34: ='BI INTRA 2025'!AB34+'BI INTRA 2025_smt II'!Y34 -> 304650000 | AF34: =AB34-AE34 -> 0
AE35: ='BI INTRA 2025'!AB35+'BI INTRA 2025_smt II'!Y35 -> 0 | AF35: =AB35-AE35 -> 0
B36: 1.3.2.02.01.04 | C36: KENDARAAN BERMOTOR BERODA DUA | O36: =SUM(O37:O48) -> 12 | P36: =SUM(P37:P48) -> 144341500 | S36: =SUM(S37:S48) -> 144341500 | U36: =SUM(U37:U48) -> 20620214 | W36: =SUM(W37:W48) -> 0 | Y36: =SUM(Y37:Y48) -> 0 | Z36: =SUM(Z37:Z48) -> 0 | AB36: =SUM(AB37:AB48) -> 144341500 | AC36: =SUM(AC37:AC48) -> 9.3132257e-10 | AE36: ='BI INTRA 2025'!AB36+'BI INTRA 2025_smt II'!Y36 -> 144341500 | AF36: =AB36-AE36 -> 0
B37: 1.3.2.02.01.04.001 | C37: 0001 | E37: Sepeda Motor | F37: =VLOOKUP(B37,[1]Sheet1!$H$4:$I$15682,2,FALSE) -> Sepeda Motor | G37: Honda Win | H37: MH3.3HB0005TK151, HAE20530338, BH 6718 AZ | I37: Besi | J37: APBD | K37: 1995 | L37: - | M37: unit | N37: B | O37: 1 | P37: 4800000 | R37: 0 | S37: =SUM(P37-R37) -> 4800000 | T37: 7 | U37: =SUM(S37/T37) -> 685714.29 | V37: 0 | W37: =SUM(U37*V37) -> 0 | X37: 0 | Y37: =SUM(U37*X37) -> 0 | Z37: =SUM(W37+Y37) -> 0 | AA37: 7 | AB37: =SUM(U37*AA37) -> 4800000 | AC37: =SUM(S37-AB37) -> 0 | AD37: DP3AP2 | AE37: ='BI INTRA 2025'!AB37+'BI INTRA 2025_smt II'!Y37 -> 4800000 | AF37: =AB37-AE37 -> 0
B38: 1.3.2.02.01.04.001 | C38: 0002 | E38: Sepeda Motor | F38: =VLOOKUP(B38,[1]Sheet1!$H$4:$I$15682,2,FALSE) -> Sepeda Motor | G38: Yamaha RX 115 | H38: HK117535332, 3HB140259, BH 4839 AZ | I38: Besi | J38: APBD | K38: 1995 | L38: - | M38: unit | N38: B | O38: 1 | P38: 9000000 | R38: 0 | S38: =SUM(P38-R38) -> 9000000 | T38: 7 | U38: =SUM(S38/T38) -> 1285714.3 | V38: 0 | W38: =SUM(U38*V38) -> 0 | X38: 0 | Y38: =SUM(U38*X38) -> 0 | Z38: =SUM(W38+Y38) -> 0 | AA38: 7 | AB38: =SUM(U38*AA38) -> 9000000 | AC38: =SUM(S38-AB38) -> 0 | AD38: Muflihan Chandra, S. H | AE38: ='BI INTRA 2025'!AB38+'BI INTRA 2025_smt II'!Y38 -> 9000000 | AF38: =AB38-AE38 -> 0
B39: 1.3.2.02.01.04.001 | C39: 0003 | E39: Sepeda Motor | F39: =VLOOKUP(B39,[1]Sheet1!$H$4:$I$15682,2,FALSE) -> Sepeda Motor | G39: Honda Star | H39: MH1GGHA17WK016607, GGHAE-1016478, BH 5720 AZ, A No. 8042328 F | I39: Besi | J39: APBD | K39: 1998 | L39: - | M39: unit | N39: B | O39: 1 | P39: 7400000 | R39: 0 | S39: =SUM(P39-R39) -> 7400000 | T39: 7 | U39: =SUM(S39/T39) -> 1057142.9 | V39: 0 | W39: =SUM(U39*V39) -> 0 | X39: 0 | Y39: =SUM(U39*X39) -> 0 | Z39: =SUM(W39+Y39) -> 0 | AA39: 7 | AB39: =SUM(U39*AA39) -> 7400000 | AC39: =SUM(S39-AB39) -> 9.3132257e-10 | AD39: UP | AE39: ='BI INTRA 2025'!AB39+'BI INTRA 2025_smt II'!Y39 -> 7400000 | AF39: =AB39-AE39 -> 0
B40: 1.3.2.02.01.04.001 | C40: 0004 | E40: Sepeda Motor | F40: =VLOOKUP(B40,[1]Sheet1!$H$4:$I$15682,2,FALSE) -> Sepeda Motor | G40: Honda Supra X 125 | H40: MH1JB41146K058990, JB41E-1058415, BH 2498 Z | I40: Besi | J40: APBD | K40: 2006 | L40: - | M40: unit | N40: B | O40: 1 | P40: 9000000 | R40: 0 | S40: =SUM(P40-R40) -> 9000000 | T40: 7 | U40: =SUM(S40/T40) -> 1285714.3 | V40: 0 | W40: =SUM(U40*V40) -> 0 | X40: 0 | Y40: =SUM(U40*X40) -> 0 | Z40: =SUM(W40+Y40) -> 0 | AA40: 7 | AB40: =SUM(U40*AA40) -> 9000000 | AC40: =SUM(S40-AB40) -> 0 | AD40: Hendri | AE40: ='BI INTRA 2025'!AB40+'BI INTRA 2025_smt II'!Y40 -> 9000000 | AF40: =AB40-AE40 -> 0
B41: 1.3.2.02.01.04.001 | C41: 0005 | E41: Sepeda Motor | F41: =VLOOKUP(B41,[1]Sheet1!$H$4:$I$15682,2,FALSE) -> Sepeda Motor | G41: Honda Supra 125 | H41: MH1JB51196K77335, JB51E-1770055, BH 4733 AZ, E No. 1991703 F | I41: Besi | J41: APBD | K41: 2007 | L41: - | M41: unit | N41: B | O41: 1 | P41: 4800000 | R41: 0 | S41: =SUM(P41-R41) -> 4800000 | T41: 7 | U41: =SUM(S41/T41) -> 685714.29 | V41: 0 | W41: =SUM(U41*V41) -> 0 | X41: 0 | Y41: =SUM(U41*X41) -> 0 | Z41: =SUM(W41+Y41) -> 0 | AA41: 7 | AB41: =SUM(U41*AA41) -> 4800000 | AC41: =SUM(S41-AB41) -> 0 | AD41: Pool | AE41: ='BI INTRA 2025'!AB41+'BI INTRA 2025_smt II'!Y41 -> 4800000 | AF41: =AB41-AE41 -> 0
B42: 1.3.2.02.01.04.001 | C42: 0010 | E42: Sepeda Motor | F42: =VLOOKUP(B42,[1]Sheet1!$H$4:$I$15682,2,FALSE) -> Sepeda Motor | G42: Honda New Supra X 125 CW | H42: MHIJB9128BK600088, JB91E-2590978, BH 2930 HZ, I-00593971 F | I42: Besi | J42: APBD | K42: 2011 | L42: - | M42: unit | N42: B | O42: 1 | P42: 14300000 | R42: 0 | S42: =SUM(P42-R42) -> 14300000 | T42: 7 | U42: =SUM(S42/T42) -> 2042857.1 | V42: =6/12 -> 0.5 | X42: 0 | Y42: =SUM(U42*X42) -> 0 | Z42: =SUM(W42+Y42) -> 0 | AA42: 7 | AB42: =SUM(U42*AA42) -> 14300000 | AC42: =SUM(S42-AB42) -> 0 | AD42: Eti Subiarti, S.E | AE42: ='BI INTRA 2025'!AB42+'BI INTRA 2025_smt II'!Y42 -> 14300000 | AF42: =AB42-AE42 -> 0
B43: 1.3.2.02.01.04.001 | C43: 0011 | E43: Sepeda Motor | F43: =VLOOKUP(B43,[1]Sheet1!$H$4:$I$15682,2,FALSE) -> Sepeda Motor | G43: Honda New Supra X 125 CW | H43: MH1JB9123BK600239, JB91E-2591195, BH 2927 HZ, I-00593970 F | I43: Besi | J43: APBD | K43: 2011 | L43: - | M43: unit | N43: B | O43: 1 | P43: 14300000 | R43: 0 | S43: =SUM(P43-R43) -> 14300000 | T43: 7 | U43: =SUM(S43/T43) -> 2042857.1 | V43: =6/12 -> 0.5 | X43: 0 | Y43: =SUM(U43*X43) -> 0 | Z43: =SUM(W43+Y43) -> 0 | AA43: 7 | AB43: =SUM(U43*AA43) -> 14300000 | AC43: =SUM(S43-AB43) -> 0 | AD43: Subbag Program | AE43: ='BI INTRA 2025'!AB43+'BI INTRA 2025_smt II'!Y43 -> 14300000 | AF43: =AB43-AE43 -> 0
B44: 1.3.2.02.01.04.001 | C44: 0012 | E44: Sepeda Motor | F44: =VLOOKUP(B44,[1]Sheet1!$H$4:$I$15682,2,FALSE) -> Sepeda Motor | G44: Honda New Supra X 125 CW | H44: MH1JB9129BK613738, JB91E-2604124, BH 2926 HZ, I-00593969 F | I44: Besi | J44: APBD | K44: 2011 | L44: - | M44: unit | N44: B | O44: 1 | P44: 14300000 | R44: 0 | S44: =SUM(P44-R44) -> 14300000 | T44: 7 | U44: =SUM(S44/T44) -> 2042857.1 | V44: =6/12 -> 0.5 | X44: 0 | Y44: =SUM(U44*X44) -> 0 | Z44: =SUM(W44+Y44) -> 0 | AA44: 7 | AB44: =SUM(U44*AA44) -> 14300000 | AC44: =SUM(S44-AB44) -> 0 | AD44: Ulil Fahmi, S. Th. I | AE44: ='BI INTRA 2025'!AB44+'BI INTRA 2025_smt II'!Y44 -> 14300000 | AF44: =AB44-AE44 -> 0
...

Sheet S2 2024 - A
A1: BUKU INVENTARIS PENYUSUTAN
A2: PER 1 Juli s.d 31 Desember 2024
A4: SKPD | C4: : DINAS PEMBERDAYAAN PEREMPUAN, PERLINDUNGAN ANAK, DAN PENGENDALIAN PENDUDUK PROVINSI JAMBI | R4: Rumus Penyusutan = Nilai Perolehan - Nilai Residu / Masa manfaat
A5: KABUPATEN / KOTA | C5: : JAMBI
A6: PROVINSI | C6: : JAMBI | AB6: NO. KODE LOKASI : | AC6: 11.05.00.15.03
A7: TAHUN | C7: : 2024
A9: NOMOR | E9: SPESIFIKASI BARANG | I9: Bahan | J9: Asal / Cara Perolehan Barang | K9: Tahun Perolehan | L9: Ukuran Barang/ Konstruksi (P,S,D) | M9: Satuan | N9: Keadaan Barang (B/KB/RB) | O9: JUMLAH | Q9: Kolom untuk pengolahan Kapitalisasi atas adanya Rehab dll | R9: Nilai residu | S9: Nilai Perolehan setelah dikurangi nilai Residu | T9: Masa manfaat (tahun) | U9: Beban Penyusutan per tahun | V9: Beban Penyusutan Periode ini | AA9: Penyusutan tahun ke | AB9: Akumulasi Penyusutan | AC9: Nilai Buku | AD9: Lokasi Barang
A10: No. Urut | B10: Kode Barang | C10: Register | D10: Nama Barang Berdasarkan Kodefikasi | E10: Nama / Jenis Barang | F10: NAMA ASET 108 | G10: Merk/Type | H10: No. Sertifikat No. Pabrik No. Chasis No. Mesin, No. Polisi No. BPKB | O10: Barang | P10: Harga | V10: Semester I | X10: Semester II | Z10: Beban Tahun Ini
V11: Waktu | W11: Nilai | X11: Waktu | Y11: Nilai
A12: 1 | B12: 2 | C12: 3 | E12: 4 | G12: 5 | H12: 6 | I12: 7 | J12: 8 | K12: 9 | L12: 10 | M12: 11 | N12: 12 | O12: 13 | P12: 14 | Q12: 15 | R12: 16 | S12: 17 | T12: 18 | U12: 19 | V12: 20 | W12: 21 | X12: 22 | Y12: 23 | Z12: 24 | AA12: 25 | AB12: 26 | AC12: 27 | AD12: 28
A14: 01. | B14: TANAH | C14: - | E14: - | G14: - | H14: - | I14: - | J14: - | K14: - | L14: - | M14: - | N14: - | O14: - | P14: - | AD14: -
A16: 02. | B16: PERALATAN DAN MESIN | O16: =O17+O53+O200+O219+O224+O226+O228 -> 271 | P16: =P17+P53+P200+P219+P224+P226+P228 -> 3940215519 | S16: =S17+S53+S200+S219+S224+S226+S228 -> 3940215519 | U16: =U17+U53+U200+U219+U224+U226+U228 -> 3.7977253e+08 | W16: =W17+W53+W200+W219+W224+W226+W228 -> 45776635 | Y16: =Y17+Y53+Y200+Y219+Y224+Y226+Y228 -> 27461379 | Z16: =Z17+Z53+Z200+Z219+Z224+Z226+Z228 -> 73238013 | AB16: =AB17+AB53+AB200+AB219+AB228 -> 3.8229427e+09 | AC16: =AC17+AC53+AC200+AC219+AC224+AC226+AC228 -> 1.1727286e+08 | AF16: ='[3]BI INTRA 2025'!Z16+'S2 2024 - A'!Y16 -> #REF! | AG16: =AB16-AF16 -> #REF!
B17: 1.3.2.02 | C17: a. Alat - Alat Besar | O17: =O19 -> 23 | P17: =P19 -> 2518491500 | S17: =S19 -> 2518491500 | U17: =U19 -> 1.7690593e+08 | W17: =W19 -> 37510143 | Y17: =Y19 -> 22226810 | Z17: =Z19 -> 59736952 | AB17: =AB19 -> 2.4013486e+09 | AC17: =AC19 -> 1.1714286e+08 | AF17: ='[3]BI INTRA 2025'!Z17+'S2 2024 - A'!Y17 -> #REF! | AG17: =AB17-AF17 -> #REF!
B18: - | C18: - | E18: - | G18: - | H18: - | I18: - | J18: - | K18: - | L18: - | M18: - | N18: - | O18: - | P18: - | AF18: ='[3]BI INTRA 2025'!Z18+'S2 2024 - A'!Y18 -> #REF! | AG18: =AB18-AF18 -> #REF!
B19: 1.3.2.02 | C19: ALAT ANGKUTAN | O19: =O20 -> 23 | P19: =P20 -> 2518491500 | S19: =S20 -> 2518491500 | U19: =U20 -> 1.7690593e+08 | W19: =W20 -> 37510143 | Y19: =Y20 -> 22226810 | Z19: =Z20 -> 59736952 | AB19: =AB20 -> 2.4013486e+09 | AC19: =AC20 -> 1.1714286e+08 | AF19: ='[3]BI INTRA 2025'!Z19+'S2 2024 - A'!Y19 -> #REF! | AG19: =AB19-AF19 -> #REF!
B20: 1.3.2.02.02 | C20: ALAT ANGKUTAN DARAT BERMOTOR | O20: =O21+O33+O36 -> 23 | P20: =P21+P33+P36 -> 2518491500 | S20: =S21+S33+S36 -> 2518491500 | U20: =U21+U33+U36 -> 1.7690593e+08 | W20: =W21+W33+W36 -> 37510143 | Y20: =Y21+Y33+Y36 -> 22226810 | Z20: =Z21+Z33+Z36 -> 59736952 | AB20: =AB21+AB33+AB36 -> 2.4013486e+09 | AC20: =AC21+AC33+AC36 -> 1.1714286e+08 | AF20: ='[3]BI INTRA 2025'!Z20+'S2 2024 - A'!Y20 -> #REF! | AG20: =AB20-AF20 -> #REF!
B21: 1.3.2.02.01.01 | C21: KENDARAAN DINAS BERMOTOR PERORANGAN | O21: =SUM(O22:O32) -> 10 | P21: =SUM(P22:P32) -> 2069500000 | S21: =SUM(S22:S32) -> 2069500000 | U21: =SUM(U22:U32) -> 1.5628571e+08 | W21: =SUM(W22:W32) -> 34807143 | Y21: =SUM(Y22:Y32) -> 19523810 | Z21: =SUM(Z22:Z32) -> 54330952 | AB21: =SUM(AB22:AB32) -> 1.9523571e+09 | AC21: =SUM(AC22:AC32) -> 1.1714286e+08 | AF21: ='[3]BI INTRA 2025'!Z21+'S2 2024 - A'!Y21 -> #REF! | AG21: =AB21-AF21 -> #REF!
B22: 1.3.2.02.01.01.004 | C22: 0002 | E22: Mini Bus | F22: =VLOOKUP(B22,[1]Sheet1!$H$4:$I$15682,2,FALSE) -> Multi Purpose Vehicle (MPV) | G22: Kijang Inova | H22: MHFXW42G2A2161605, 1TR-6931093, BH 1949 Z, H-02365306 F | I22: Besi | J22: APBD | K22: 2010 | L22: - | M22: unit | N22: B | O22: 1 | P22: 218800000 | R22: 0 | S22: =SUM(P22-R22) -> 218800000 | T22: 7 | AA22: 7 | AB22: 218800000 | AC22: =SUM(S22-AB22) -> 0 | AD22: Nurbaiti, S. Sos, M. Si | AF22: ='[3]BI INTRA 2025'!Z22+'S2 2024 - A'!Y22 -> #REF! | AG22: =AB22-AF22 -> #REF!
B23: 1.3.2.02.01.01.004 | C23: 0003 | E23: Mini Bus | F23: =VLOOKUP(B23,[1]Sheet1!$H$4:$I$15682,2,FALSE) -> Multi Purpose Vehicle (MPV) | G23: Toyota Avanza | H23: MHFM1BA3JAK233888, DF 62852, BH 1916 Z, H-02365307 F | I23: Besi | J23: APBD | K23: 2010 | L23: - | M23: unit | N23: B | O23: 1 | P23: 147100000 | R23: 0 | S23: =SUM(P23-R23) -> 147100000 | T23: 7 | AA23: 7 | AB23: 147100000 | AC23: =SUM(S23-AB23) -> 0 | AD23: Basri, S. Th. I, M. M | AF23: ='[3]BI INTRA 2025'!Z23+'S2 2024 - A'!Y23 -> #REF! | AG23: =AB23-AF23 -> #REF!
B24: 1.3.2.02.01.01.004 | C24: 0004 | E24: Mini Bus | F24: =VLOOKUP(B24,[1]Sheet1!$H$4:$I$15682,2,FALSE) -> Multi Purpose Vehicle (MPV) | G24: Micro Bus 110 ST PS | H24: MHFC1JUX1A5000720, W04DT-PJ11979, BH 7102 HZ, H-01644121 F | I24: Besi | J24: APBD | K24: 2010 | L24: - | M24: unit | N24: B | O24: 1 | P24: 310000000 | R24: 0 | S24: =SUM(P24-R24) -> 310000000 | T24: 7 | AA24: 7 | AB24: 310000000 | AC24: =SUM(S24-AB24) -> 0 | AD24: Pool | AF24: ='[3]BI INTRA 2025'!Z24+'S2 2024 - A'!Y24 -> #REF! | AG24: =AB24-AF24 -> #REF!
B25: 1.3.2.02.01.01.004 | C25: 0005 | E25: Mini Bus | F25: =VLOOKUP(B25,[1]Sheet1!$H$4:$I$15682,2,FALSE) -> Multi Purpose Vehicle (MPV) | G25: Toyota Avanza | H25: MHFM1BA3JBK322328, DH58588, BH 1369 Z, H-11430265 F | I25: Besi | J25: APBD | K25: 2011 | L25: - | M25: unit | N25: B | O25: 1 | P25: 150600000 | R25: 0 | S25: =SUM(P25-R25) -> 150600000 | T25: 7 | AA25: 7 | AB25: 150600000 | AC25: =SUM(S25-AB25) -> 0 | AD25: Mirzah Hasinah, S. E | AF25: ='[3]BI INTRA 2025'!Z25+'S2 2024 - A'!Y25 -> #REF! | AG25: =AB25-AF25 -> #REF!
B26: 1.3.2.02.01.01.004 | C26: 0006 | E26: Mini Bus | F26: =VLOOKUP(B26,[1]Sheet1!$H$4:$I$15682,2,FALSE) -> Multi Purpose Vehicle (MPV) | G26: Toyota Avanza New G M/T | H26: MHKM1BA3JCK062489, DL08917, BH 1969 AZ, I-10999848 F | I26: Besi | J26: APBD | K26: 2012 | L26: - | M26: unit | N26: B | O26: 1 | P26: 149000000 | R26: 0 | S26: =SUM(P26-R26) -> 149000000 | T26: 7 | AA26: 7 | AB26: 149000000 | AC26: =SUM(S26-AB26) -> 0 | AD26: Drs. Achyar | AF26: ='[3]BI INTRA 2025'!Z26+'S2 2024 - A'!Y26 -> #REF! | AG26: =AB26-AF26 -> #REF!
B27: 1.3.2.02.01.01.004 | C27: 0008 | E27: Mini Bus | F27: =VLOOKUP(B27,[1]Sheet1!$H$4:$I$15682,2,FALSE) -> Multi Purpose Vehicle (MPV) | G27: Toyota Rush 1500 G VVTI Manual | H27: MHFE2CJ2JDK034537, DDH5106, BH 1049 AZ, 100513.R00196, K-00103804 F | I27: Besi | J27: APBD | K27: 2013 | L27: - | M27: unit | N27: B | O27: 1 | P27: 186050000 | R27: 0 | S27: =SUM(P27-R27) -> 186050000 | T27: 7 | U27: =SUM(S27/T27) -> 26578571 | AA27: 7 | AB27: =SUM(U27*AA27) -> 186050000 | AC27: =SUM(S27-AB27) -> 0 | AD27: Hj. Zahnidar, S. Pd, M. M | AF27: ='[3]BI INTRA 2025'!Z27+'S2 2024 - A'!Y27 -> #REF! | AG27: =AB27-AF27 -> #REF!
B28: 1.3.2.02.01.01.004 | C28: 0009 | E28: Mini Bus | F28: =VLOOKUP(B28,[1]Sheet1!$H$4:$I$15682,2,FALSE) -> Multi Purpose Vehicle (MPV) | G28: Toyota Rush 1500 G VVTI Manual | H28: MHFE2CJ2JDK034526, DDH5242, BH 1050 HZ, 100513.R00194, K-00103805 F | I28: Besi | J28: APBD | K28: 2013 | L28: - | M28: unit | N28: B | O28: 1 | P28: 186050000 | R28: 0 | S28: =SUM(P28-R28) -> 186050000 | T28: 7 | U28: =SUM(S28/T28) -> 26578571 | AA28: 7 | AB28: =SUM(U28*AA28) -> 186050000 | AC28: =SUM(S28-AB28) -> 0 | AD28: Chairun Nasichin, S. Sos, M. Si | AF28: ='[3]BI INTRA 2025'!Z28+'S2 2024 - A'!Y28 -> #REF! | AG28: =AB28-AF28 -> #REF!
B29: 1.3.2.02.01.01.004 | C29: 0010 | E29: Mini Bus | F29: =VLOOKUP(B29,[1]Sheet1!$H$4:$I$15682,2,FALSE) -> Multi Purpose Vehicle (MPV) | G29: Phanter | H29: MHCTBR54BXC071458, E071458, BH 1240 AZ, A. No. 8115379 F | I29: Besi | J29: APBD | K29: 1999 | L29: - | M29: unit | N29: B | O29: 1 | P29: 80000000 | R29: 0 | S29: =SUM(P29-R29) -> 80000000 | T29: 7 | U29: =SUM(S29/T29) -> 11428571 | AA29: 7 | AB29: =SUM(U29*AA29) -> 80000000 | AC29: =SUM(S29-AB29) -> 0 | AD29: Pool | AF29: ='[3]BI INTRA 2025'!Z29+'S2 2024 - A'!Y29 -> #REF! | AG29: =AB29-AF29 -> #REF!
B30: 1.3.2.02.01.01.004 | C30: 0011 | E30: Mini Bus | F30: =VLOOKUP(B30,[1]Sheet1!$H$4:$I$15682,2,FALSE) -> Multi Purpose Vehicle (MPV) | G30: Daihatsu Luxio | H30: MHKW3CA3JGK016302, 3SZDFZ0435, BH 1406 Z, L-0862978 F | I30: Besi | J30: Hibah dari Kemen PP dan PA RI | K30: 2017 | L30: - | M30: unit | N30: B | O30: 1 | P30: 231900000 | R30: 0 | S30: =SUM(P30-R30) -> 231900000 | T30: 7 | U30: =SUM(S30/T30) -> 33128571 | V30: =2/12 -> 0.16666667 | W30: =U30*V30 -> 5521428.6 | Y30: =U30*X30 -> 0 | Z30: =W30+Y30 -> 5521428.6 | AA30: =2024-K30+V30+X30-2/12 -> 7 | AB30: =U30*AA30 -> 231900000 | AC30: =SUM(S30-AB30) -> 0 | AD30: UPTD Perlindungan Perempuan dan Anak (UPTD PPA) | AF30: ='[3]BI INTRA 2025'!Z30+'S2 2024 - A'!Y30 -> #REF! | AG30: =AB30-AF30 -> #REF!
B31: 1.3.2.02.01.01.004 | C31: 0012 | E31: Mini Bus | F31: =VLOOKUP(B31,[1]Sheet1!$H$4:$I$15682,2,FALSE) -> Multi Purpose Vehicle (MPV) | G31: Toyota Innova | H31: MHFAW8EM2K0213830,1TRA670110, BH 41, P06386906 F | I31: Besi | J31: APBD | K31: 2019 | L31: - | M31: unit | N31: B | O31: 1 | P31: 410000000 | R31: 0 | S31: =SUM(P31-R31) -> 410000000 | T31: 7 | U31: =SUM(S31/T31) -> 58571429 | V31: =6/12 -> 0.5 | W31: =U31*V31 -> 29285714 | X31: =4/12 -> 0.33333333 | Y31: =U31*X31 -> 19523810 | Z31: =W31+Y31 -> 48809524 | AA31: =2024-K31+V31+X31-10/12 -> 5 | AB31: =U31*AA31 -> 2.9285714e+08 | AC31: =S31-AB31 -> 1.1714286e+08 | AD31: Drs. R. Najmi | AF31: ='[3]BI INTRA 2025'!Z31+'S2 2024 - A'!Y31 -> #REF! | AG31: =AB31-AF31 -> #REF!
AF32: ='[3]BI INTRA 2025'!Z32+'S2 2024 - A'!Y32 -> #REF! | AG32: =AB32-AF32 -> #REF!
B33: 1.3.2.02.01.03 | C33: KENDARAAN BERMOTOR ANGKUTAN BARANG | O33: =O34 -> 1 | P33: =P34 -> 304650000 | S33: =S34 -> 304650000 | U33: =U34 -> 0 | W33: =W34 -> 0 | Y33: =Y34 -> 0 | Z33: =Z34 -> 0 | AB33: =AB34 -> 304650000 | AC33: =AC34 -> 0 | AF33: ='[3]BI INTRA 2025'!Z33+'S2 2024 - A'!Y33 -> #REF! | AG33: =AB33-AF33 -> #REF!
