Workbook

Sheet BI TAHUN 2022 108
A1: BUKU INVENTARIS
A2: SEMESTER I
A3: TAHUN 2023
A4: NOMOR | D4: SPESIFIKASI BARANG | G4: Bahan | H4: Asal / Cara Perolehan Barang | I4: Tahun Perolehan | J4: Ukuran Barang Kontruksi | K4: Satuan | L4: Keadaan Barang | M4: JUMLAH | P4: Tabel Bantu untuk Nilai Buku Aset yang ada Rehab / Penambahan Belanja | Q4: Nilai Residu | S4: Nilai Perolehan setelah dikurangi Nilai Residu | T4: Masa Manfaat (Tahun) | U4: Beban Penyusutan Per Tahun | V4: Beban Penyusutan Periode ini | Z4: Beban Tahun Ini | AA4: Penyusut an Tahun ke - | AB4: Akumulasi Penyusutan | AC4: Nilai Buku | AD4: Lokasi Barang | AE4: Keterangan
A5: No. Urut | B5: Kode Barang | C5: Register | D5: Nama/Jenis Barang | E5: Merk/Type | F5: No. Sertifikat / No. Plat Kendaraan / No. Pabrik / No. Casis | M5: Barang | N5: Harga Satuan | O5: Harga Perolehan | Q5: Tarif Nilai Residu (% dari Harga Perolehan) | R5: N I L A I R E SI D U | V5: Semester I | X5: Semester II
L6: (B/KB/RB) | V6: Waktu | W6: Nilai | X6: Waktu | Y6: Nilai
A7: 1 | B7: 2 | C7: 3 | D7: 4 | E7: 5 | F7: 6 | G7: 7 | H7: 8 | I7: 9 | J7: 10 | K7: 11 | L7: 12 | M7: 13 | N7: 14 | O7: 15 | P7: 16 | Q7: 17 | R7: 18 | S7: 19 | T7: 20 | U7: 21 | V7: 22 | W7: 23 | X7: 24 | Y7: 25 | Z7: 26 | AA7: 27 | AB7: 28 | AC7: 29 | AD7: 30 | AE7: 31 | AF7: =AC30-AF8 -> 0
A8: 1 | B8: 1.3.1 | D8: TANAH | M8: =M9+M14+M19+M24 -> 0 | O8: =O9+O14+O19+O24 -> 0 | P8: =P9+P14+P19+P24 -> 0 | Q8: =Q9+Q14+Q19+Q24 -> 0 | R8: =R9+R14+R19+R24 -> 0 | S8: =S9+S14+S19+S24 -> 0 | U8: =U9+U14+U19+U24 -> 0 | W8: =W9+W14+W19+W24 -> 0 | Y8: =Y9+Y14+Y19+Y24 -> 0 | Z8: =Z9+Z14+Z19+Z24 -> 0 | AB8: =AB9+AB14+AB19+AB24 -> 0 | AC8: =AC9+AC14+AC19+AC24 -> 0 | AF8: 1.1152137e+09
B9: 1.3.1.01 | D9: TANAH | M9: =SUM(M10:M13) -> 0 | O9: =SUM(O10:O13) -> 0 | P9: =SUM(P10:P13) -> 0 | Q9: =SUM(Q10:Q13) -> 0 | R9: =SUM(R10:R13) -> 0 | S9: =SUM(S10:S13) -> 0 | U9: =SUM(U10:U13) -> 0 | W9: =SUM(W10:W13) -> 0 | Y9: =SUM(Y10:Y13) -> 0 | Z9: =SUM(Z10:Z13) -> 0 | AB9: =SUM(AB10:AB13) -> 0 | AC9: =SUM(AC10:AC13) -> 0
B14: 1.3.1.01.01 | D14: TANAH PERSIL | M14: =SUM(M15:M18) -> 0 | O14: =SUM(O15:O18) -> 0 | P14: =SUM(P15:P18) -> 0 | Q14: =SUM(Q15:Q18) -> 0 | R14: =SUM(R15:R18) -> 0 | S14: =SUM(S15:S18) -> 0 | U14: =SUM(U15:U18) -> 0 | W14: =SUM(W15:W18) -> 0 | Y14: =SUM(Y15:Y18) -> 0 | Z14: =SUM(Z15:Z18) -> 0 | AB14: =SUM(AB15:AB18) -> 0 | AC14: =SUM(AC15:AC18) -> 0
B19: 1.3.1.01.02 | D19: TANAH NON PERSIL | M19: =SUM(M20:M23) -> 0 | O19: =SUM(O20:O23) -> 0 | P19: =SUM(P20:P23) -> 0 | Q19: =SUM(Q20:Q23) -> 0 | R19: =SUM(R20:R23) -> 0 | S19: =SUM(S20:S23) -> 0 | U19: =SUM(U20:U23) -> 0 | W19: =SUM(W20:W23) -> 0 | Y19: =SUM(Y20:Y23) -> 0 | Z19: =SUM(Z20:Z23) -> 0 | AB19: =SUM(AB20:AB23) -> 0 | AC19: =SUM(AC20:AC23) -> 0
B24: 1.3.1.01.03 | D24: LAPANGAN | M24: =SUM(M25:M28) -> 0 | O24: =SUM(O25:O28) -> 0 | P24: =SUM(P25:P28) -> 0 | Q24: =SUM(Q25:Q28) -> 0 | R24: =SUM(R25:R28) -> 0 | S24: =SUM(S25:S28) -> 0 | U24: =SUM(U25:U28) -> 0 | W24: =SUM(W25:W28) -> 0 | Y24: =SUM(Y25:Y28) -> 0 | Z24: =SUM(Z25:Z28) -> 0 | AB24: =SUM(AB25:AB28) -> 0 | AC24: =SUM(AC25:AC28) -> 0
A30: 2 | B30: 1.3.2 | D30: PERALATAN DAN MESIN | M30: =SUM(M31+M44+M101+M742+M764+M802+M999) -> 4998 | O30: =SUM(O31+O44+O101+O742+O764+O802+O999) -> 1.2692433e+10 | P30: =P31+P44+P89+P96+P101+P742+P764+P772+P793+P802+P951+P956+P961+P970+P977+P986+P989+P992+P999 -> 3121945214 | Q30: =Q31+Q44+Q89+Q96+Q101+Q742+Q764+Q772+Q793+Q802+Q951+Q956+Q961+Q970+Q977+Q986+Q989+Q992+Q999 -> 0 | R30: =R31+R44+R89+R96+R101+R742+R764+R772+R793+R802+R951+R956+R961+R970+R977+R986+R989+R992+R999 -> 0 | S30: =SUM(S31+S44+S101+S742+S764+S802+S999) -> 1.2692433e+10 | U30: =SUM(U31+U44+U101+U742+U764+U772+U793+U802+U951+U956+U961+U970+U977+U986+U989+U992+U999) -> 9.7937768e+08 | W30: =SUM(W31+W44+W101+W742+W764+W772+W793+W802+W951+W956+W961+W970+W977+W986+W989+W992+W999)+0.06 -> 2.8156001e+08 | Y30: =SUM(Y31+Y44+Y101+Y742+Y764+Y772+Y793+Y802+Y951+Y956+Y961+Y970+Y977+Y986+Y989+Y992+Y999) -> 2.7278217e+08 | Z30: =SUM(Z31+Z44+Z101+Z742+Z764+Z772+Z793+Z802+Z951+Z956+Z961+Z970+Z977+Z986+Z989+Z992+Z999)+0.06 -> 5.5434219e+08 | AB30: =SUM(AB31+AB44+AB101+AB742+AB764+AB772+AB793+AB802+AB951+AB956+AB961+AB970+AB977+AB986+AB989+AB992+AB999)+0.6 -> 1.157722e+10 | AC30: =SUM(AC31+AC44+AC101+AC742+AC764+AC772+AC793+AC802+AC951+AC956+AC961+AC970+AC977+AC986+AC989+AC992+AC999)-0.07 -> 1.1152137e+09 | AF30: 1.1276423e+09 | AG30: =AF30-AC30 -> 12428638
B31: 1.3.2.01 | D31: ALAT BESAR | M31: =SUM(M40) -> 1 | O31: =SUM(O40) -> 509600000 | P31: =P32+P36+P40 -> 0 | Q31: =Q32+Q36+Q40 -> 0 | R31: =R32+R36+R40 -> 0 | S31: =SUM(S40) -> 509600000 | U31: =U32+U36+U40 -> 50960000 | W31: =W32+W36+W40 -> 25480000 | Y31: =Y32+Y36+Y40 -> 25480000 | Z31: =Z32+Z36+Z40 -> 50960000 | AB31: =SUM(AB40) -> 509600000 | AC31: =AC32+AC36+AC40 -> 0 | AF31: 1.1817729e+10
B32: 1.3.2.01.01 | D32: ALAT BESAR DARAT | M32: =SUM(M33:M35) -> 0 | O32: =SUM(O33:O35) -> 0 | P32: =SUM(P33:P35) -> 0 | Q32: =SUM(Q33:Q35) -> 0 | R32: =SUM(R33:R35) -> 0 | S32: =SUM(S33:S35) -> 0 | U32: =SUM(U33:U35) -> 0 | W32: =SUM(W33:W35) -> 0 | Y32: =SUM(Y33:Y35) -> 0 | Z32: =SUM(Z33:Z35) -> 0 | AB32: =SUM(AB33:AB35) -> 0 | AC32: =SUM(AC33:AC35) -> 0
B36: 1.3.2.01.02 | D36: ALAT BESAR APUNG | M36: =SUM(M37:M39) -> 0 | O36: =SUM(O37:O39) -> 0 | P36: =SUM(P37:P39) -> 0 | Q36: =SUM(Q37:Q39) -> 0 | R36: =SUM(R37:R39) -> 0 | S36: =SUM(S37:S39) -> 0 | U36: =SUM(U37:U39) -> 0 | W36: =SUM(W37:W39) -> 0 | Y36: =SUM(Y37:Y39) -> 0 | Z36: =SUM(Z37:Z39) -> 0 | AB36: =SUM(AB37:AB39) -> 0 | AC36: =SUM(AC37:AC39) -> 0
B40: 1.3.2.01.03 | D40: ALAT BANTU | M40: =SUM(M41) -> 1 | O40: =O41 -> 509600000 | P40: =SUM(P42:P43) -> 0 | Q40: =SUM(Q42:Q43) -> 0 | R40: =SUM(R42:R43) -> 0 | S40: =S41 -> 509600000 | U40: =U41 -> 50960000 | W40: =W41 -> 25480000 | Y40: =Y41 -> 25480000 | Z40: =Z41 -> 50960000 | AB40: =AB41 -> 509600000 | AC40: =AC41 -> 0 | AF40: =Y30-AF41 -> 0 | AG40: =AF31-AB30 -> 2.4050936e+08
B41: 1.3.2.01.03.04 | D41: Electric Generating Set | M41: =SUM(M42) -> 1 | O41: =SUM(O42) -> 509600000 | S41: =SUM(S42) -> 509600000 | U41: =SUM(U42) -> 50960000 | W41: =SUM(W42) -> 25480000 | Y41: =SUM(Y42) -> 25480000 | Z41: =SUM(Z42) -> 50960000 | AB41: =SUM(AB42) -> 509600000 | AC41: =SUM(AC42) -> 0 | AF41: 2.7278217e+08
A42: 1 | B42: 1.3.2.01.03.04.003 | C42: 0001 | D42: Genset | E42: Baifa Power/200 KVA | G42: Besi | H42: APBD | I42: 2013 | K42: Unit | L42: B | M42: 1 | N42: 509600000 | O42: 509600000 | S42: =SUM(N42-R42) -> 509600000 | T42: 10 | U42: =SUM(S42/T42) -> 50960000 | V42: 0.5 | W42: =SUM(U42*V42) -> 25480000 | X42: 0.5 | Y42: =SUM(U42*X42) -> 25480000 | Z42: =SUM(W42+Y42) -> 50960000 | AA42: =2021-I42+V42+X42+V42+V42 -> 10 | AB42: =SUM(U42*AA42) -> 509600000 | AC42: =SUM(O42-AB42) -> 0 | AD42: Gudang Genset | AF42: 1.1276423e+09 | AG42: =AC30-AF42 -> -12428638
B44: 1.3.2.02 | D44: ALAT ANGKUTAN | M44: =SUM(M46+M56+M58+M79) -> 32 | O44: =SUM(O46+O56+O58+O79) -> 2493984900 | P44: =P45+P79+P83+P85+P87 -> 0 | Q44: =Q45+Q79+Q83+Q85+Q87 -> 0 | R44: =R45+R79+R83+R85+R87 -> 0 | S44: =SUM(S46+S56+S58+S79) -> 2493984900 | U44: =SUM(U46+U56+U58+U79) -> 2.2791857e+08 | W44: =SUM(W46+W56+W58+W79) -> 43335714 | Y44: =Y45+Y79+Y83+Y85+Y87 -> 41010714 | Z44: =SUM(Z46+Z56+Z58+Z79) -> 84346429 | AB44: =SUM(AB46+AB56+AB58+AB79) -> 2.2867325e+09 | AC44: =SUM(AC46+AC56+AC58+AC79)-0.3 -> 2.0725238e+08
B45: 1.3.2.02.01 | D45: ALAT ANGKUTAN DARAT BERMOTOR | M45: =SUM(M46+M56+M58) -> 30 | O45: =SUM(O46+O56+O58) -> 2481994900 | P45: =SUM(P76:P78) -> 0 | Q45: =SUM(Q76:Q78) -> 0 | R45: =SUM(R76:R78) -> 0 | S45: =SUM(S46+S56+S58) -> 2481994900 | U45: =SUM(U46+U56+U58) -> 2.2791857e+08 | W45: =SUM(W46+W56+W58) -> 43335714 | Y45: =SUM(Y46+Y56+Y58) -> 41010714 | Z45: =SUM(Z46+Z56+Z58) -> 84346429 | AB45: =SUM(AB46+AB56+AB58) -> 2.2747425e+09 | AC45: =SUM(AC46+AC56+AC58) -> 2.0725238e+08
B46: 1.3.2.02.01.01 | D46: KENDARAAN DINAS BERMOTOR PERORANGAN | M46: =SUM(M47:M55) -> 9 | O46: =SUM(O47:O55) -> 1963604900 | S46: =SUM(S47:S55) -> 1963604900 | U46: =SUM(U47:U55) -> 1.6210429e+08 | W46: =SUM(W47:W55) -> 22142857 | Y46: =SUM(Y47:Y55) -> 22142857 | Z46: =SUM(Z47:Z55) -> 44285714 | AB46: =SUM(AB47:AB55) -> 1.7901525e+09 | AC46: =SUM(AC47:AC55) -> 1.7345238e+08
A47: 1 | B47: 1.3.2.02.01.01.006 | C47: 0001 | D47: Minibus | E47: Grand Levina | F47: BH 1941 Z /MHBGIC66F9J007085/MR.18-044015R | G47: Besi | H47: APBD | I47: 2009 | K47: Unit | L47: B | M47: 1 | N47: 209255500 | O47: 209255500 | S47: =SUM(O47-R47) -> 209255500 | T47: 7 | U47: 0 | V47: 0.5 | W47: =SUM(U47*V47) -> 0 | Y47: =SUM(U47*X47) -> 0 | Z47: =SUM(W47+Y47) -> 0 | AA47: 7 | AB47: 209255500 | AC47: =SUM(O47-AB47) -> 0 | AD47: kabid PKM
A48: 2 | B48: 1.3.2.02.01.01.006 | C48: 0002 | D48: Minibus | E48: Daihatsu Terios | F48: BH 1913 AZ /MHKG2CJ2JBK051313/DCJ4700 | G48: Besi | H48: APBD | I48: 2011 | K48: Unit | L48: B | M48: 1 | N48: 174500000 | O48: 174500000 | S48: =SUM(O48-R48) -> 174500000 | T48: 7 | U48: 0 | V48: 0.5 | W48: =SUM(U48*V48) -> 0 | Y48: =SUM(U48*X48) -> 0 | Z48: =SUM(W48+Y48) -> 0 | AA48: 7 | AB48: 174500000 | AC48: =SUM(O48-AB48) -> 0 | AD48: WI
A49: 3 | B49: 1.3.2.02.01.01.006 | C49: 0003 | D49: Minibus | E49: Toyota Innova | F49: BH 1503 Z, MHFXW43G0B4060163/ITR-7183625 | H49: APBD | I49: 2011 | K49: Unit | L49: B | M49: 1 | N49: 255650000 | O49: 255650000 | S49: =SUM(O49-R49) -> 255650000 | T49: 7 | U49: =SUM(S49/T49) -> 36521429 | AA49: 7 | AB49: 2.5565e+08 | AD49: Operasional | AE49: Mutasi Biro Umum
A50: 4 | B50: 1.3.2.02.01.01.006 | C50: 0004 | D50: Minibus | E50: Kijang Inova | F50: BH 38 | G50: Besi | H50: APBD | I50: 2012 | K50: Unit | L50: B | M50: 1 | N50: 264119400 | O50: 264119400 | S50: =SUM(O50-R50) -> 264119400 | T50: 7 | U50: 0 | V50: 0.5 | W50: =SUM(U50*V50) -> 0 | Y50: =SUM(U50*X50) -> 0 | Z50: =SUM(W50+Y50) -> 0 | AA50: 7 | AB50: 264119400 | AC50: =SUM(O50-AB50) -> 0 | AD50: Kepala Badan
A51: 5 | B51: 1.3.2.02.01.01.006 | C51: 0005 | D51: Minibus | E51: Dahatsu Terios | F51: BH 1440 Z | G51: Besi | H51: APBD | I51: 2012 | K51: Unit | L51: B | M51: 1 | N51: 181000000 | O51: 181000000 | S51: =SUM(O51-R51) -> 181000000 | T51: 7 | U51: 0 | V51: 0.5 | W51: =SUM(U51*V51) -> 0 | Y51: =SUM(U51*X51) -> 0 | Z51: =SUM(W51+Y51) -> 0 | AA51: 7 | AB51: 181000000 | AC51: =SUM(O51-AB51) -> 0 | AD51: Kabid PKTUF
A52: 6 | B52: 1.3.2.02.01.01.006 | C52: 0006 | D52: Minibus | E52: Suzuki Ertiga GX Elegan MT Black | F52: BH 1899 Z/K14BT-1100850/MHYKZE81SEJ207953 | G52: Besi | H52: APBD | I52: 2014 | K52: Unit | L52: B | M52: 1 | N52: 183670000 | O52: 183670000 | S52: =SUM(O52-R52) -> 183670000 | T52: 7 | U52: =SUM(S52/T52) -> 26238571 | V52: 0.5 | Y52: =SUM(U52*X52) -> 0 | AA52: 7 | AB52: =SUM(U52*AA52) -> 183670000 | AC52: =SUM(O52-AB52) -> 0 | AD52: Kabid PKTI
A53: 7 | B53: 1.3.2.02.01.01.006 | C53: 0007 | D53: Minibus | E53: Suzuki Ertiga GX Elegan MT White | F53: BH 1939 Z/K14BT-1095919/MHYKZE81SEJ208204 | G53: Besi | H53: APBD | I53: 2014 | K53: Unit | L53: B | M53: 1 | N53: 183670000 | O53: 183670000 | S53: =SUM(O53-R53) -> 183670000 | T53: 7 | U53: =SUM(S53/T53) -> 26238571 | V53: 0.5 | Y53: =SUM(U53*X53) -> 0 | AA53: 7 | AB53: =SUM(U53*AA53) -> 183670000 | AC53: =SUM(O53-AB53) -> 0 | AD53: Kabid SKPK
A54: 8 | B54: 1.3.2.02.01.01.006 | C54: 0008 | D54: Minibus | E54: Suzuki Ertiga GX Elegan AT White | F54: BH 1940 Z/K14BT-1109297/MHYKZE81SEJ209978 | G54: Besi | H54: APBD | I54: 2014 | K54: Unit | L54: B | M54: 1 | N54: 201740000 | O54: 201740000 | S54: =SUM(O54-R54) -> 201740000 | T54: 7 | U54: =SUM(S54/T54) -> 28820000 | V54: 0.5 | Y54: =SUM(U54*X54) -> 0 | AA54: 7 | AB54: =SUM(U54*AA54) -> 201740000 | AC54: =SUM(O54-AB54) -> 0 | AD54: Sekretaris Badan
A55: 10 | B55: 1.3.2.02.01.01.006 | C55: 0010 | D55: Minibus | E55: Toyota Innova | F55: BH 1060 Z, MHFJW8EM2K2368401 | G55: Besi | H55: APBD | I55: 2019 | K55: Unit | L55: B | M55: 1 | N55: 310000000 | O55: 310000000 | S55: =SUM(O55-R55) -> 310000000 | T55: 7 | U55: =SUM(S55/T55) -> 44285714 | V55: 0.5 | W55: =SUM(U55*V55) -> 22142857 | X55: 0.5 | Y55: =U55*X55 -> 22142857 | Z55: =SUM(W55+Y55) -> 44285714 | AA55: =2022-I55+V55+X55-11/12 -> 3.0833333 | AB55: =SUM(U55*AA55) -> 1.3654762e+08 | AC55: =SUM(O55-AB55)+0.01 -> 1.7345238e+08 | AD55: Widyaiswara Utama | AE55: Mutasi Biro PBMD
B56: 1.3.2.02.01.03 | D56: KENDARAAN BERMOTOR ANGKUTAN BARANG | M56: =SUM(M57) -> 1 | O56: =SUM(O57) -> 195300000 | S56: =SUM(S57) -> 195300000 | U56: =SUM(U57) -> 27900000 | W56: =SUM(W57) -> 13950000 | Y56: =SUM(Y57) -> 11625000 | Z56: =SUM(Z57) -> 25575000 | AB56: =SUM(AB57) -> 195300000 | AC56: =SUM(AC57) -> 0
A57: 9 | B57: 1.3.2.02.01.03.002 | C57: 0009 | D57: Pick Up | E57: Toyota Hilux | G57: Besi | H57: APBD | I57: 2015 | K57: Unit | L57: B | M57: 1 | N57: 195300000 | O57: 195300000 | S57: =SUM(O57-R57) -> 195300000 | T57: 7 | U57: =SUM(S57/T57) -> 27900000 | V57: 0.5 | W57: =SUM(U57*V57) -> 13950000 | X57: 0.5 | Y57: =U57*X57-2325000 -> 11625000 | Z57: =SUM(W57+Y57) -> 25575000 | AA57: =2022-I57+V57+X57-11/12-1/12 -> 7 | AB57: =SUM(U57*AA57) -> 195300000 | AC57: =SUM(O57-AB57) -> 0 | AD57: Operasional
B58: 1.3.2.02.01.04 | D58: KENDARAAN BERMOTOR BERODA DUA | M58: =SUM(M59:M78) -> 20 | O58: =SUM(O59:O78) -> 323090000 | S58: =SUM(S59:S78) -> 323090000 | U58: =SUM(U59:U78) -> 37914286 | W58: =SUM(W59:W78) -> 7242857.1 | Y58: =SUM(Y59:Y78) -> 7242857.1 | Z58: =SUM(Z59:Z78) -> 14485714 | AB58: =SUM(AB59:AB78) -> 289290000 | AC58: =SUM(AC59:AC78) -> 33800000
A59: 11 | B59: 1.3.2.02.01.04.001 | C59: 0001 | D59: Sepeda motor | E59: Honda / NF125 TR | F59: BH BH 2373 Z /MH1JB91179K755362/JB1E-1752034 | G59: Besi | H59: APBD | I59: 2009 | K59: Unit | L59: B | M59: 1 | N59: 14150000 | O59: 14150000 | S59: =SUM(O59-R59) -> 14150000 | T59: 7 | W59: =SUM(U59*V59) -> 0 | Z59: =SUM(W59+Y59) -> 0 | AA59: 7 | AB59: 14150000 | AC59: =SUM(O59-AB59) -> 0 | AD59: Fungsional Umum
A60: 12 | B60: 1.3.2.02.01.04.001 | C60: 0002 | D60: Sepeda motor | E60: Honda / NF125 TR | F60: BH 2368 Z /MH1JB91179K790129/JB1E-1787288 | G60: Besi | H60: APBD | I60: 2009 | K60: Unit | L60: B | M60: 1 | N60: 14150000 | O60: 14150000 | S60: =SUM(O60-R60) -> 14150000 | T60: 7 | W60: =SUM(U60*V60) -> 0 | Y60: =SUM(U60*X60) -> 0 | Z60: =SUM(W60+Y60) -> 0 | AA60: 7 | AB60: 14150000 | AC60: =SUM(O60-AB60) -> 0 | AD60: Fungsional Umum
A61: 13 | B61: 1.3.2.02.01.04.001 | C61: 0003 | D61: Sepeda motor | E61: Honda / New Vario | F61: BH 2944 HZ /MH1JF7113BK085534/JF71E-1084924 | G61: Besi | H61: APBD | I61: 2011 | K61: Unit | L61: B | M61: 1 | N61: 14695000 | O61: 14695000 | S61: =SUM(O61-R61) -> 14695000 | T61: 7 | W61: =SUM(U61*V61) -> 0 | Z61: =SUM(W61+Y61) -> 0 | AA61: 7 | AB61: 14695000 | AC61: =SUM(O61-AB61) -> 0 | AD61: Kasubbag Program dan pelaporan
A62: 14 | B62: 1.3.2.02.01.04.001 | C62: 0004 | D62: Sepeda motor | E62: Honda / New Vario | F62: BH 2943 HZ /MH1JF7113BK085078/JF71E-1084470 | G62: Besi | H62: APBD | I62: 2011 | K62: Unit | L62: B | M62: 1 | N62: 14695000 | O62: 14695000 | S62: =SUM(O62-R62) -> 14695000 | T62: 7 | W62: =SUM(U62*V62) -> 0 | Y62: =SUM(U62*X62) -> 0 | Z62: =SUM(W62+Y62) -> 0 | AA62: 7 | AB62: 14695000 | AC62: =SUM(O62-AB62) -> 0 | AD62: Fungsional Umum
A63: 15 | B63: 1.3.2.02.01.04.001 | C63: 0005 | D63: Sepeda motor | E63: Honda Supra X 125 | F63: BH 2364 Z/JBG1E1169573 / JBG112EK169831 | G63: Besi | H63: APBD | I63: 2014 | K63: Unit | L63: B | M63: 1 | N63: 16400000 | O63: 16400000 | S63: =SUM(O63-R63) -> 16400000 | T63: 7 | U63: =SUM(S63/T63) -> 2342857.1 | V63: 0.5 | Y63: =SUM(U63*X63) -> 0 | AA63: 7 | AB63: =SUM(U63*AA63) -> 16400000 | AC63: =SUM(O63-AB63) -> 0 | AD63: Kasubbid Pengembangan Kompetensi Pilihan Jabatan Administrasi
A64: 16 | B64: 1.3.2.02.01.04.001 | C64: 0006 | D64: Sepeda motor | E64: Honda Supra X 125 | F64: BH 2374 Z/JBG1E1169566 / JBG110EK169875 | G64: Besi | H64: APBD | I64: 2014 | K64: Unit | L64: B | M64: 1 | N64: 16400000 | O64: 16400000 | S64: =SUM(O64-R64) -> 16400000 | T64: 7 | U64: =SUM(S64/T64) -> 2342857.1 | V64: 0.5 | Y64: =SUM(U64*X64) -> 0 | AA64: 7 | AB64: =SUM(U64*AA64) -> 16400000 | AC64: =SUM(O64-AB64) -> 0 | AD64: Kasubbid pengembangan Kompetensi Jabatan Struktural
A65: 17 | B65: 1.3.2.02.01.04.001 | C65: 0007 | D65: Sepeda motor | E65: Honda Supra X 125 | F65: BH 2355 Z/JBG1E1169865 / JBG112EK170213 | G65: Besi | H65: APBD | I65: 2014 | K65: Unit | L65: B | M65: 1 | N65: 16400000 | O65: 16400000 | S65: =SUM(O65-R65) -> 16400000 | T65: 7 | U65: =SUM(S65/T65) -> 2342857.1 | V65: 0.5 | Y65: =SUM(U65*X65) -> 0 | AA65: 7 | AB65: =SUM(U65*AA65) -> 16400000 | AC65: =SUM(O65-AB65) -> 0 | AD65: Kasubbid Pengembangan Kompetensi Pilihan Jabatan Administrasi
A66: 18 | B66: 1.3.2.02.01.04.001 | C66: 0008 | D66: Sepeda motor | E66: Honda Supra X 125 | F66: BH 2365 Z/JBG1E1169864 / JBG11XEK170158 | G66: Besi | H66: APBD | I66: 2014 | K66: Unit | L66: B | M66: 1 | N66: 16400000 | O66: 16400000 | S66: =SUM(O66-R66) -> 16400000 | T66: 7 | U66: =SUM(S66/T66) -> 2342857.1 | V66: 0.5 | Y66: =SUM(U66*X66) -> 0 | AA66: 7 | AB66: =SUM(U66*AA66) -> 16400000 | AC66: =SUM(O66-AB66) -> 0 | AD66: Kasubbid Pengembangan Kompetensi Jabatan Fungsional
A67: 19 | B67: 1.3.2.02.01.04.001 | C67: 0009 | D67: Sepeda motor | E67: Honda Supra X 125 | F67: BH 2376 Z/JBG1E1169976 / JBG112EK170283 | G67: Besi | H67: APBD | I67: 2014 | K67: Unit | L67: B | M67: 1 | N67: 16400000 | O67: 16400000 | S67: =SUM(O67-R67) -> 16400000 | T67: 7 | U67: =SUM(S67/T67) -> 2342857.1 | V67: 0.5 | Y67: =SUM(U67*X67) -> 0 | AA67: 7 | AB67: =SUM(U67*AA67) -> 16400000 | AC67: =SUM(O67-AB67) -> 0 | AD67: Kasubbag Keuangan
A68: 20 | B68: 1.3.2.02.01.04.001 | C68: 0010 | D68: Sepeda motor | E68: Honda Supra X 125 | F68: JBG1E1169878 / JBG119EK170281 | G68: Besi | H68: APBD | I68: 2014 | K68: Unit | L68: B | M68: 1 | N68: 16400000 | O68: 16400000 | S68: =SUM(O68-R68) -> 16400000 | T68: 7 | U68: =SUM(S68/T68) -> 2342857.1 | V68: 0.5 | Y68: =SUM(U68*X68) -> 0 | AA68: 7 | AB68: =SUM(U68*AA68) -> 16400000 | AC68: =SUM(O68-AB68) -> 0 | AD68: Kasubbid Pengembangan Inti Jabatan Adminstrasi Urusan Konkuren Wajib Pelayanan Dasar dan Pilihan
A69: 21 | B69: 1.3.2.02.01.04.001 | C69: 0011 | D69: Sepeda motor | E69: Honda Supra X 125 | F69: BH 2375 Z/JBG1E1169869 / JBG110EK170296 | G69: Besi | H69: APBD | I69: 2014 | K69: Unit | L69: B | M69: 1 | N69: 16400000 | O69: 16400000 | S69: =SUM(O69-R69) -> 16400000 | T69: 7 | U69: =SUM(S69/T69) -> 2342857.1 | V69: 0.5 | Y69: =SUM(U69*X69) -> 0 | AA69: 7 | AB69: =SUM(U69*AA69) -> 16400000 | AC69: =SUM(O69-AB69) -> 0 | AD69: Pengelola Pemanfaatan BMD
A70: 22 | B70: 1.3.2.02.01.04.001 | C70: 0012 | D70: Sepeda motor | E70: Honda Supra X 125 | F70: BH 2367 Z/JBG1E1169897 / JBG114EK170298 | G70: Besi | H70: APBD | I70: 2014 | K70: Unit | L70: B | M70: 1 | N70: 16400000 | O70: 16400000 | S70: =SUM(O70-R70) -> 16400000 | T70: 7 | U70: =SUM(S70/T70) -> 2342857.1 | V70: 0.5 | Y70: =SUM(U70*X70) -> 0 | AA70: 7 | AB70: =SUM(U70*AA70) -> 16400000 | AC70: =SUM(O70-AB70) -> 0 | AD70: Kasubbid Pengembangan Inti Jabatan Adminstrasi Urusan Konkuren Wajib Pelayanan Dasar dan Pilihan
A71: 23 | B71: 1.3.2.02.01.04.001 | C71: 0013 | D71: Sepeda motor | E71: Honda Supra X 125 | F71: BH 2362 Z/JBG1E1169411 / JBG111EK169853 | G71: Besi | H71: APBD | I71: 2014 | K71: Unit | L71: B | M71: 1 | N71: 16400000 | O71: 16400000 | S71: =SUM(O71-R71) -> 16400000 | T71: 7 | U71: =SUM(S71/T71) -> 2342857.1 | V71: 0.5 | Y71: =SUM(U71*X71) -> 0 | AA71: 7 | AB71: =SUM(U71*AA71) -> 16400000 | AC71: =SUM(O71-AB71) -> 0 | AD71: Kasubbid Pengelolaan Sumber Belajar dan Kerjasama
A72: 24 | B72: 1.3.2.02.01.04.001 | C72: 0014 | D72: Sepeda motor | E72: Honda Supra X 125 | F72: BH 2363 Z/JBG1E1169471 /JBG115EK169810 | G72: Besi | H72: APBD | I72: 2014 | K72: Unit | L72: B | M72: 1 | N72: 16400000 | O72: 16400000 | S72: =SUM(O72-R72) -> 16400000 | T72: 7 | U72: =SUM(S72/T72) -> 2342857.1 | V72: 0.5 | AA72: 7 | AB72: =SUM(U72*AA72) -> 16400000 | AC72: =SUM(O72-AB72) -> 0 | AD72: kasubbid pengembangan Kompetensi Kepemimpinan dan Prajabatan
A73: 25 | B73: 1.3.2.02.01.04.001 | C73: 0015 | D73: Sepeda motor | E73: Yamaha Soul GT | F73: E3W9E0044462/MH3S39040JJ028553/BH 2191 A | G73: Besi | H73: APBD | I73: 2018 | K73: Unit | L73: B | M73: 1 | N73: 16900000 | O73: 16900000 | S73: =SUM(O73-R73) -> 16900000 | T73: 7 | U73: =SUM(S73/T73) -> 2414285.7 | V73: 0.5 | W73: =SUM(U73*V73) -> 1207142.9 | X73: 0.5 | Y73: =SUM(U73*X73) -> 1207142.9 | Z73: =SUM(W73+Y73) -> 2414285.7 | AA73: =2022-I73+V73+X73-4/12 -> 4.6666667 | AB73: =SUM(U73*AA73) -> 11266667 | AC73: =SUM(O73-AB73) -> 5633333.3 | AD73: Kasubbid Pengembngan Inti Jabatan Administrasi Perangkat Daerah Penunjang
A74: 26 | B74: 1.3.2.02.01.04.001 | C74: 0016 | D74: Sepeda motor | E74: Yamaha Soul GT | F74: E3W9E0044465/MH3SE9040JJ028556/BH 2190 A | G74: Besi | H74: APBD | I74: 2018 | K74: Unit | L74: B | M74: 1 | N74: 16900000 | O74: 16900000 | S74: =SUM(O74-R74) -> 16900000 | T74: 7 | U74: =SUM(S74/T74) -> 2414285.7 | V74: 0.5 | W74: =SUM(U74*V74) -> 1207142.9 | X74: 0.5 | Y74: =SUM(U74*X74) -> 1207142.9 | Z74: =SUM(W74+Y74) -> 2414285.7 | AA74: =2022-I74+V74+X74-4/12 -> 4.6666667 | AB74: =SUM(U74*AA74) -> 11266667 | AC74: =SUM(O74-AB74) -> 5633333.3 | AD74: Kasubbid kompetensi inti Jabatan Administrasi Urusan Konkuren Wajib Non Pelayanan Dasar
A75: 27 | B75: 1.3.2.02.01.04.001 | C75: 0017 | D75: Sepeda motor | E75: Yamaha Soul GT | F75: E3W9E0044467/MH3SE9040JJ028558/BH 2195 A | G75: Besi | H75: APBD | I75: 2018 | K75: Unit | L75: B | M75: 1 | N75: 16900000 | O75: 16900000 | S75: =SUM(O75-R75) -> 16900000 | T75: 7 | U75: =SUM(S75/T75) -> 2414285.7 | V75: 0.5 | W75: =SUM(U75*V75) -> 1207142.9 | X75: 0.5 | Y75: =SUM(U75*X75) -> 1207142.9 | Z75: =SUM(W75+Y75) -> 2414285.7 | AA75: =2022-I75+V75+X75-4/12 -> 4.6666667 | AB75: =SUM(U75*AA75) -> 11266667 | AC75: =SUM(O75-AB75) -> 5633333.3 | AD75: Kasubbid Pengembangan Kompetensi Umum Jabatan Administrasi
A76: 28 | B76: 1.3.2.02.01.04.001 | C76: 0018 | D76: Sepeda motor | E76: Yamaha Soul GT | F76: E3W9E0044439/MH3SE9040JJ028531/BH 2192 A | G76: Besi | H76: APBD | I76: 2018 | K76: Unit | L76: B | M76: 1 | N76: 16900000 | O76: 16900000 | S76: =SUM(O76-R76) -> 16900000 | T76: 7 | U76: =SUM(S76/T76) -> 2414285.7 | V76: 0.5 | W76: =SUM(U76*V76) -> 1207142.9 | X76: 0.5 | Y76: =SUM(U76*X76) -> 1207142.9 | Z76: =SUM(W76+Y76) -> 2414285.7 | AA76: =2022-I76+V76+X76-4/12 -> 4.6666667 | AB76: =SUM(U76*AA76) -> 11266667 | AC76: =SUM(O76-AB76) -> 5633333.3 | AD76: Bendahara Pengeluaran
A77: 29 | B77: 1.3.2.02.01.04.001 | C77: 0019 | D77: Sepeda motor | E77: Yamaha Soul GT | F77: E3W9E0044467/MH3SE9040JJ028513/BH 2193 A | G77: Besi | H77: APBD | I77: 2018 | K77: Unit | L77: B | M77: 1 | N77: 16900000 | O77: 16900000 | S77: =SUM(O77-R77) -> 16900000 | T77: 7 | U77: =SUM(S77/T77) -> 2414285.7 | V77: 0.5 | W77: =SUM(U77*V77) -> 1207142.9 | X77: 0.5 | Y77: =SUM(U77*X77) -> 1207142.9 | Z77: =SUM(W77+Y77) -> 2414285.7 | AA77: =2022-I77+V77+X77-4/12 -> 4.6666667 | AB77: =SUM(U77*AA77) -> 11266667 | AC77: =SUM(O77-AB77) -> 5633333.3 | AD77: Kasubbid Pengembangan Kompetensi Pimpinan Daerah
A78: 30 | B78: 1.3.2.02.01.04.001 | C78: 0020 | D78: Sepeda motor | E78: Yamaha Soul GT | F78: E3W9E0044467/MH3SE9040JJ028515/BH 2194 A | G78: Besi | H78: APBD | I78: 2018 | K78: Unit | L78: B | M78: 1 | N78: 16900000 | O78: 16900000 | S78: =SUM(O78-R78) -> 16900000 | T78: 7 | U78: =SUM(S78/T78) -> 2414285.7 | V78: 0.5 | W78: =SUM(U78*V78) -> 1207142.9 | X78: 0.5 | Y78: =SUM(U78*X78) -> 1207142.9 | Z78: =SUM(W78+Y78) -> 2414285.7 | AA78: =2022-I78+V78+X78-4/12 -> 4.6666667 | AB78: =SUM(U78*AA78) -> 11266667 | AC78: =SUM(O78-AB78) -> 5633333.3 | AD78: Kasubbag Umum dan Kepegawaian
B79: 1.3.2.02.02 | D79: ALAT ANGKUTAN DARAT TAK BERMOTOR | M79: =SUM(M81:M82) -> 2 | O79: =SUM(O81:O82) -> 11990000 | P79: =SUM(P81:P82) -> 0 | R79: =SUM(R81:R82) -> 0 | S79: =SUM(S81:S82) -> 11990000 | U79: =SUM(U81:U82) -> 0 | W79: =SUM(W81:W82) -> 0 | Y79: =SUM(Y81:Y82) -> 0 | Z79: =SUM(Z81:Z82) -> 0 | AB79: =SUM(AB80) -> 11990000 | AC79: =SUM(AC81:AC82) -> 0
B80: 1.3.2.02.02.01 | D80: KENDARAAN TAK BERMOTOR ANGKUTAN BARANG | M80: =SUM(M81) -> 2 | O80: =O81 -> 11990000 | S80: =SUM(S81) -> 11990000 | U80: =SUM(U81) -> 0 | AB80: =SUM(AB81) -> 11990000
B81: 1.3.2.02.02.01.004 | C81: 0001 | D81: Hand Troley | E81: Lokal | G81: Besi | H81: APBD | I81: 2014 | K81: Unit | L81: RB | M81: 2 | N81: =11990000/M81 -> 5995000 | O81: 11990000 | S81: =SUM(O81-R81) -> 11990000 | T81: 2 | V81: 0.5 | W81: =SUM(U81*V81) -> 0 | X81: 0.5 | Y81: =SUM(U81*X81) -> 0 | Z81: =SUM(W81+Y81) -> 0 | AA81: 2 | AB81: 11990000 | AC81: =SUM(O81-AB81) -> 0 | AD81: Gudang
Q82: =P82-O82 -> 0
B83: 1.3.2.02.03 | D83: ALAT ANGKUTAN APUNG BERMOTOR | M83: =SUM(M84:M84) -> 0 | O83: =SUM(O84:O84) -> 0 | P83: =SUM(P84:P84) -> 0 | Q83: =P83-O83 -> 0 | R83: =SUM(R84:R84) -> 0 | S83: =SUM(S84:S84) -> 0 | U83: =SUM(U84:U84) -> 0 | W83: =SUM(W84:W84) -> 0 | Y83: =SUM(Y84:Y84) -> 0 | Z83: =SUM(Z84:Z84) -> 0 | AB83: =SUM(AB84:AB84) -> 0 | AC83: =SUM(AC84:AC84) -> 0
Q84: =P84-O84 -> 0
B85: 1.3.2.02.04 | D85: ALAT ANGKUTAN APUNG TAK BERMOTOR | M85: =SUM(M86:M86) -> 0 | O85: =SUM(O86:O86) -> 0 | P85: =SUM(P86:P86) -> 0 | Q85: =P85-O85 -> 0 | R85: =SUM(R86:R86) -> 0 | S85: =SUM(S86:S86) -> 0 | U85: =SUM(U86:U86) -> 0 | W85: =SUM(W86:W86) -> 0 | Y85: =SUM(Y86:Y86) -> 0 | Z85: =SUM(Z86:Z86) -> 0 | AB85: =SUM(AB86:AB86) -> 0 | AC85: =SUM(AC86:AC86) -> 0
Q86: =P86-O86 -> 0
B87: 1.3.2.02.05 | D87: ALAT ANGKUTAN BERMOTOR UDARA | M87: =SUM(M88:M88) -> 0 | O87: =SUM(O88:O88) -> 0 | P87: =SUM(P88:P88) -> 0 | Q87: =P87-O87 -> 0 | R87: =SUM(R88:R88) -> 0 | S87: =SUM(S88:S88) -> 0 | U87: =SUM(U88:U88) -> 0 | W87: =SUM(W88:W88) -> 0 | Y87: =SUM(Y88:Y88) -> 0 | Z87: =SUM(Z88:Z88) -> 0 | AB87: =SUM(AB88:AB88) -> 0 | AC87: =SUM(AC88:AC88) -> 0
Q88: =P88-O88 -> 0
B89: 1.3.2.03 | D89: ALAT BENGKEL DAN ALAT UKUR | M89: =M90+M92+M94 -> 0 | O89: =O90+O92+O94 -> 0 | P89: =P90+P92+P94 -> 0 | Q89: =P89-O89 -> 0 | R89: =R90+R92+R94 -> 0 | S89: =S90+S92+S94 -> 0 | U89: =U90+U92+U94 -> 0 | W89: =W90+W92+W94 -> 0 | Y89: =Y90+Y92+Y94 -> 0 | Z89: =Z90+Z92+Z94 -> 0 | AB89: =AB90+AB92+AB94 -> 0 | AC89: =AC90+AC92+AC94 -> 0
B90: 1.3.2.03.01 | D90: ALAT BENGKEL BERMESIN | M90: =SUM(M91:M91) -> 0 | O90: =SUM(O91:O91) -> 0 | P90: =SUM(P91:P91) -> 0 | Q90: =P90-O90 -> 0 | R90: =SUM(R91:R91) -> 0 | S90: =SUM(S91:S91) -> 0 | U90: =SUM(U91:U91) -> 0 | W90: =SUM(W91:W91) -> 0 | Y90: =SUM(Y91:Y91) -> 0 | Z90: =SUM(Z91:Z91) -> 0 | AB90: =SUM(AB91:AB91) -> 0 | AC90: =SUM(AC91:AC91) -> 0
Q91: =P91-O91 -> 0
B92: 1.3.2.03.02 | D92: ALAT BENGKEL TAK BERMESIN | M92: =SUM(M93:M93) -> 0 | O92: =SUM(O93:O93) -> 0 | P92: =SUM(P93:P93) -> 0 | Q92: =P92-O92 -> 0 | R92: =SUM(R93:R93) -> 0 | S92: =SUM(S93:S93) -> 0 | U92: =SUM(U93:U93) -> 0 | W92: =SUM(W93:W93) -> 0 | Y92: =SUM(Y93:Y93) -> 0 | Z92: =SUM(Z93:Z93) -> 0 | AB92: =SUM(AB93:AB93) -> 0 | AC92: =SUM(AC93:AC93) -> 0
Q93: =P93-O93 -> 0
B94: 1.3.2.03.03 | D94: ALAT UKUR | M94: =SUM(M95:M95) -> 0 | O94: =SUM(O95:O95) -> 0 | P94: =SUM(P95:P95) -> 0 | Q94: =P94-O94 -> 0 | R94: =SUM(R95:R95) -> 0 | S94: =SUM(S95:S95) -> 0 | U94: =SUM(U95:U95) -> 0 | W94: =SUM(W95:W95) -> 0 | Y94: =SUM(Y95:Y95) -> 0 | Z94: =SUM(Z95:Z95) -> 0 | AB94: =SUM(AB95:AB95) -> 0 | AC94: =SUM(AC95:AC95) -> 0
Q95: =P95-O95 -> 0
B96: 1.3.2.04 | D96: ALAT PERTANIAN | M96: =M97 -> 0 | O96: =O97 -> 0 | P96: =P97 -> 0 | Q96: =P96-O96 -> 0 | R96: =R97 -> 0 | S96: =S97 -> 0 | U96: =U97 -> 0 | W96: =W97 -> 0 | Y96: =Y97 -> 0 | Z96: =Z97 -> 0 | AB96: =AB97 -> 0 | AC96: =AC97 -> 0
B97: 1.3.2.04.01 | D97: ALAT PENGOLAHAN | M97: =SUM(M98:M100) -> 0 | O97: =SUM(O98:O100) -> 0 | P97: =SUM(P98:P100) -> 0 | Q97: =P97-O97 -> 0 | R97: =SUM(R98:R100) -> 0 | S97: =SUM(S98:S100) -> 0 | U97: =SUM(U98:U100) -> 0 | W97: =SUM(W98:W100) -> 0 | Y97: =SUM(Y98:Y100) -> 0 | Z97: =SUM(Z98:Z100) -> 0 | AB97: =SUM(AB98:AB100) -> 0 | AC97: =SUM(AC98:AC100) -> 0
Q98: =P98-O98 -> 0
Q99: =P99-O99 -> 0
Q100: =P100-O100 -> 0 | AF100: =AF101-AC101 -> 12536384
B101: 1.3.2.05 | D101: ALAT KANTOR DAN RUMAH TANGGA | M101: =SUM(M102+M236+M685) -> 4532 | O101: =SUM(O102+O236+O685) -> 7.4100937e+09 | P101: =P102+P236+P685 -> 3121945214 | Q101: =Q102+Q236+Q685 -> 0 | R101: =R102+R236+R685 -> 0 | S101: =SUM(S102+S236+S685) -> 7.4100937e+09 | U101: =SUM(U102+U236+U685) -> 4.8350671e+08 | W101: =SUM(W102+W236+W685) -> 1.3461166e+08 | Y101: =Y102+Y236+Y685 -> 1.3130656e+08 | Z101: =SUM(Z102+Z236+Z685) -> 2.6591823e+08 | AB101: =SUM(AB102+AB236+AB685) -> 6.9401582e+09 | AC101: =SUM(AC102+AC236+AC685) -> 4.6993546e+08 | AF101: 4.8247184e+08
B102: 1.3.2.05.01 | D102: ALAT KANTOR | M102: =SUM(M103+M110+M113+M115+M171) -> 313 | O102: =SUM(O103+O110+O113+O115+O171) -> 1190547400 | P102: =SUM(P104:P929) -> 3121945214 | Q102: =SUM(Q104:Q929) -> 0 | R102: =SUM(R104:R929) -> 0 | S102: =SUM(S103+S110+S113+S115+S171) -> 1190547400 | U102: =SUM(U103+U110+U113+U115+U171) -> 89296320 | W102: =SUM(W103+W110+W113+W115+W171) -> 16186302 | Y102: =SUM(Y103+Y110+Y113+Y115+Y171) -> 14936793 | Z102: =SUM(Z103+Z110+Z113+Z115+Z171) -> 31123095 | AB102: =SUM(AB103+AB110+AB113+AB115+AB171) -> 1.1711198e+09 | AC102: =SUM(AC103+AC110+AC115+AC171) -> 19427603 | AF102: ='[1]BI Tahun SMT I 2023'!$AB$109-AB101 -> 1.3353962e+08
B103: 1.3.2.05.01.01 | D103: MESIN KETIK | M103: =SUM(M104:M109) -> 6 | O103: =SUM(O104:O109) -> 9950000 | S103: =SUM(S104:S109) -> 9950000 | U103: =SUM(U104:U109) -> 0 | W103: =SUM(W104:W109) -> 0 | Z103: =SUM(Z104:Z109) -> 0 | AB103: =SUM(AB104:AB109) -> 9950000 | AC103: =SUM(AC104:AC109) -> 0
A104: 2 | B104: 1.3.2.05.01.01.001 | C104: 0007 | D104: Mesin Ketik Electrik | E104: Royal | G104: Besi | H104: APBD | I104: 2011 | K104: Unit | L104: B | M104: 1 | N104: =SUM(O104/M104) -> 1675000 | O104: 1675000 | S104: =SUM(O104-R104) -> 1675000 | T104: 5 | V104: 0.5 | W104: =SUM(U104*V104) -> 0 | Y104: =SUM(U104*X104) -> 0 | Z104: =SUM(W104+Y104) -> 0 | AA104: 5 | AB104: 1675000 | AC104: =SUM(O104-AB104) -> 0 | AD104: Bag. Keuangan | AF104: 1232500 | AG104: =AB104+Z104-AB104 -> 0
A105: 3 | B105: 1.3.2.05.01.01.001 | C105: 0008 | D105: Mesin Ketik Manual 13' | E105: Royal | G105: Besi | H105: APBD | I105: 2011 | K105: Unit | L105: B | M105: 1 | N105: =SUM(O105/M105) -> 1232500 | O105: 1232500 | S105: =SUM(O105-R105) -> 1232500 | T105: 5 | V105: 0.5 | W105: =SUM(U105*V105) -> 0 | Y105: =SUM(U105*X105) -> 0 | Z105: =SUM(W105+Y105) -> 0 | AA105: 5 | AB105: 1232500 | AC105: =SUM(O105-AB105) -> 0 | AD105: Bid. MP | AF105: 1232500 | AG105: =AB105+Z105-AB105 -> 0
A106: 4 | B106: 1.3.2.05.01.01.001 | C106: 0009 | D106: Mesin Ketik Manual 13' | E106: Royal | G106: Besi | H106: APBD | I106: 2011 | K106: Unit | L106: B | M106: 1 | N106: =SUM(O106/M106) -> 1232500 | O106: 1232500 | S106: =SUM(O106-R106) -> 1232500 | T106: 5 | V106: 0.5 | W106: =SUM(U106*V106) -> 0 | Y106: =SUM(U106*X106) -> 0 | Z106: =SUM(W106+Y106) -> 0 | AA106: 5 | AB106: 1232500 | AC106: =SUM(O106-AB106) -> 0 | AD106: Bid Fungsional | AF106: 1232500 | AG106: =AB106+Z106-AB106 -> 0
A107: 5 | B107: 1.3.2.05.01.01.001 | C107: 0010 | D107: Mesin Ketik Manual 13' | E107: Royal | G107: Besi | H107: APBD | I107: 2011 | K107: Unit | L107: B | M107: 1 | N107: =SUM(O107/M107) -> 1232500 | O107: 1232500 | S107: =SUM(O107-R107) -> 1232500 | T107: 5 | V107: 0.5 | W107: =SUM(U107*V107) -> 0 | Y107: =SUM(U107*X107) -> 0 | Z107: =SUM(W107+Y107) -> 0 | AA107: 5 | AB107: 1232500 | AC107: =SUM(O107-AB107) -> 0 | AD107: Bid. R. Struktural | AF107: 1232500 | AG107: =AB107+Z107-AB107 -> 0
A108: 6 | B108: 1.3.2.05.01.01.003 | C108: 0011 | D108: Mesin Ketik Manual 13' | E108: Royal | G108: Besi | H108: APBD | I108: 2011 | K108: Unit | L108: B | M108: 1 | N108: =SUM(O108/M108) -> 1232500 | O108: 1232500 | S108: =SUM(O108-R108) -> 1232500 | T108: 5 | V108: 0.5 | W108: =SUM(U108*V108) -> 0 | Y108: =SUM(U108*X108) -> 0 | Z108: =SUM(W108+Y108) -> 0 | AA108: 5 | AB108: 1232500 | AC108: =SUM(O108-AB108) -> 0 | AD108: Bid. Teknis | AF108: 3345000 | AG108: =AB108+Z108-AB108 -> 0
B109: 1.3.2.05.01.01.004 | C109: 0006 | D109: Mesin Ketik Manual 26' | E109: Royal | G109: Besi | H109: APBD | I109: 2011 | K109: Unit | L109: B | M109: 1 | N109: =SUM(O109/M109) -> 3345000 | O109: 3345000 | S109: =SUM(O109-R109) -> 3345000 | T109: 5 | V109: 0.5 | W109: =SUM(U109*V109) -> 0 | Y109: =SUM(U109*X109) -> 0 | Z109: =SUM(W109+Y109) -> 0 | AA109: 5 | AB109: 3345000 | AC109: =SUM(O109-AB109) -> 0 | AD109: R. Keuangan
A110: 7 | B110: 1.3.2.05.01.02 | D110: MESIN HITUNG/MESIN JUMLAH | M110: =SUM(M111:M112) -> 6 | O110: =SUM(O111:O112) -> 4625600 | S110: =SUM(S111:S112) -> 4625600 | U110: =SUM(U111:U112) -> 791120 | W110: =SUM(W111:W112) -> 395560 | Y110: =SUM(Y111:Y112) -> 395560 | Z110: =SUM(Z111:Z112) -> 791120 | AB110: =SUM(AB111:AB112) -> 4098186.7 | AC110: =SUM(AC111:AC112) -> 527413.33
A111: 8 | B111: 1.3.2.05.01.02.001 | C111: 0001-0005 | D111: Kalkulator | E111: Sony | G111: Viber | H111: APBD | I111: 2008 | K111: Unit | L111: B | M111: 5 | N111: =SUM(O111/M111) -> 134000 | O111: 670000 | S111: =SUM(O111-R111) -> 670000 | T111: 5 | V111: 0.5 | W111: =SUM(U111*V111) -> 0 | Y111: =SUM(U111*X111) -> 0 | Z111: =SUM(W111+Y111) -> 0 | AA111: 5 | AB111: 670000 | AC111: =SUM(O111-AB111) -> 0 | AD111: R. Keuangan | AF111: 670000 | AG111: =AB111+Z111-AB111 -> 0
A112: 9 | B112: 1.3.2.05.01.02.003 | C112: 0001 | D112: Mesin penghitung uang | E112: Secure Tipe LD-1100S | G112: Viber | H112: APBD | I112: 2018 | K112: Unit | L112: B | M112: 1 | N112: =SUM(O112/M112) -> 3955600 | O112: 3955600 | S112: =SUM(O112-R112) -> 3955600 | T112: 5 | U112: =SUM(S112/T112) -> 791120 | V112: 0.5 | W112: =SUM(U112*V112) -> 395560 | X112: 0.5 | Y112: =SUM(U112*X112) -> 395560 | Z112: =SUM(W112+Y112) -> 791120 | AA112: =2022-I112+V112+X112-8/12 -> 4.3333333 | AB112: =SUM(U112*AA112) -> 3428186.7 | AC112: =SUM(O112-AB112) -> 527413.33 | AD112: Ruangan Subbag keuangan
A113: 10 | B113: 1.3.2.05.01.03 | D113: ALAT REPRODUKSI (PENGGANDAAN) | M113: =SUM(M114) -> 1 | O113: =SUM(O114) -> 39240300 | S113: =SUM(S114) -> 39240300 | U113: =SUM(U114) -> 0 | AB113: =SUM(AB114) -> 39240300 | AC113: =SUM(AC114) -> 0
A114: 11 | B114: 1.3.2.05.01.03.009 | C114: 0001 | D114: Mesin Foto Copy Portable | E114: Gestetner MP2001L | G114: Viber | H114: APBD | I114: 2014 | K114: Unit | L114: B | M114: 1 | N114: =SUM(O114/M114) -> 39240300 | O114: 39240300 | S114: =SUM(O114-R114) -> 39240300 | T114: 5 | V114: 0.5 | W114: =SUM(U114*V114) -> 0 | Y114: =SUM(U114*X114) -> 0 | Z114: =SUM(W114+Y114) -> 0 | AA114: 5 | AB114: 39240300 | AC114: =SUM(O114-AB114) -> 0 | AD114: Ruang Program
A115: 12 | B115: 1.3.2.05.01.04 | D115: ALAT PENYIMPAN PERLENGKAPAN KANTOR | M115: =SUM(M116:M169) -> 200 | O115: =SUM(O116:O169) -> 454264000 | S115: =SUM(S116:S169) -> 454264000 | U115: =SUM(U116:U169) -> 14917100 | W115: =SUM(W116:W169) -> 4958800 | Y115: =SUM(Y116:Y169) -> 4792333.3 | Z115: =SUM(Z116:Z169) -> 9751133.3 | AB115: =SUM(AB116:AB169) -> 450964000 | AC115: =SUM(AC116:AC169) -> 3300000
A116: 1 | B116: 1.3.2.05.01.04.002 | C116: 0039 | D116: Lemari Pakaian | E116: Lokal | G116: Kayu | H116: APBD | I116: 2012 | K116: Unit | L116: B | M116: 1 | N116: =SUM(O116/M116) -> 1485000 | O116: 1485000 | S116: =SUM(O116-R116) -> 1485000 | T116: 5 | V116: 0.5 | W116: =SUM(U116*V116) -> 0 | Y116: =SUM(U116*X116) -> 0 | Z116: =SUM(W116+Y116) -> 0 | AA116: 5 | AB116: 1485000 | AC116: =SUM(O116-AB116) -> 0 | AD116: Asrama asoka | AF116: 3080000 | AG116: =AB116+Z116-AB116 -> 0
A117: 2 | B117: 1.3.2.05.01.04.002 | C117: 0040-0053 | D117: Lemari Pakaian | E117: Lokal | G117: Kayu | H117: APBD | I117: 2012 | K117: Unit | L117: B | M117: 14 | N117: =SUM(O117/M117) -> 1485000 | O117: 20790000 | S117: =SUM(O117-R117) -> 20790000 | T117: 5 | V117: 0.5 | W117: =SUM(U117*V117) -> 0 | Y117: =SUM(U117*X117) -> 0 | Z117: =SUM(W117+Y117) -> 0 | AA117: 5 | AB117: 20790000 | AC117: =SUM(O117-AB117) -> 0 | AD117: Asrama Aster | AF117: 3080000 | AG117: =AB117+Z117-AB117 -> 0
A118: 3 | B118: 1.3.2.05.01.04.002 | C118: 0054 | D118: Lemari Pakaian | E118: Lokal | G118: Kayu | H118: APBD | I118: 2012 | K118: Unit | L118: B | M118: 1 | N118: =SUM(O118/M118) -> 1485000 | O118: 1485000 | S118: =SUM(O118-R118) -> 1485000 | T118: 5 | V118: 0.5 | W118: =SUM(U118*V118) -> 0 | Y118: =SUM(U118*X118) -> 0 | Z118: =SUM(W118+Y118) -> 0 | AA118: 5 | AB118: 1485000 | AC118: =SUM(O118-AB118) -> 0 | AD118: Asrama Kemuning | AF118: 1485000 | AG118: =AB118+Z118-AB118 -> 0
A119: 4 | B119: 1.3.2.05.01.04.002 | C119: 0055-0071 | D119: Lemari Pakaian | E119: Lokal | G119: Kayu | H119: APBD | I119: 2012 | K119: Unit | L119: B | M119: 17 | N119: =SUM(O119/M119) -> 1485000 | O119: 25245000 | S119: =SUM(O119-R119) -> 25245000 | T119: 5 | V119: 0.5 | W119: =SUM(U119*V119) -> 0 | Y119: =SUM(U119*X119) -> 0 | Z119: =SUM(W119+Y119) -> 0 | AA119: 5 | AB119: 25245000 | AC119: =SUM(O119-AB119) -> 0 | AD119: Asrama Selasih | AF119: 25245000 | AG119: =AB119+Z119-AB119 -> 0
A120: 5 | B120: 1.3.2.05.01.04.002 | C120: 0072 | D120: Lemari Pakaian | E120: Lokal | G120: Kayu | H120: APBD | I120: 2012 | K120: Unit | L120: B | M120: 1 | N120: =SUM(O120/M120) -> 1485000 | O120: 1485000 | S120: =SUM(O120-R120) -> 1485000 | T120: 5 | V120: 0.5 | W120: =SUM(U120*V120) -> 0 | Y120: =SUM(U120*X120) -> 0 | Z120: =SUM(W120+Y120) -> 0 | AA120: 5 | AB120: 1485000 | AC120: =SUM(O120-AB120) -> 0 | AD120: Sekban | AF120: 1485000 | AG120: =AB120+Z120-AB120 -> 0
A121: 6 | B121: 1.3.2.05.01.04.002 | C121: 0073-0080 | D121: Lemari Pakaian | E121: Lokal | G121: Kayu | H121: APBD | I121: 2018 | K121: Unit | L121: B | M121: 8 | N121: =SUM(O121/M121) -> 2475000 | O121: 19800000 | S121: =SUM(O121-R121) -> 19800000 | T121: 5 | U121: =SUM(S121/T121) -> 3960000 | V121: 0.5 | W121: =SUM(U121*V121) -> 1980000 | X121: 0.5 | Y121: =SUM(U121*X121) -> 1980000 | Z121: =SUM(W121+Y121) -> 3960000 | AA121: =2022-I121+V121+X121-5/12 -> 4.5833333 | AB121: =SUM(U121*AA121) -> 18150000 | AC121: =SUM(O121-AB121) -> 1650000 | AD121: Asrama I | AF121: 18150000 | AG121: =AF121+Z121-AB121 -> 3960000
A122: 7 | B122: 1.3.2.05.01.04.002 | C122: 0081-0088 | D122: Lemari Pakaian | E122: Lokal | G122: Kayu | H122: APBD | I122: 2018 | K122: Unit | L122: B | M122: 8 | N122: =SUM(O122/M122) -> 2475000 | O122: 19800000 | S122: =SUM(O122-R122) -> 19800000 | T122: 5 | U122: =SUM(S122/T122) -> 3960000 | V122: 0.5 | W122: =SUM(U122*V122) -> 1980000 | X122: 0.5 | Y122: =SUM(U122*X122) -> 1980000 | Z122: =SUM(W122+Y122) -> 3960000 | AA122: =2022-I122+V122+X122-5/12 -> 4.5833333 | AB122: =SUM(U122*AA122) -> 18150000 | AC122: =SUM(O122-AB122) -> 1650000 | AD122: Asrama II | AF122: 18150000 | AG122: =AF122+Z122-AB122 -> 3960000
A123: 13 | B123: 1.3.2.05.01.04.002 | C123: 0001 | D123: Lemari / interior | E123: Lokal | G123: Kayu | H123: APBD | I123: 2012 | K123: Unit | L123: B | M123: 1 | N123: =SUM(O123/M123) -> 5126500 | O123: 5126500 | S123: =SUM(O123-R123) -> 5126500 | T123: 5 | V123: 0.5 | W123: =SUM(U123*V123) -> 0 | Y123: =SUM(U123*X123) -> 0 | Z123: =SUM(W123+Y123) -> 0 | AA123: 5 | AB123: 5126500 | AC123: =SUM(O123-AB123) -> 0 | AD123: As. Baru R. Makan Lt.1 | AF123: 5126500 | AG123: =AB123+Z123-AB123 -> 0
A124: 14 | B124: 1.3.2.05.01.04.002 | C124: 0001-0040 | D124: Lemari gantung / interior | E124: Lokal | G124: Kayu | H124: APBD | I124: 2012 | K124: Unit | L124: B | M124: 40 | N124: =SUM(O124/M124) -> 1217075 | O124: 48683000 | S124: =SUM(O124-R124) -> 48683000 | T124: 5 | V124: 0.5 | W124: =SUM(U124*V124) -> 0 | Y124: =SUM(U124*X124) -> 0 | Z124: =SUM(W124+Y124) -> 0 | AA124: 5 | AB124: 48683000 | AC124: =SUM(O124-AB124) -> 0 | AD124: As. Baru Lt.2 | AF124: 48683000 | AG124: =AB124+Z124-AB124 -> 0
...

Sheet REKAP BEBAN PENYUSUTAN 2022
B1: PEMERINTAH PROVINSI JAMBI
B2: REKAPITULASI BEBAN PENYUSUTAN
B3: Tahun 2022
B5: SKPD | C5: : BADAN PENGEMBANGAN SUMBER DAYA MANUSIA
Q6: =N93-Q79 -> 0
B7: No. Urut | C7: Akun | D7: Jenis | E7: Objek | F7: Rincian Objek | G7: Sub Rincian Objek | H7: Nama Bidang Barang | I7: Nilai Perolehan (Rp) | J7: Beban Penyusutan per tahun (Rp) | K7: Beban Penyusutan Semester I (Rp) | L7: Beban Penyusutan Semester II (Rp) | M7: Beban Penyusutan Tahun ini (Rp) | N7: Akumulasi Penyusutan s/d tahun lini (Rp) | O7: Nilai Buku (Rp) | P7: Keterangan | Q7: =Q74-O54 -> 0
Q9: =N54-#REF! -> #REF!
B10: 1 | C10: 2 | G10: 3 | H10: 4 | I10: 5 | J10: 6 | K10: 7 | L10: 8 | M10: 9 | N10: 10 | O10: 11 | P10: 12 | Q10: 1.1582048e+10 | R10: 1.1103851e+09
B11: 1 | C11: 3 | H11: ASET TETAP | I11: =SUM(I13+I54+I628+I703+I868+I968) -> 3.71937e+10 | J11: =SUM(J13+J54+J628+J703+J868+J968) -> 1.9921121e+09 | K11: =SUM(K13+K54+K628+K703+K868+K968) -> 5.3977708e+08 | L11: =SUM(L13+L54+L628+L703+L868+L968) -> 5.6027641e+08 | M11: =SUM(M13+M54+M628+M703+M868+M968) -> 1.1000535e+09 | N11: =SUM(N13+N54+N628+N703+N868+N968)+0.04 -> 2.0532999e+10 | O11: =SUM(O13+O54+O628+O703+O868+O968) -> 1.6660701e+10 | P11: =SUM(P13+P54+P628+P703+P868+P968) -> 0
A13: 1 | B13: 1 | C13: 3 | D13: 01 | H13: Tanah | I13: =I14 -> 0 | J13: =J14 -> 0 | K13: =K14 -> 0 | L13: =L14 -> 0 | M13: =M14 -> 0 | N13: =N14 -> 0 | O13: =O14 -> 0 | P13: =P14 -> 0
A14: a | B14: 1 | C14: 3 | D14: 01 | E14: 01 | H14: Tanah | I14: =SUM(I15+I23+I33) -> 0 | J14: =SUM(J15+J23+J33) -> 0 | K14: =SUM(K15+K23+K33) -> 0 | L14: =SUM(L15+L23+L33) -> 0 | M14: =SUM(M15+M23+M33) -> 0 | N14: =SUM(N15+N23+N33) -> 0 | O14: =SUM(O15+O23+O33) -> 0 | P14: =SUM(P15+P23+P33) -> 0
A15: - | B15: 1 | C15: 3 | D15: 01 | E15: 01 | F15: 01 | H15: Tanah Persil | I15: =SUM(I16:I22) -> 0 | J15: =SUM(J16:J22) -> 0 | K15: =SUM(K16:K22) -> 0 | L15: =SUM(L16:L22) -> 0 | M15: =SUM(M16:M22) -> 0 | N15: =SUM(N16:N22) -> 0 | O15: =SUM(O16:O22) -> 0 | P15: =SUM(P16:P22) -> 0
B16: 1 | C16: 3 | D16: 01 | E16: 01 | F16: 01 | G16: 0001 | H16: Tanah Bangunan Perumahan/Gedung Tempat Tinggal
B17: 1 | C17: 3 | D17: 01 | E17: 01 | F17: 01 | G17: 0002 | H17: Tanah untuk Bangunan Gedung Perdagangan/Perusahaan
B18: 1 | C18: 3 | D18: 01 | E18: 01 | F18: 01 | G18: 0003 | H18: Tanah untuk Bangunan Industri
B19: 1 | C19: 3 | D19: 01 | E19: 01 | F19: 01 | G19: 0004 | H19: Tanah untuk Bangunan Tempat Kerja
B20: 1 | C20: 3 | D20: 01 | E20: 01 | F20: 01 | G20: 0005 | H20: Tanah untuk Bangunan Gedung Sarana Olahraga
B21: 1 | C21: 3 | D21: 01 | E21: 01 | F21: 01 | G21: 0006 | H21: Tanah untuk Bangunan Tempat Ibadah
B22: 1 | C22: 3 | D22: 01 | E22: 01 | F22: 01 | G22: 0007 | H22: Tanah Persil Lainnya
A23: - | B23: 1 | C23: 3 | D23: 01 | E23: 01 | F23: 02 | H23: Tanah Non Persil | I23: =SUM(I24:I32) -> 0 | J23: =SUM(J24:J32) -> 0 | K23: =SUM(K24:K32) -> 0 | L23: =SUM(L24:L32) -> 0 | M23: =SUM(M24:M32) -> 0 | N23: =SUM(N24:N32) -> 0 | O23: =SUM(O24:O32) -> 0 | P23: =SUM(P24:P32) -> 0
B24: 1 | C24: 3 | D24: 01 | E24: 01 | F24: 02 | G24: 0001 | H24: Tanah Basah
B25: 1 | C25: 3 | D25: 01 | E25: 01 | F25: 02 | G25: 0002 | H25: Tanah Kering
B26: 1 | C26: 3 | D26: 01 | E26: 01 | F26: 02 | G26: 0003 | H26: Tanah Perkebunan
B27: 1 | C27: 3 | D27: 01 | E27: 01 | F27: 02 | G27: 0004 | H27: Tanah Hutan
B28: 1 | C28: 3 | D28: 01 | E28: 01 | F28: 02 | G28: 0005 | H28: Tanah Tandus
B29: 1 | C29: 3 | D29: 01 | E29: 01 | F29: 02 | G29: 0006 | H29: Tanah Padang Alang-Alang/Rumput
B30: 1 | C30: 3 | D30: 01 | E30: 01 | F30: 02 | G30: 0007 | H30: Tanah Pertanian
B31: 1 | C31: 3 | D31: 01 | E31: 01 | F31: 02 | G31: 0008 | H31: Tanah Pertambangan
B32: 1 | C32: 3 | D32: 01 | E32: 01 | F32: 02 | G32: 0009 | H32: Tanah Non Persil Lainnya
A33: - | B33: 1 | C33: 3 | D33: 01 | E33: 01 | F33: 03 | H33: Lapangan | I33: =SUM(I34:I52) -> 0 | J33: =SUM(J34:J52) -> 0 | K33: =SUM(K34:K52) -> 0 | L33: =SUM(L34:L52) -> 0 | M33: =SUM(M34:M52) -> 0 | N33: =SUM(N34:N52) -> 0 | O33: =SUM(O34:O52) -> 0 | P33: =SUM(P34:P52) -> 0
B34: 1 | C34: 3 | D34: 01 | E34: 01 | F34: 03 | G34: 0001 | H34: Tanah Lapangan Olahraga
B35: 1 | C35: 3 | D35: 01 | E35: 01 | F35: 03 | G35: 0002 | H35: Tanah Lapangan Parkir
B36: 1 | C36: 3 | D36: 01 | E36: 01 | F36: 03 | G36: 0003 | H36: Tanah Lapangan Penimbunan Barang
B37: 1 | C37: 3 | D37: 01 | E37: 01 | F37: 03 | G37: 0004 | H37: Tanah Lapangan Pemancar dan Studio Alam
B38: 1 | C38: 3 | D38: 01 | E38: 01 | F38: 03 | G38: 0005 | H38: Tanah Lapangan Pengujian/Pengolahan
B39: 1 | C39: 3 | D39: 01 | E39: 01 | F39: 03 | G39: 0006 | H39: Tanah Lapangan Terbang
B40: 1 | C40: 3 | D40: 01 | E40: 01 | F40: 03 | G40: 0007 | H40: Tanah untuk Jalan
B41: 1 | C41: 3 | D41: 01 | E41: 01 | F41: 03 | G41: 0008 | H41: Tanah untuk Bangunan Air
B42: 1 | C42: 3 | D42: 01 | E42: 01 | F42: 03 | G42: 0009 | H42: Tanah untuk Bangunan Instalasi
B43: 1 | C43: 3 | D43: 01 | E43: 01 | F43: 03 | G43: 0010 | H43: Tanah untuk Bangunan Jaringan
B44: 1 | C44: 3 | D44: 01 | E44: 01 | F44: 03 | G44: 0011 | H44: Tanah untuk Bangunan Bersejarah
B45: 1 | C45: 3 | D45: 01 | E45: 01 | F45: 03 | G45: 0012 | H45: Tanah untuk Makam
... B52: 1 | C52: 3 | D52: 01 | E52: 01 | F52: 03 | G52: 0019 | H52: Lapangan Lainnya
Q53: =Q54-L54 -> 10427348
A54: 2 | B54: 2 | C54: 02 | H54: PERALATAN DAN MESIN | I54: =SUM(I55+I93+I123+I171+I183+I206+I283+I320+I469+I490+I501+I511+I522+I536+I545+I570+I575+I603+I619) -> 1.2692433e+10 | J54: =SUM(J55+J93+J123+J171+J183+J206+J283+J320+J469+J490+J501+J511+J522+J536+J545+J570+J575+J603+J619) -> 9.7937768e+08 | K54: =SUM(K55+K93+K123+K171+K183+K206+K283+K320+K469+K490+K501+K511+K522+K536+K545+K570+K575+K603+K619)+0.06 -> 2.8156001e+08 | L54: =SUM(L55+L93+L123+L171+L183+L206+L283+L320+L469+L490+L501+L511+L522+L536+L545+L570+L575+L603+L619) -> 2.7278217e+08 | M54: =SUM(M55+M93+M123+M171+M183+M206+M283+M320+M469+M490+M501+M511+M522+M536+M545+M570+M575+M603+M619)+0.06 -> 5.5434219e+08 | N54: =SUM(N55+N93+N123+N171+N183+N206+N283+N320+N469+N490+N501+N511+N522+N536+N545+N570+N575+N603+N619)+0.06 -> 1.157722e+10 | O54: =SUM(O55+O93+O123+O171+O183+O206+O283+O320+O469+O490+O501+O511+O522+O536+O545+O570+O575+O603+O619)-0.07 -> 1.1152137e+09 | P54: =SUM(P55+P93+P123+P171+P183+P206+P283+P320+P469+P490+P501+P511+P522+P536+P545+P570+P575+P603+P619) -> 0 | Q54: 2.8320952e+08
A55: a | B55: 1 | C55: 3 | D55: 02 | E55: 01 | H55: Alat Besar | I55: =SUM(I56+I69+I76) -> 509600000 | J55: =SUM(J56+J69+J76) -> 50960000 | K55: =SUM(K56+K69+K76) -> 25480000 | L55: =SUM(L56+L69+L76) -> 25480000 | M55: =SUM(M56+M69+M76) -> 50960000 | N55: =SUM(N56+N69+N76) -> 509600000 | O55: =SUM(O56+O69+O76) -> 0 | P55: =SUM(P56+P69+P76) -> 0
A56: - | B56: 1 | C56: 3 | D56: 02 | E56: 01 | F56: 01 | H56: Alat Besar Darat | I56: =SUM(I57:I68) -> 0 | J56: =SUM(J57:J68) -> 0 | K56: =SUM(K57:K68) -> 0 | L56: =SUM(L57:L68) -> 0 | M56: =SUM(M57:M68) -> 0 | N56: =SUM(N57:N68) -> 0 | O56: =SUM(O57:O68) -> 0 | P56: =SUM(P57:P68) -> 0
B57: 1 | C57: 3 | D57: 02 | E57: 01 | F57: 01 | G57: 0001 | H57: Tractor
B58: 1 | C58: 3 | D58: 02 | E58: 01 | F58: 01 | G58: 0002 | H58: Grader
B59: 1 | C59: 3 | D59: 02 | E59: 01 | F59: 01 | G59: 0003 | H59: Excavator
B60: 1 | C60: 3 | D60: 02 | E60: 01 | F60: 01 | G60: 0004 | H60: Pile Driver
B61: 1 | C61: 3 | D61: 02 | E61: 01 | F61: 01 | G61: 0005 | H61: Hauler
B62: 1 | C62: 3 | D62: 02 | E62: 01 | F62: 01 | G62: 0006 | H62: Asphalt Equipment
B63: 1 | C63: 3 | D63: 02 | E63: 01 | F63: 01 | G63: 0007 | H63: Compacting Equipment
B64: 1 | C64: 3 | D64: 02 | E64: 01 | F64: 01 | G64: 0008 | H64: Aggregate and Concrete Equipment
B65: 1 | C65: 3 | D65: 02 | E65: 01 | F65: 01 | G65: 0009 | H65: Loader
B66: 1 | C66: 3 | D66: 02 | E66: 01 | F66: 01 | G66: 0010 | H66: Alat Pengangkat
B67: 1 | C67: 3 | D67: 02 | E67: 01 | F67: 01 | G67: 0011 | H67: Mesin Proses
B68: 1 | C68: 3 | D68: 02 | E68: 01 | F68: 01 | G68: 0012 | H68: Alat Besar Darat Lainnya
A69: - | B69: 1 | C69: 3 | D69: 02 | E69: 01 | F69: 02 | H69: Alat Besar Apung | I69: =SUM(I70:I75) -> 0 | J69: =SUM(J70:J75) -> 0 | K69: =SUM(K70:K75) -> 0 | L69: =SUM(L70:L75) -> 0 | M69: =SUM(M70:M75) -> 0 | N69: =SUM(N70:N75) -> 0 | O69: =SUM(O70:O75) -> 0 | P69: =SUM(P70:P75) -> 0
B70: 1 | C70: 3 | D70: 02 | E70: 01 | F70: 02 | G70: 0001 | H70: Dredger
B71: 1 | C71: 3 | D71: 02 | E71: 01 | F71: 02 | G71: 0002 | H71: Floating Excavator
B72: 1 | C72: 3 | D72: 02 | E72: 01 | F72: 02 | G72: 0003 | H72: Amphibi Dredger
B73: 1 | C73: 3 | D73: 02 | E73: 01 | F73: 02 | G73: 0004 | H73: Kapal Tarik
B74: 1 | C74: 3 | D74: 02 | E74: 01 | F74: 02 | G74: 0005 | H74: Mesin Proses Apung | Q74: 1.1152137e+09
B75: 1 | C75: 3 | D75: 02 | E75: 01 | F75: 02 | G75: 0006 | H75: Alat Besar Apung Lainnya
A76: - | B76: 1 | C76: 3 | D76: 02 | E76: 01 | F76: 03 | H76: Alat Bantu | I76: =SUM(I77:I92) -> 509600000 | J76: =SUM(J77:J92) -> 50960000 | K76: =SUM(K77:K92) -> 25480000 | L76: =SUM(L77:L92) -> 25480000 | M76: =SUM(M77:M92) -> 50960000 | N76: =SUM(N77:N92) -> 509600000 | O76: =SUM(O77:O92) -> 0 | P76: =SUM(P77:P92) -> 0
B77: 1 | C77: 3 | D77: 02 | E77: 01 | F77: 03 | G77: 0001 | H77: Alat Penarik
B78: 1 | C78: 3 | D78: 02 | E78: 01 | F78: 03 | G78: 0002 | H78: Feeder
B79: 1 | C79: 3 | D79: 02 | E79: 01 | F79: 03 | G79: 0003 | H79: Compressor | Q79: 2.2867325e+09
B80: 1 | C80: 3 | D80: 02 | E80: 01 | F80: 03 | G80: 0004 | H80: Electric Generating Set | I80: 509600000 | J80: 50960000 | K80: 25480000 | L80: 25480000 | M80: 50960000 | N80: 509600000 | O80: 0
B81: 1 | C81: 3 | D81: 02 | E81: 01 | F81: 03 | G81: 0005 | H81: Pompa
B82: 1 | C82: 3 | D82: 02 | E82: 01 | F82: 03 | G82: 0006 | H82: Mesin Bor
B83: 1 | C83: 3 | D83: 02 | E83: 01 | F83: 03 | G83: 0007 | H83: Unit Pemeliharaan Lapangan
B84: 1 | C84: 3 | D84: 02 | E84: 01 | F84: 03 | G84: 0008 | H84: Alat Pengolahan Air Kotor
B85: 1 | C85: 3 | D85: 02 | E85: 01 | F85: 03 | G85: 0009 | H85: Pembangkit Uap Air Panas/Steam Generator
B86: 1 | C86: 3 | D86: 02 | E86: 01 | F86: 03 | G86: 0010 | H86: Air Port Maintenance Equipment/Alat Bantu Penerbangan
B87: 1 | C87: 3 | D87: 02 | E87: 01 | F87: 03 | G87: 0011 | H87: Mesin Tatoo
B88: 1 | C88: 3 | D88: 02 | E88: 01 | F88: 03 | G88: 0012 | H88: Perlengkapan Kebakaran Hutan
B89: 1 | C89: 3 | D89: 02 | E89: 01 | F89: 03 | G89: 0013 | H89: Peralatan Selam
B90: 1 | C90: 3 | D90: 02 | E90: 01 | F90: 03 | G90: 0014 | H90: Peralatan SAR Mountenering
B91: 1 | C91: 3 | D91: 02 | E91: 01 | F91: 03 | G91: 0015 | H91: Peralatan Intelijen
B92: 1 | C92: 3 | D92: 02 | E92: 01 | F92: 03 | G92: 0016 | H92: Alat Bantu Lainnya
A93: b | B93: 1 | C93: 3 | D93: 02 | E93: 02 | H93: Alat Angkutan | I93: =SUM(I94+I104+I109+I115+I120) -> 2493984900 | J93: =SUM(J94+J104+J109+J115+J120) -> 2.2791857e+08 | K93: =SUM(K94+K104+K109+K115+K120) -> 43335714 | L93: =SUM(L94+L104+L109+L115+L120) -> 41010714 | M93: =SUM(M94+M104+M109+M115+M120) -> 84346429 | N93: =SUM(N94+N104+N109+N115+N120) -> 2.2867325e+09 | O93: =SUM(O94+O104+O109+O115+O120) -> 2.0725238e+08 | P93: =SUM(P94+P104+P109+P115+P120) -> 0
A94: - | B94: 1 | C94: 3 | D94: 02 | E94: 02 | F94: 01 | H94: Alat Angkutan Darat Bermotor | I94: =SUM(I95:I103) -> 2481994900 | J94: =SUM(J95:J103) -> 2.2791857e+08 | K94: =SUM(K95:K103) -> 43335714 | L94: =SUM(L95:L103) -> 41010714 | M94: =SUM(M95:M103) -> 84346429 | N94: =SUM(N95:N103) -> 2.2747425e+09 | O94: =SUM(O95:O103) -> 2.0725238e+08 | P94: =SUM(P95:P103) -> 0
B95: 1 | C95: 3 | D95: 02 | E95: 02 | F95: 01 | G95: 0001 | H95: Kendaraan Dinas Bermotor Perorangan | I95: 1963604900 | J95: 1.6210429e+08 | K95: 22142857 | L95: 22142857 | M95: 44285714 | N95: 1.7901525e+09 | O95: 1.7345238e+08
B96: 1 | C96: 3 | D96: 02 | E96: 02 | F96: 01 | G96: 0002 | H96: Kendaraan Bermotor Penumpang
B97: 1 | C97: 3 | D97: 02 | E97: 02 | F97: 01 | G97: 0003 | H97: Kendaraan Bermotor Angkutan Barang | I97: 195300000 | J97: 27900000 | K97: 13950000 | L97: 11625000 | M97: 25575000 | N97: 195300000
B98: 1 | C98: 3 | D98: 02 | E98: 02 | F98: 01 | G98: 0004 | H98: Kendaraan Bermotor Beroda Dua | I98: 323090000 | J98: 37914286 | K98: 7242857.1 | L98: 7242857.1 | M98: 14485714 | N98: 289290000 | O98: 33800000
B99: 1 | C99: 3 | D99: 02 | E99: 02 | F99: 01 | G99: 0005 | H99: Kendaraan Bermotor Beroda Tiga
B100: 1 | C100: 3 | D100: 02 | E100: 02 | F100: 01 | G100: 0006 | H100: Kendaraan Bermotor Khusus
B101: 1 | C101: 3 | D101: 02 | E101: 02 | F101: 01 | G101: 0007 | H101: Kendaraan Tempur
B102: 1 | C102: 3 | D102: 02 | E102: 02 | F102: 01 | G102: 0008 | H102: Alat Angkutan Kereta Rel
B103: 1 | C103: 3 | D103: 02 | E103: 02 | F103: 01 | G103: 0009 | H103: Alat Angkutan Darat Bermotor Lainnya
A104: - | B104: 1 | C104: 3 | D104: 02 | E104: 02 | F104: 02 | H104: Alat Angkutan Darat Tak Bermotor | I104: =SUM(I105:I108) -> 11990000 | J104: =SUM(J105:J108) -> 0 | K104: =SUM(K105:K108) -> 0 | L104: =SUM(L105:L108) -> 0 | M104: =SUM(M105:M108) -> 0 | N104: =SUM(N105:N108) -> 11990000 | O104: =SUM(O105:O108) -> 0 | P104: =SUM(P105:P108) -> 0
B105: 1 | C105: 3 | D105: 02 | E105: 02 | F105: 02 | G105: 0001 | H105: Kendaraan Tak Bermotor Angkutan Barang | I105: 11990000 | N105: 11990000
B106: 1 | C106: 3 | D106: 02 | E106: 02 | F106: 02 | G106: 0002 | H106: Kendaraan Tak Bermotor Penumpang
B107: 1 | C107: 3 | D107: 02 | E107: 02 | F107: 02 | G107: 0003 | H107: Alat Angkutan Kereta Rel Tak Bermotor
B108: 1 | C108: 3 | D108: 02 | E108: 02 | F108: 02 | G108: 0004 | H108: Alat Angkutan Darat Tak Bermotor Lainnya
A109: - | B109: 1 | C109: 3 | D109: 02 | E109: 02 | F109: 03 | H109: Alat Angkutan Apung Bermotor | I109: =SUM(I110:I114) -> 0 | J109: =SUM(J110:J114) -> 0 | K109: =SUM(K110:K114) -> 0 | L109: =SUM(L110:L114) -> 0 | M109: =SUM(M110:M114) -> 0 | N109: =SUM(N110:N114) -> 0 | O109: =SUM(O110:O114) -> 0 | P109: =SUM(P110:P114) -> 0
...

Sheet BI Sem. I tahun 2023 108
A1: BUKU INVENTARIS
A2: SEMESTER I
A3: TAHUN 2023
A4: NOMOR | D4: SPESIFIKASI BARANG | G4: Bahan | H4: Asal / Cara Perolehan Barang | I4: Tahun Perolehan | J4: Ukuran Barang Kontruksi | K4: Satuan | L4: Keadaan Barang | M4: JUMLAH | P4: Tabel Bantu untuk Nilai Buku Aset yang ada Rehab / Penambahan Belanja | Q4: Nilai Residu | S4: Nilai Perolehan setelah dikurangi Nilai Residu | T4: Masa Manfaat (Tahun) | U4: Beban Penyusutan Per Tahun | V4: Beban Penyusutan Periode ini | Z4: Beban Tahun Ini | AA4: Penyusut an Tahun ke - | AB4: Akumulasi Penyusutan | AC4: Nilai Buku | AD4: Lokasi Barang | AE4: Keterangan
A5: No. Urut | B5: Kode Barang | C5: Register | D5: Nama/Jenis Barang | E5: Merk/Type | F5: No. Sertifikat / No. Plat Kendaraan / No. Pabrik / No. Casis | M5: Barang | N5: Harga Satuan | O5: Harga Perolehan | Q5: Tarif Nilai Residu (% dari Harga Perolehan) | R5: N I L A I R E SI D U | V5: Semester I | X5: Semester II
L6: (B/KB/RB) | V6: Waktu | W6: Nilai | X6: Waktu | Y6: Nilai
A7: 1 | B7: 2 | C7: 3 | D7: 4 | E7: 5 | F7: 6 | G7: 7 | H7: 8 | I7: 9 | J7: 10 | K7: 11 | L7: 12 | M7: 13 | N7: 14 | O7: 15 | P7: 16 | Q7: 17 | R7: 18 | S7: 19 | T7: 20 | U7: 21 | V7: 22 | W7: 23 | X7: 24 | Y7: 25 | Z7: 26 | AA7: 27 | AB7: 28 | AC7: 29 | AD7: 30 | AE7: 31
A8: 1 | B8: 1.3.1 | D8: TANAH | M8: =M9+M14+M19+M24 -> 0 | O8: =O9+O14+O19+O24 -> 0 | P8: =P9+P14+P19+P24 -> 0 | Q8: =Q9+Q14+Q19+Q24 -> 0 | R8: =R9+R14+R19+R24 -> 0 | S8: =S9+S14+S19+S24 -> 0 | U8: =U9+U14+U19+U24 -> 0 | W8: =W9+W14+W19+W24 -> 0 | Y8: =Y9+Y14+Y19+Y24 -> 0 | Z8: =Z9+Z14+Z19+Z24 -> 0 | AB8: =AB9+AB14+AB19+AB24 -> 0 | AC8: =AC9+AC14+AC19+AC24 -> 0
B9: 1.3.1.01 | D9: TANAH | M9: =SUM(M10:M13) -> 0 | O9: =SUM(O10:O13) -> 0 | P9: =SUM(P10:P13) -> 0 | Q9: =SUM(Q10:Q13) -> 0 | R9: =SUM(R10:R13) -> 0 | S9: =SUM(S10:S13) -> 0 | U9: =SUM(U10:U13) -> 0 | W9: =SUM(W10:W13) -> 0 | Y9: =SUM(Y10:Y13) -> 0 | Z9: =SUM(Z10:Z13) -> 0 | AB9: =SUM(AB10:AB13) -> 0 | AC9: =SUM(AC10:AC13) -> 0
B14: 1.3.1.01.01 | D14: TANAH PERSIL | M14: =SUM(M15:M18) -> 0 | O14: =SUM(O15:O18) -> 0 | P14: =SUM(P15:P18) -> 0 | Q14: =SUM(Q15:Q18) -> 0 | R14: =SUM(R15:R18) -> 0 | S14: =SUM(S15:S18) -> 0 | U14: =SUM(U15:U18) -> 0 | W14: =SUM(W15:W18) -> 0 | Y14: =SUM(Y15:Y18) -> 0 | Z14: =SUM(Z15:Z18) -> 0 | AB14: =SUM(AB15:AB18) -> 0 | AC14: =SUM(AC15:AC18) -> 0
B19: 1.3.1.01.02 | D19: TANAH NON PERSIL | M19: =SUM(M20:M23) -> 0 | O19: =SUM(O20:O23) -> 0 | P19: =SUM(P20:P23) -> 0 | Q19: =SUM(Q20:Q23) -> 0 | R19: =SUM(R20:R23) -> 0 | S19: =SUM(S20:S23) -> 0 | U19: =SUM(U20:U23) -> 0 | W19: =SUM(W20:W23) -> 0 | Y19: =SUM(Y20:Y23) -> 0 | Z19: =SUM(Z20:Z23) -> 0 | AB19: =SUM(AB20:AB23) -> 0 | AC19: =SUM(AC20:AC23) -> 0
B24: 1.3.1.01.03 | D24: LAPANGAN | M24: =SUM(M25:M28) -> 0 | O24: =SUM(O25:O28) -> 0 | P24: =SUM(P25:P28) -> 0 | Q24: =SUM(Q25:Q28) -> 0 | R24: =SUM(R25:R28) -> 0 | S24: =SUM(S25:S28) -> 0 | U24: =SUM(U25:U28) -> 0 | W24: =SUM(W25:W28) -> 0 | Y24: =SUM(Y25:Y28) -> 0 | Z24: =SUM(Z25:Z28) -> 0 | AB24: =SUM(AB25:AB28) -> 0 | AC24: =SUM(AC25:AC28) -> 0
A30: 2 | B30: 1.3.2 | D30: PERALATAN DAN MESIN | M30: =SUM(M31+M44+M101+M786+M808+M846+M1058) -> 5054 | O30: =SUM(O31+O44+O101+O786+O808+O846+O1058) -> 1.2923541e+10 | P30: =P31+P44+P89+P96+P101+P786+P808+P816+P837+P846+P1010+P1015+P1020+P1029+P1036+P1045+P1048+P1051+P1058 -> 0 | Q30: =Q31+Q44+Q89+Q96+Q101+Q786+Q808+Q816+Q837+Q846+Q1010+Q1015+Q1020+Q1029+Q1036+Q1045+Q1048+Q1051+Q1058 -> 0 | R30: =R31+R44+R89+R96+R101+R786+R808+R816+R837+R846+R1010+R1015+R1020+R1029+R1036+R1045+R1048+R1051+R1058 -> 0 | S30: =SUM(S31+S44+S101+S786+S808+S846+S1058) -> 1.2923541e+10 | U30: =SUM(U31+U44+U101+U786+U808+U816+U837+U846+U1010+U1015+U1020+U1029+U1036+U1045+U1048+U1051+U1058) -> 9.4800178e+08 | W30: =SUM(W31+W44+W101+W786+W808+W816+W837+W846+W1010+W1015+W1020+W1029+W1036+W1045+W1048+W1051+W1058) -> 2.2148165e+08 | Y30: =SUM(Y31+Y44+Y101+Y786+Y808+Y816+Y837+Y846+Y1010+Y1015+Y1020+Y1029+Y1036+Y1045+Y1048+Y1051+Y1058) -> 0 | Z30: =SUM(Z31+Z44+Z101+Z786+Z808+Z816+Z837+Z846+Z1010+Z1015+Z1020+Z1029+Z1036+Z1045+Z1048+Z1051+Z1058) -> 2.2148165e+08 | AB30: =SUM(AB31+AB44+AB101+AB786+AB808+AB816+AB837+AB846+AB1010+AB1015+AB1020+AB1029+AB1036+AB1045+AB1048+AB1051+AB1058) -> 1.1798701e+10 | AC30: =SUM(AC31+AC44+AC101+AC786+AC808+AC846+AC1058) -> 1.12484e+09 | AF30: 1.1276423e+09 | AG30: =AF30-AC30 -> 2802285.4
B31: 1.3.2.01 | D31: ALAT BESAR | M31: =SUM(M40) -> 1 | O31: =SUM(O40) -> 509600000 | P31: =P32+P36+P40 -> 0 | Q31: =Q32+Q36+Q40 -> 0 | R31: =R32+R36+R40 -> 0 | S31: =SUM(S40) -> 509600000 | U31: =U32+U36+U40 -> 50960000 | W31: =W32+W36+W40 -> 0 | Y31: =Y32+Y36+Y40 -> 0 | Z31: =Z32+Z36+Z40 -> 0 | AB31: =SUM(AB40) -> 509600000 | AC31: =AC32+AC36+AC40 -> 0 | AF31: 1.1817729e+10
B32: 1.3.2.01.01 | D32: ALAT BESAR DARAT | M32: =SUM(M33:M35) -> 0 | O32: =SUM(O33:O35) -> 0 | P32: =SUM(P33:P35) -> 0 | Q32: =SUM(Q33:Q35) -> 0 | R32: =SUM(R33:R35) -> 0 | S32: =SUM(S33:S35) -> 0 | U32: =SUM(U33:U35) -> 0 | W32: =SUM(W33:W35) -> 0 | Y32: =SUM(Y33:Y35) -> 0 | Z32: =SUM(Z33:Z35) -> 0 | AB32: =SUM(AB33:AB35) -> 0 | AC32: =SUM(AC33:AC35) -> 0
B36: 1.3.2.01.02 | D36: ALAT BESAR APUNG | M36: =SUM(M37:M39) -> 0 | O36: =SUM(O37:O39) -> 0 | P36: =SUM(P37:P39) -> 0 | Q36: =SUM(Q37:Q39) -> 0 | R36: =SUM(R37:R39) -> 0 | S36: =SUM(S37:S39) -> 0 | U36: =SUM(U37:U39) -> 0 | W36: =SUM(W37:W39) -> 0 | Y36: =SUM(Y37:Y39) -> 0 | Z36: =SUM(Z37:Z39) -> 0 | AB36: =SUM(AB37:AB39) -> 0 | AC36: =SUM(AC37:AC39) -> 0
B40: 1.3.2.01.03 | D40: ALAT BANTU | M40: =SUM(M41) -> 1 | O40: =O41 -> 509600000 | P40: =SUM(P42:P43) -> 0 | Q40: =SUM(Q42:Q43) -> 0 | R40: =SUM(R42:R43) -> 0 | S40: =S41 -> 509600000 | U40: =U41 -> 50960000 | W40: =W41 -> 0 | Y40: =Y41 -> 0 | Z40: =Z41 -> 0 | AB40: =AB41 -> 509600000 | AC40: =AC41 -> 0 | AF40: 1.2692433e+10 | AG40: =O30-AF40 -> 231108000 | AH40: 351052000 | AI40: =AH40-AG40 -> 119944000
B41: 1.3.2.01.03.04 | D41: Electric Generating Set | M41: =SUM(M42) -> 1 | O41: =SUM(O42) -> 509600000 | S41: =SUM(S42) -> 509600000 | U41: =SUM(U42) -> 50960000 | W41: =SUM(W42) -> 0 | Z41: =SUM(Z42) -> 0 | AB41: =SUM(AB42) -> 509600000 | AC41: =SUM(AC42) -> 0
A42: 1 | B42: 1.3.2.01.03.04.003 | C42: 0001 | D42: Genset | E42: Baifa Power/200 KVA | G42: Besi | H42: APBD | I42: 2013 | K42: Unit | L42: B | M42: 1 | N42: 509600000 | O42: 509600000 | S42: =SUM(N42-R42) -> 509600000 | T42: 10 | U42: =SUM(S42/T42) -> 50960000 | W42: =SUM(U42*V42) -> 0 | Y42: =SUM(U42*X42) -> 0 | Z42: =SUM(W42+Y42) -> 0 | AA42: 10 | AB42: =SUM(U42*AA42) -> 509600000 | AC42: =SUM(O42-AB42) -> 0 | AD42: Gudang Genset | AF42: 1.1276423e+09 | AG42: =AC30-AF42 -> -2802285.1
B44: 1.3.2.02 | D44: ALAT ANGKUTAN | M44: =SUM(M46+M56+M58+M79) -> 32 | O44: =SUM(O46+O56+O58+O79) -> 2493984900 | P44: =P45+P79+P83+P85+P87 -> 0 | Q44: =Q45+Q79+Q83+Q85+Q87 -> 0 | R44: =R45+R79+R83+R85+R87 -> 0 | S44: =SUM(S46+S56+S58+S79) -> 2493984900 | U44: =SUM(U46+U56+U58+U79) -> 2.2791857e+08 | W44: =SUM(W46+W56+W58+W79) -> 29385714 | Y44: =Y45+Y79+Y83+Y85+Y87 -> 0 | Z44: =SUM(Z46+Z56+Z58+Z79) -> 29385714 | AB44: =SUM(AB46+AB56+AB58+AB79) -> 2.3161182e+09 | AC44: =SUM(AC46+AC56+AC58+AC79) -> 1.7786667e+08
B45: 1.3.2.02.01 | D45: ALAT ANGKUTAN DARAT BERMOTOR | M45: =SUM(M46+M56+M58) -> 30 | O45: =SUM(O46+O56+O58) -> 2481994900 | P45: =SUM(P76:P78) -> 0 | Q45: =SUM(Q76:Q78) -> 0 | R45: =SUM(R76:R78) -> 0 | S45: =SUM(S46+S56+S58) -> 2481994900 | U45: =SUM(U46+U56+U58) -> 2.2791857e+08 | W45: =SUM(W46+W56+W58) -> 29385714 | Y45: =SUM(Y47:Y78) -> 0 | Z45: =SUM(Z46+Z56+Z58) -> 29385714 | AB45: =SUM(AB46+AB56+AB58) -> 2.3041282e+09 | AC45: =SUM(AC46+AC56+AC58) -> 1.7786667e+08
B46: 1.3.2.02.01.01 | D46: KENDARAAN DINAS BERMOTOR PERORANGAN | M46: =SUM(M47:M55) -> 9 | O46: =SUM(O47:O55) -> 1963604900 | S46: =SUM(S47:S55) -> 1963604900 | U46: =SUM(U47:U55) -> 1.6210429e+08 | W46: =SUM(W47:W55) -> 22142857 | Z46: =SUM(Z47:Z55) -> 22142857 | AB46: =SUM(AB47:AB55) -> 1.8122954e+09 | AC46: =SUM(AC47:AC55) -> 1.5130952e+08
A47: 1 | B47: 1.3.2.02.01.01.006 | C47: 0001 | D47: Minibus | E47: Grand Levina | F47: BH 1941 Z /MHBGIC66F9J007085/MR.18-044015R | G47: Besi | H47: APBD | I47: 2009 | K47: Unit | L47: B | M47: 1 | N47: 209255500 | O47: 209255500 | S47: =SUM(O47-R47) -> 209255500 | T47: 7 | U47: 0 | V47: 0.5 | W47: =SUM(U47*V47) -> 0 | Y47: =SUM(U47*X47) -> 0 | Z47: =SUM(W47+Y47) -> 0 | AA47: 7 | AB47: 209255500 | AC47: =SUM(O47-AB47) -> 0 | AD47: kabid PKM
A48: 2 | B48: 1.3.2.02.01.01.006 | C48: 0002 | D48: Minibus | E48: Daihatsu Terios | F48: BH 1913 AZ /MHKG2CJ2JBK051313/DCJ4700 | G48: Besi | H48: APBD | I48: 2011 | K48: Unit | L48: B | M48: 1 | N48: 174500000 | O48: 174500000 | S48: =SUM(O48-R48) -> 174500000 | T48: 7 | U48: 0 | V48: 0.5 | W48: =SUM(U48*V48) -> 0 | Y48: =SUM(U48*X48) -> 0 | Z48: =SUM(W48+Y48) -> 0 | AA48: 7 | AB48: 174500000 | AC48: =SUM(O48-AB48) -> 0 | AD48: WI
A49: 3 | B49: 1.3.2.02.01.01.006 | C49: 0003 | D49: Minibus | E49: Toyota Innova | F49: BH 1503 Z, MHFXW43G0B4060163/ITR-7183625 | H49: APBD | I49: 2011 | K49: Unit | L49: B | M49: 1 | N49: 255650000 | O49: 255650000 | S49: =SUM(O49-R49) -> 255650000 | T49: 7 | U49: =SUM(S49/T49) -> 36521429 | AA49: 7 | AB49: 2.5565e+08 | AD49: Operasional | AE49: Mutasi Biro Umum
A50: 4 | B50: 1.3.2.02.01.01.006 | C50: 0004 | D50: Minibus | E50: Kijang Inova | F50: BH 38 | G50: Besi | H50: APBD | I50: 2012 | K50: Unit | L50: B | M50: 1 | N50: 264119400 | O50: 264119400 | S50: =SUM(O50-R50) -> 264119400 | T50: 7 | U50: 0 | V50: 0.5 | W50: =SUM(U50*V50) -> 0 | Y50: =SUM(U50*X50) -> 0 | Z50: =SUM(W50+Y50) -> 0 | AA50: 7 | AB50: 264119400 | AC50: =SUM(O50-AB50) -> 0 | AD50: Kepala Badan
A51: 5 | B51: 1.3.2.02.01.01.006 | C51: 0005 | D51: Minibus | E51: Dahatsu Terios | F51: BH 1440 Z | G51: Besi | H51: APBD | I51: 2012 | K51: Unit | L51: B | M51: 1 | N51: 181000000 | O51: 181000000 | S51: =SUM(O51-R51) -> 181000000 | T51: 7 | U51: 0 | V51: 0.5 | W51: =SUM(U51*V51) -> 0 | Y51: =SUM(U51*X51) -> 0 | Z51: =SUM(W51+Y51) -> 0 | AA51: 7 | AB51: 181000000 | AC51: =SUM(O51-AB51) -> 0 | AD51: Kabid PKTUF
A52: 6 | B52: 1.3.2.02.01.01.006 | C52: 0006 | D52: Minibus | E52: Suzuki Ertiga GX Elegan MT Black | F52: BH 1899 Z/K14BT-1100850/MHYKZE81SEJ207953 | G52: Besi | H52: APBD | I52: 2014 | K52: Unit | L52: B | M52: 1 | N52: 183670000 | O52: 183670000 | S52: =SUM(O52-R52) -> 183670000 | T52: 7 | U52: =SUM(S52/T52) -> 26238571 | V52: 0.5 | Y52: =SUM(U52*X52) -> 0 | AA52: 7 | AB52: =SUM(U52*AA52) -> 183670000 | AC52: =SUM(O52-AB52) -> 0 | AD52: Kabid PKTI
A53: 7 | B53: 1.3.2.02.01.01.006 | C53: 0007 | D53: Minibus | E53: Suzuki Ertiga GX Elegan MT White | F53: BH 1939 Z/K14BT-1095919/MHYKZE81SEJ208204 | G53: Besi | H53: APBD | I53: 2014 | K53: Unit | L53: B | M53: 1 | N53: 183670000 | O53: 183670000 | S53: =SUM(O53-R53) -> 183670000 | T53: 7 | U53: =SUM(S53/T53) -> 26238571 | V53: 0.5 | Y53: =SUM(U53*X53) -> 0 | AA53: 7 | AB53: =SUM(U53*AA53) -> 183670000 | AC53: =SUM(O53-AB53) -> 0 | AD53: Kabid SKPK
A54: 8 | B54: 1.3.2.02.01.01.006 | C54: 0008 | D54: Minibus | E54: Suzuki Ertiga GX Elegan AT White | F54: BH 1940 Z/K14BT-1109297/MHYKZE81SEJ209978 | G54: Besi | H54: APBD | I54: 2014 | K54: Unit | L54: B | M54: 1 | N54: 201740000 | O54: 201740000 | S54: =SUM(O54-R54) -> 201740000 | T54: 7 | U54: =SUM(S54/T54) -> 28820000 | V54: 0.5 | Y54: =SUM(U54*X54) -> 0 | AA54: 7 | AB54: =SUM(U54*AA54) -> 201740000 | AC54: =SUM(O54-AB54) -> 0 | AD54: Sekretaris Badan
A55: 10 | B55: 1.3.2.02.01.01.006 | C55: 0010 | D55: Minibus | E55: Toyota Innova | F55: BH 1060 Z, MHFJW8EM2K2368401 | G55: Besi | H55: APBD | I55: 2019 | K55: Unit | L55: B | M55: 1 | N55: 310000000 | O55: 310000000 | S55: =SUM(O55-R55) -> 310000000 | T55: 7 | U55: =SUM(S55/T55) -> 44285714 | V55: 0.5 | W55: =SUM(U55*V55) -> 22142857 | Y55: =U55*X55 -> 0 | Z55: =SUM(W55+Y55) -> 22142857 | AA55: =2023-I55+V55+X55-11/12 -> 3.5833333 | AB55: =SUM(U55*AA55) -> 1.5869048e+08 | AC55: =SUM(O55-AB55) -> 1.5130952e+08 | AD55: Widyaiswara Utama | AE55: Mutasi Biro PBMD
B56: 1.3.2.02.01.03 | D56: KENDARAAN BERMOTOR ANGKUTAN BARANG | M56: =SUM(M57) -> 1 | O56: =SUM(O57) -> 195300000 | S56: =SUM(S57) -> 195300000 | U56: =SUM(U57) -> 27900000 | W56: =SUM(W57) -> 0 | Z56: =SUM(Z57) -> 0 | AB56: =SUM(AB57) -> 195300000 | AC56: =SUM(AC57) -> 0
A57: 9 | B57: 1.3.2.02.01.03.002 | C57: 0009 | D57: Pick Up | E57: Toyota Hilux | G57: Besi | H57: APBD | I57: 2015 | K57: Unit | L57: B | M57: 1 | N57: 195300000 | O57: 195300000 | S57: =SUM(O57-R57) -> 195300000 | T57: 7 | U57: =SUM(S57/T57) -> 27900000 | W57: =SUM(U57*V57) -> 0 | Y57: =U57*X57 -> 0 | Z57: =SUM(W57+Y57) -> 0 | AA57: 7 | AB57: =SUM(U57*AA57) -> 195300000 | AC57: =SUM(O57-AB57) -> 0 | AD57: Operasional
B58: 1.3.2.02.01.04 | D58: KENDARAAN BERMOTOR BERODA DUA | M58: =SUM(M59:M78) -> 20 | O58: =SUM(O59:O78) -> 323090000 | S58: =SUM(S59:S78) -> 323090000 | U58: =SUM(U59:U78) -> 37914286 | W58: =SUM(W59:W78) -> 7242857.1 | Z58: =SUM(Z59:Z78) -> 7242857.1 | AB58: =SUM(AB59:AB78) -> 2.9653286e+08 | AC58: =SUM(AC59:AC78) -> 26557143
A59: 11 | B59: 1.3.2.02.01.04.001 | C59: 0001 | D59: Sepeda motor | E59: Honda / NF125 TR | F59: BH BH 2373 Z /MH1JB91179K755362/JB1E-1752034 | G59: Besi | H59: APBD | I59: 2009 | K59: Unit | L59: B | M59: 1 | N59: 14150000 | O59: 14150000 | S59: =SUM(O59-R59) -> 14150000 | T59: 7 | W59: =SUM(U59*V59) -> 0 | Z59: =SUM(W59+Y59) -> 0 | AA59: 7 | AB59: 14150000 | AC59: =SUM(O59-AB59) -> 0 | AD59: Fungsional Umum
A60: 12 | B60: 1.3.2.02.01.04.001 | C60: 0002 | D60: Sepeda motor | E60: Honda / NF125 TR | F60: BH 2368 Z /MH1JB91179K790129/JB1E-1787288 | G60: Besi | H60: APBD | I60: 2009 | K60: Unit | L60: B | M60: 1 | N60: 14150000 | O60: 14150000 | S60: =SUM(O60-R60) -> 14150000 | T60: 7 | W60: =SUM(U60*V60) -> 0 | Y60: =SUM(U60*X60) -> 0 | Z60: =SUM(W60+Y60) -> 0 | AA60: 7 | AB60: 14150000 | AC60: =SUM(O60-AB60) -> 0 | AD60: Fungsional Umum
A61: 13 | B61: 1.3.2.02.01.04.001 | C61: 0003 | D61: Sepeda motor | E61: Honda / New Vario | F61: BH 2944 HZ /MH1JF7113BK085534/JF71E-1084924 | G61: Besi | H61: APBD | I61: 2011 | K61: Unit | L61: B | M61: 1 | N61: 14695000 | O61: 14695000 | S61: =SUM(O61-R61) -> 14695000 | T61: 7 | W61: =SUM(U61*V61) -> 0 | Y61: =SUM(U61*X61) -> 0 | Z61: =SUM(W61+Y61) -> 0 | AA61: 7 | AB61: 14695000 | AC61: =SUM(O61-AB61) -> 0 | AD61: Kasubbag Program dan pelaporan
A62: 14 | B62: 1.3.2.02.01.04.001 | C62: 0004 | D62: Sepeda motor | E62: Honda / New Vario | F62: BH 2943 HZ /MH1JF7113BK085078/JF71E-1084470 | G62: Besi | H62: APBD | I62: 2011 | K62: Unit | L62: B | M62: 1 | N62: 14695000 | O62: 14695000 | S62: =SUM(O62-R62) -> 14695000 | T62: 7 | W62: =SUM(U62*V62) -> 0 | Y62: =SUM(U62*X62) -> 0 | Z62: =SUM(W62+Y62) -> 0 | AA62: 7 | AB62: 14695000 | AC62: =SUM(O62-AB62) -> 0 | AD62: Fungsional Umum
A63: 15 | B63: 1.3.2.02.01.04.001 | C63: 0005 | D63: Sepeda motor | E63: Honda Supra X 125 | F63: BH 2364 Z/JBG1E1169573 / JBG112EK169831 | G63: Besi | H63: APBD | I63: 2014 | K63: Unit | L63: B | M63: 1 | N63: 16400000 | O63: 16400000 | S63: =SUM(O63-R63) -> 16400000 | T63: 7 | U63: =SUM(S63/T63) -> 2342857.1 | V63: 0.5 | Y63: =SUM(U63*X63) -> 0 | AA63: 7 | AB63: =SUM(U63*AA63) -> 16400000 | AC63: =SUM(O63-AB63) -> 0 | AD63: Kasubbid Pengembangan Kompetensi Pilihan Jabatan Administrasi
A64: 16 | B64: 1.3.2.02.01.04.001 | C64: 0006 | D64: Sepeda motor | E64: Honda Supra X 125 | F64: BH 2374 Z/JBG1E1169566 / JBG110EK169875 | G64: Besi | H64: APBD | I64: 2014 | K64: Unit | L64: B | M64: 1 | N64: 16400000 | O64: 16400000 | S64: =SUM(O64-R64) -> 16400000 | T64: 7 | U64: =SUM(S64/T64) -> 2342857.1 | V64: 0.5 | Y64: =SUM(U64*X64) -> 0 | AA64: 7 | AB64: =SUM(U64*AA64) -> 16400000 | AC64: =SUM(O64-AB64) -> 0 | AD64: Kasubbid pengembangan Kompetensi Jabatan Struktural
A65: 17 | B65: 1.3.2.02.01.04.001 | C65: 0007 | D65: Sepeda motor | E65: Honda Supra X 125 | F65: BH 2355 Z/JBG1E1169865 / JBG112EK170213 | G65: Besi | H65: APBD | I65: 2014 | K65: Unit | L65: B | M65: 1 | N65: 16400000 | O65: 16400000 | S65: =SUM(O65-R65) -> 16400000 | T65: 7 | U65: =SUM(S65/T65) -> 2342857.1 | V65: 0.5 | Y65: =SUM(U65*X65) -> 0 | AA65: 7 | AB65: =SUM(U65*AA65) -> 16400000 | AC65: =SUM(O65-AB65) -> 0 | AD65: Kasubbid Pengembangan Kompetensi Pilihan Jabatan Administrasi
A66: 18 | B66: 1.3.2.02.01.04.001 | C66: 0008 | D66: Sepeda motor | E66: Honda Supra X 125 | F66: BH 2365 Z/JBG1E1169864 / JBG11XEK170158 | G66: Besi | H66: APBD | I66: 2014 | K66: Unit | L66: B | M66: 1 | N66: 16400000 | O66: 16400000 | S66: =SUM(O66-R66) -> 16400000 | T66: 7 | U66: =SUM(S66/T66) -> 2342857.1 | V66: 0.5 | Y66: =SUM(U66*X66) -> 0 | AA66: 7 | AB66: =SUM(U66*AA66) -> 16400000 | AC66: =SUM(O66-AB66) -> 0 | AD66: Kasubbid Pengembangan Kompetensi Jabatan Fungsional
A67: 19 | B67: 1.3.2.02.01.04.001 | C67: 0009 | D67: Sepeda motor | E67: Honda Supra X 125 | F67: BH 2376 Z/JBG1E1169976 / JBG112EK170283 | G67: Besi | H67: APBD | I67: 2014 | K67: Unit | L67: B | M67: 1 | N67: 16400000 | O67: 16400000 | S67: =SUM(O67-R67) -> 16400000 | T67: 7 | U67: =SUM(S67/T67) -> 2342857.1 | V67: 0.5 | Y67: =SUM(U67*X67) -> 0 | AA67: 7 | AB67: =SUM(U67*AA67) -> 16400000 | AC67: =SUM(O67-AB67) -> 0 | AD67: Kasubbag Keuangan
A68: 20 | B68: 1.3.2.02.01.04.001 | C68: 0010 | D68: Sepeda motor | E68: Honda Supra X 125 | F68: JBG1E1169878 / JBG119EK170281 | G68: Besi | H68: APBD | I68: 2014 | K68: Unit | L68: B | M68: 1 | N68: 16400000 | O68: 16400000 | S68: =SUM(O68-R68) -> 16400000 | T68: 7 | U68: =SUM(S68/T68) -> 2342857.1 | V68: 0.5 | Y68: =SUM(U68*X68) -> 0 | AA68: 7 | AB68: =SUM(U68*AA68) -> 16400000 | AC68: =SUM(O68-AB68) -> 0 | AD68: Kasubbid Pengembangan Inti Jabatan Adminstrasi Urusan Konkuren Wajib Pelayanan Dasar dan Pilihan
A69: 21 | B69: 1.3.2.02.01.04.001 | C69: 0011 | D69: Sepeda motor | E69: Honda Supra X 125 | F69: BH 2375 Z/JBG1E1169869 / JBG110EK170296 | G69: Besi | H69: APBD | I69: 2014 | K69: Unit | L69: B | M69: 1 | N69: 16400000 | O69: 16400000 | S69: =SUM(O69-R69) -> 16400000 | T69: 7 | U69: =SUM(S69/T69) -> 2342857.1 | V69: 0.5 | Y69: =SUM(U69*X69) -> 0 | AA69: 7 | AB69: =SUM(U69*AA69) -> 16400000 | AC69: =SUM(O69-AB69) -> 0 | AD69: Pengelola Pemanfaatan BMD
A70: 22 | B70: 1.3.2.02.01.04.001 | C70: 0012 | D70: Sepeda motor | E70: Honda Supra X 125 | F70: BH 2367 Z/JBG1E1169897 / JBG114EK170298 | G70: Besi | H70: APBD | I70: 2014 | K70: Unit | L70: B | M70: 1 | N70: 16400000 | O70: 16400000 | S70: =SUM(O70-R70) -> 16400000 | T70: 7 | U70: =SUM(S70/T70) -> 2342857.1 | V70: 0.5 | Y70: =SUM(U70*X70) -> 0 | AA70: 7 | AB70: =SUM(U70*AA70) -> 16400000 | AC70: =SUM(O70-AB70) -> 0 | AD70: Kasubbid Pengembangan Inti Jabatan Adminstrasi Urusan Konkuren Wajib Pelayanan Dasar dan Pilihan
A71: 23 | B71: 1.3.2.02.01.04.001 | C71: 0013 | D71: Sepeda motor | E71: Honda Supra X 125 | F71: BH 2362 Z/JBG1E1169411 / JBG111EK169853 | G71: Besi | H71: APBD | I71: 2014 | K71: Unit | L71: B | M71: 1 | N71: 16400000 | O71: 16400000 | S71: =SUM(O71-R71) -> 16400000 | T71: 7 | U71: =SUM(S71/T71) -> 2342857.1 | V71: 0.5 | Y71: =SUM(U71*X71) -> 0 | AA71: 7 | AB71: =SUM(U71*AA71) -> 16400000 | AC71: =SUM(O71-AB71) -> 0 | AD71: Kasubbid Pengelolaan Sumber Belajar dan Kerjasama
A72: 24 | B72: 1.3.2.02.01.04.001 | C72: 0014 | D72: Sepeda motor | E72: Honda Supra X 125 | F72: BH 2363 Z/JBG1E1169471 /JBG115EK169810 | G72: Besi | H72: APBD | I72: 2014 | K72: Unit | L72: B | M72: 1 | N72: 16400000 | O72: 16400000 | S72: =SUM(O72-R72) -> 16400000 | T72: 7 | U72: =SUM(S72/T72) -> 2342857.1 | V72: 0.5 | AA72: 7 | AB72: =SUM(U72*AA72) -> 16400000 | AC72: =SUM(O72-AB72) -> 0 | AD72: kasubbid pengembangan Kompetensi Kepemimpinan dan Prajabatan
A73: 25 | B73: 1.3.2.02.01.04.001 | C73: 0015 | D73: Sepeda motor | E73: Yamaha Soul GT | F73: E3W9E0044462/MH3S39040JJ028553/BH 2191 A | G73: Besi | H73: APBD | I73: 2018 | K73: Unit | L73: B | M73: 1 | N73: 16900000 | O73: 16900000 | S73: =SUM(O73-R73) -> 16900000 | T73: 7 | U73: =SUM(S73/T73) -> 2414285.7 | V73: 0.5 | W73: =SUM(U73*V73) -> 1207142.9 | Y73: =SUM(U73*X73) -> 0 | Z73: =SUM(W73+Y73) -> 1207142.9 | AA73: =2023-I73+V73+X73-4/12 -> 5.1666667 | AB73: =SUM(U73*AA73) -> 12473810 | AC73: =SUM(O73-AB73) -> 4426190.5 | AD73: Kasubbid Pengembngan Inti Jabatan Administrasi Perangkat Daerah Penunjang
A74: 26 | B74: 1.3.2.02.01.04.001 | C74: 0016 | D74: Sepeda motor | E74: Yamaha Soul GT | F74: E3W9E0044465/MH3SE9040JJ028556/BH 2190 A | G74: Besi | H74: APBD | I74: 2018 | K74: Unit | L74: B | M74: 1 | N74: 16900000 | O74: 16900000 | S74: =SUM(O74-R74) -> 16900000 | T74: 7 | U74: =SUM(S74/T74) -> 2414285.7 | V74: 0.5 | W74: =SUM(U74*V74) -> 1207142.9 | Y74: =SUM(U74*X74) -> 0 | Z74: =SUM(W74+Y74) -> 1207142.9 | AA74: =2023-I74+V74+X74-4/12 -> 5.1666667 | AB74: =SUM(U74*AA74) -> 12473810 | AC74: =SUM(O74-AB74) -> 4426190.5 | AD74: Kasubbid kompetensi inti Jabatan Administrasi Urusan Konkuren Wajib Non Pelayanan Dasar
A75: 27 | B75: 1.3.2.02.01.04.001 | C75: 0017 | D75: Sepeda motor | E75: Yamaha Soul GT | F75: E3W9E0044467/MH3SE9040JJ028558/BH 2195 A | G75: Besi | H75: APBD | I75: 2018 | K75: Unit | L75: B | M75: 1 | N75: 16900000 | O75: 16900000 | S75: =SUM(O75-R75) -> 16900000 | T75: 7 | U75: =SUM(S75/T75) -> 2414285.7 | V75: 0.5 | W75: =SUM(U75*V75) -> 1207142.9 | Y75: =SUM(U75*X75) -> 0 | Z75: =SUM(W75+Y75) -> 1207142.9 | AA75: =2023-I75+V75+X75-4/12 -> 5.1666667 | AB75: =SUM(U75*AA75) -> 12473810 | AC75: =SUM(O75-AB75) -> 4426190.5 | AD75: Kasubbid Pengembangan Kompetensi Umum Jabatan Administrasi
A76: 28 | B76: 1.3.2.02.01.04.001 | C76: 0018 | D76: Sepeda motor | E76: Yamaha Soul GT | F76: E3W9E0044439/MH3SE9040JJ028531/BH 2192 A | G76: Besi | H76: APBD | I76: 2018 | K76: Unit | L76: B | M76: 1 | N76: 16900000 | O76: 16900000 | S76: =SUM(O76-R76) -> 16900000 | T76: 7 | U76: =SUM(S76/T76) -> 2414285.7 | V76: 0.5 | W76: =SUM(U76*V76) -> 1207142.9 | Y76: =SUM(U76*X76) -> 0 | Z76: =SUM(W76+Y76) -> 1207142.9 | AA76: =2023-I76+V76+X76-4/12 -> 5.1666667 | AB76: =SUM(U76*AA76) -> 12473810 | AC76: =SUM(O76-AB76) -> 4426190.5 | AD76: Bendahara Pengeluaran
A77: 29 | B77: 1.3.2.02.01.04.001 | C77: 0019 | D77: Sepeda motor | E77: Yamaha Soul GT | F77: E3W9E0044467/MH3SE9040JJ028513/BH 2193 A | G77: Besi | H77: APBD | I77: 2018 | K77: Unit | L77: B | M77: 1 | N77: 16900000 | O77: 16900000 | S77: =SUM(O77-R77) -> 16900000 | T77: 7 | U77: =SUM(S77/T77) -> 2414285.7 | V77: 0.5 | W77: =SUM(U77*V77) -> 1207142.9 | Y77: =SUM(U77*X77) -> 0 | Z77: =SUM(W77+Y77) -> 1207142.9 | AA77: =2023-I77+V77+X77-4/12 -> 5.1666667 | AB77: =SUM(U77*AA77) -> 12473810 | AC77: =SUM(O77-AB77) -> 4426190.5 | AD77: Kasubbid Pengembangan Kompetensi Pimpinan Daerah
A78: 30 | B78: 1.3.2.02.01.04.001 | C78: 0020 | D78: Sepeda motor | E78: Yamaha Soul GT | F78: E3W9E0044467/MH3SE9040JJ028515/BH 2194 A | G78: Besi | H78: APBD | I78: 2018 | K78: Unit | L78: B | M78: 1 | N78: 16900000 | O78: 16900000 | S78: =SUM(O78-R78) -> 16900000 | T78: 7 | U78: =SUM(S78/T78) -> 2414285.7 | V78: 0.5 | W78: =SUM(U78*V78) -> 1207142.9 | Y78: =SUM(U78*X78) -> 0 | Z78: =SUM(W78+Y78) -> 1207142.9 | AA78: =2023-I78+V78+X78-4/12 -> 5.1666667 | AB78: =SUM(U78*AA78) -> 12473810 | AC78: =SUM(O78-AB78) -> 4426190.5 | AD78: Kasubbag Umum dan Kepegawaian
B79: 1.3.2.02.02 | D79: ALAT ANGKUTAN DARAT TAK BERMOTOR | M79: =SUM(M81:M82) -> 2 | O79: =SUM(O81:O82) -> 11990000 | P79: =SUM(P81:P82) -> 0 | R79: =SUM(R81:R82) -> 0 | S79: =SUM(S81:S82) -> 11990000 | U79: =SUM(U81:U82) -> 0 | W79: =SUM(W81:W82) -> 0 | Y79: =SUM(Y81:Y82) -> 0 | Z79: =SUM(Z81:Z82) -> 0 | AB79: =SUM(AB80) -> 11990000 | AC79: =SUM(AC81:AC82) -> 0
B80: 1.3.2.02.02.01 | D80: KENDARAAN TAK BERMOTOR ANGKUTAN BARANG | M80: =SUM(M81) -> 2 | O80: =O81 -> 11990000 | S80: =SUM(S81) -> 11990000 | U80: =SUM(U81) -> 0 | AB80: =SUM(AB81) -> 11990000
B81: 1.3.2.02.02.01.004 | C81: 0001 | D81: Hand Troley (lori dorong) | E81: Lokal | G81: Besi | H81: APBD | I81: 2014 | K81: Unit | L81: RB | M81: 2 | N81: 5995000 | O81: 11990000 | S81: 11990000 | T81: 2 | V81: 0.5 | W81: 0 | X81: 0.5 | Y81: 0 | Z81: 0 | AA81: 2 | AB81: 11990000 | AC81: 0 | AD81: Gudang
Q82: =P82-O82 -> 0
B83: 1.3.2.02.03 | D83: ALAT ANGKUTAN APUNG BERMOTOR | M83: =SUM(M84:M84) -> 0 | O83: =SUM(O84:O84) -> 0 | P83: =SUM(P84:P84) -> 0 | Q83: =P83-O83 -> 0 | R83: =SUM(R84:R84) -> 0 | S83: =SUM(S84:S84) -> 0 | U83: =SUM(U84:U84) -> 0 | W83: =SUM(W84:W84) -> 0 | Y83: =SUM(Y84:Y84) -> 0 | Z83: =SUM(Z84:Z84) -> 0 | AB83: =SUM(AB84:AB84) -> 0 | AC83: =SUM(AC84:AC84) -> 0
Q84: =P84-O84 -> 0
B85: 1.3.2.02.04 | D85: ALAT ANGKUTAN APUNG TAK BERMOTOR | M85: =SUM(M86:M86) -> 0 | O85: =SUM(O86:O86) -> 0 | P85: =SUM(P86:P86) -> 0 | Q85: =P85-O85 -> 0 | R85: =SUM(R86:R86) -> 0 | S85: =SUM(S86:S86) -> 0 | U85: =SUM(U86:U86) -> 0 | W85: =SUM(W86:W86) -> 0 | Y85: =SUM(Y86:Y86) -> 0 | Z85: =SUM(Z86:Z86) -> 0 | AB85: =SUM(AB86:AB86) -> 0 | AC85: =SUM(AC86:AC86) -> 0
Q86: =P86-O86 -> 0
B87: 1.3.2.02.05 | D87: ALAT ANGKUTAN BERMOTOR UDARA | M87: =SUM(M88:M88) -> 0 | O87: =SUM(O88:O88) -> 0 | P87: =SUM(P88:P88) -> 0 | Q87: =P87-O87 -> 0 | R87: =SUM(R88:R88) -> 0 | S87: =SUM(S88:S88) -> 0 | U87: =SUM(U88:U88) -> 0 | W87: =SUM(W88:W88) -> 0 | Y87: =SUM(Y88:Y88) -> 0 | Z87: =SUM(Z88:Z88) -> 0 | AB87: =SUM(AB88:AB88) -> 0 | AC87: =SUM(AC88:AC88) -> 0
Q88: =P88-O88 -> 0
B89: 1.3.2.03 | D89: ALAT BENGKEL DAN ALAT UKUR | M89: =M90+M92+M94 -> 0 | O89: =O90+O92+O94 -> 0 | P89: =P90+P92+P94 -> 0 | Q89: =P89-O89 -> 0 | R89: =R90+R92+R94 -> 0 | S89: =S90+S92+S94 -> 0 | U89: =U90+U92+U94 -> 0 | W89: =W90+W92+W94 -> 0 | Y89: =Y90+Y92+Y94 -> 0 | Z89: =Z90+Z92+Z94 -> 0 | AB89: =AB90+AB92+AB94 -> 0 | AC89: =AC90+AC92+AC94 -> 0
B90: 1.3.2.03.01 | D90: ALAT BENGKEL BERMESIN | M90: =SUM(M91:M91) -> 0 | O90: =SUM(O91:O91) -> 0 | P90: =SUM(P91:P91) -> 0 | Q90: =P90-O90 -> 0 | R90: =SUM(R91:R91) -> 0 | S90: =SUM(S91:S91) -> 0 | U90: =SUM(U91:U91) -> 0 | W90: =SUM(W91:W91) -> 0 | Y90: =SUM(Y91:Y91) -> 0 | Z90: =SUM(Z91:Z91) -> 0 | AB90: =SUM(AB91:AB91) -> 0 | AC90: =SUM(AC91:AC91) -> 0
Q91: =P91-O91 -> 0
B92: 1.3.2.03.02 | D92: ALAT BENGKEL TAK BERMESIN | M92: =SUM(M93:M93) -> 0 | O92: =SUM(O93:O93) -> 0 | P92: =SUM(P93:P93) -> 0 | Q92: =P92-O92 -> 0 | R92: =SUM(R93:R93) -> 0 | S92: =SUM(S93:S93) -> 0 | U92: =SUM(U93:U93) -> 0 | W92: =SUM(W93:W93) -> 0 | Y92: =SUM(Y93:Y93) -> 0 | Z92: =SUM(Z93:Z93) -> 0 | AB92: =SUM(AB93:AB93) -> 0 | AC92: =SUM(AC93:AC93) -> 0
Q93: =P93-O93 -> 0
B94: 1.3.2.03.03 | D94: ALAT UKUR | M94: =SUM(M95:M95) -> 0 | O94: =SUM(O95:O95) -> 0 | P94: =SUM(P95:P95) -> 0 | Q94: =P94-O94 -> 0 | R94: =SUM(R95:R95) -> 0 | S94: =SUM(S95:S95) -> 0 | U94: =SUM(U95:U95) -> 0 | W94: =SUM(W95:W95) -> 0 | Y94: =SUM(Y95:Y95) -> 0 | Z94: =SUM(Z95:Z95) -> 0 | AB94: =SUM(AB95:AB95) -> 0 | AC94: =SUM(AC95:AC95) -> 0
Q95: =P95-O95 -> 0
B96: 1.3.2.04 | D96: ALAT PERTANIAN | M96: =M97 -> 0 | O96: =O97 -> 0 | P96: =P97 -> 0 | Q96: =P96-O96 -> 0 | R96: =R97 -> 0 | S96: =S97 -> 0 | U96: =U97 -> 0 | W96: =W97 -> 0 | Y96: =Y97 -> 0 | Z96: =Z97 -> 0 | AB96: =AB97 -> 0 | AC96: =AC97 -> 0
B97: 1.3.2.04.01 | D97: ALAT PENGOLAHAN | M97: =SUM(M98:M100) -> 0 | O97: =SUM(O98:O100) -> 0 | P97: =SUM(P98:P100) -> 0 | Q97: =P97-O97 -> 0 | R97: =SUM(R98:R100) -> 0 | S97: =SUM(S98:S100) -> 0 | U97: =SUM(U98:U100) -> 0 | W97: =SUM(W98:W100) -> 0 | Y97: =SUM(Y98:Y100) -> 0 | Z97: =SUM(Z98:Z100) -> 0 | AB97: =SUM(AB98:AB100) -> 0 | AC97: =SUM(AC98:AC100) -> 0
Q98: =P98-O98 -> 0
Q99: =P99-O99 -> 0
Q100: =P100-O100 -> 0 | AF100: =AF101-AC101 -> 9293166.7
B101: 1.3.2.05 | D101: ALAT KANTOR DAN RUMAH TANGGA | M101: =SUM(M102+M237+M713) -> 4576 | O101: =SUM(O102+O237+O713) -> 7.5343397e+09 | P101: =P102+P237+P713 -> 0 | Q101: =Q102+Q237+Q713 -> 0 | R101: =R102+R237+R713 -> 0 | S101: =SUM(S102+S237+S713) -> 7.5343397e+09 | U101: =SUM(U102+U237+U713) -> 5.0404831e+08 | W101: =SUM(W102+W237+W713) -> 1.2100278e+08 | Y101: =Y102+Y237+Y713 -> 0 | Z101: =SUM(Z102+Z237+Z713) -> 1.2100278e+08 | AB101: =SUM(AB102+AB237+AB713) -> 7.061161e+09 | AC101: =SUM(AC102+AC237+AC713) -> 4.7317868e+08 | AF101: 4.8247184e+08 | AG101: 6.9401582e+09 | AH101: =AG101+Z101-AB101 -> -0.0033321381
B102: 1.3.2.05.01 | D102: ALAT KANTOR | M102: =SUM(M103+M110+M113+M115+M172) -> 314 | O102: =SUM(O103+O110+O113+O115+O172) -> 1201247400 | P102: =SUM(P104:P981) -> 0 | Q102: =SUM(Q104:Q981) -> 0 | R102: =SUM(R104:R981) -> 0 | S102: =SUM(S103+S110+S113+S115+S172) -> 1201247400 | U102: =SUM(U103+U110+U113+U115+U172) -> 91436320 | W102: =SUM(W103+W110+W113+W115+W172) -> 13622793 | Y102: =SUM(Y104:Y235) -> 0 | Z102: =SUM(Z103+Z110+Z113+Z115+Z172) -> 13622793 | AB102: =SUM(AB103+AB110+AB113+AB115+AB172) -> 1184742590 | AC102: =SUM(AC103+AC110+AC115+AC172) -> 16504810 | AF102: ='[3]BI Tahun SMT I 2023'!$AB$109-AB101 -> 12536833
B103: 1.3.2.05.01.01 | D103: MESIN KETIK | M103: =SUM(M104:M109) -> 6 | O103: =SUM(O104:O109) -> 9950000 | S103: =SUM(S104:S109) -> 9950000 | U103: =SUM(U104:U109) -> 0 | W103: =SUM(W104:W109) -> 0 | Z103: =SUM(Z104:Z109) -> 0 | AB103: =SUM(AB104:AB109) -> 9950000 | AC103: =SUM(AC104:AC109) -> 0
A104: 2 | B104: 1.3.2.05.01.01.001 | C104: 0007 | D104: Mesin Ketik Manual 13' | E104: Royal | G104: Besi | H104: APBD | I104: 2011 | K104: Unit | L104: B | M104: 1 | N104: =SUM(O104/M104) -> 1232500 | O104: 1232500 | S104: =SUM(O104-R104) -> 1232500 | T104: 5 | V104: 0.5 | W104: =SUM(U104*V104) -> 0 | Y104: =SUM(U104*X104) -> 0 | Z104: =SUM(W104+Y104) -> 0 | AA104: 5 | AB104: 1232500 | AC104: =SUM(O104-AB104) -> 0 | AD104: Bid. MP | AF104: 1232500 | AG104: =AB104+Z104-AB104 -> 0
A105: 3 | B105: 1.3.2.05.01.01.001 | C105: 0008 | D105: Mesin Ketik Manual 13' | E105: Royal | G105: Besi | H105: APBD | I105: 2011 | K105: Unit | L105: B | M105: 1 | N105: =SUM(O105/M105) -> 1232500 | O105: 1232500 | S105: =SUM(O105-R105) -> 1232500 | T105: 5 | V105: 0.5 | W105: =SUM(U105*V105) -> 0 | Y105: =SUM(U105*X105) -> 0 | Z105: =SUM(W105+Y105) -> 0 | AA105: 5 | AB105: 1232500 | AC105: =SUM(O105-AB105) -> 0 | AD105: Bid Fungsional | AF105: 1232500 | AG105: =AB105+Z105-AB105 -> 0
A106: 4 | B106: 1.3.2.05.01.01.001 | C106: 0009 | D106: Mesin Ketik Manual 13' | E106: Royal | G106: Besi | H106: APBD | I106: 2011 | K106: Unit | L106: B | M106: 1 | N106: =SUM(O106/M106) -> 1232500 | O106: 1232500 | S106: =SUM(O106-R106) -> 1232500 | T106: 5 | V106: 0.5 | W106: =SUM(U106*V106) -> 0 | Y106: =SUM(U106*X106) -> 0 | Z106: =SUM(W106+Y106) -> 0 | AA106: 5 | AB106: 1232500 | AC106: =SUM(O106-AB106) -> 0 | AD106: Bid. R. Struktural | AF106: 1232500 | AG106: =AB106+Z106-AB106 -> 0
A107: 5 | B107: 1.3.2.05.01.01.001 | C107: 0010 | D107: Mesin Ketik Manual 13' | E107: Royal | G107: Besi | H107: APBD | I107: 2011 | K107: Unit | L107: B | M107: 1 | N107: =SUM(O107/M107) -> 1232500 | O107: 1232500 | S107: =SUM(O107-R107) -> 1232500 | T107: 5 | V107: 0.5 | W107: =SUM(U107*V107) -> 0 | Y107: =SUM(U107*X107) -> 0 | Z107: =SUM(W107+Y107) -> 0 | AA107: 5 | AB107: 1232500 | AC107: =SUM(O107-AB107) -> 0 | AD107: Bid. Teknis | AF107: 1232500 | AG107: =AB107+Z107-AB107 -> 0
A108: 6 | B108: 1.3.2.05.01.01.003 | C108: 0011 | D108: Mesin Ketik Manual 26' | E108: Royal | G108: Besi | H108: APBD | I108: 2011 | K108: Unit | L108: B | M108: 1 | N108: =SUM(O108/M108) -> 3345000 | O108: 3345000 | S108: =SUM(O108-R108) -> 3345000 | T108: 5 | V108: 0.5 | W108: =SUM(U108*V108) -> 0 | Y108: =SUM(U108*X108) -> 0 | Z108: =SUM(W108+Y108) -> 0 | AA108: 5 | AB108: 3345000 | AC108: =SUM(O108-AB108) -> 0 | AD108: R. Keuangan | AF108: 3345000 | AG108: =AB108+Z108-AB108 -> 0
B109: 1.3.2.05.01.01.004 | C109: 0006 | D109: Mesin Ketik Electrik | E109: Royal | G109: Besi | H109: APBD | I109: 2011 | K109: Unit | L109: B | M109: 1 | N109: =SUM(O109/M109) -> 1675000 | O109: 1675000 | S109: =SUM(O109-R109) -> 1675000 | T109: 5 | V109: 0.5 | W109: =SUM(U109*V109) -> 0 | Y109: =SUM(U109*X109) -> 0 | Z109: =SUM(W109+Y109) -> 0 | AA109: 5 | AB109: 1675000 | AC109: =SUM(O109-AB109) -> 0 | AD109: Bag. Keuangan
A110: 7 | B110: 1.3.2.05.01.02 | D110: MESIN HITUNG/MESIN JUMLAH | M110: =SUM(M111:M112) -> 6 | O110: =SUM(O111:O112) -> 4625600 | S110: =SUM(S111:S112) -> 4625600 | U110: =SUM(U111:U112) -> 791120 | W110: =SUM(W111:W112) -> 395560 | Z110: =SUM(Z111:Z112) -> 395560 | AB110: =SUM(AB111:AB112) -> 4493746.7 | AC110: =SUM(AC111:AC112) -> 131853.33
A111: 8 | B111: 1.3.2.05.01.02.001 | C111: 0001-0005 | D111: Kalkulator(Mesin Hitung Manual) | E111: Sony | G111: Viber | H111: APBD | I111: 2008 | K111: Unit | L111: B | M111: 5 | N111: =SUM(O111/M111) -> 134000 | O111: 670000 | S111: =SUM(O111-R111) -> 670000 | T111: 5 | V111: 0.5 | W111: =SUM(U111*V111) -> 0 | Y111: =SUM(U111*X111) -> 0 | Z111: =SUM(W111+Y111) -> 0 | AA111: 5 | AB111: 670000 | AC111: =SUM(O111-AB111) -> 0 | AD111: R. Keuangan | AF111: 670000 | AG111: =AB111+Z111-AB111 -> 0
A112: 9 | B112: 1.3.2.05.01.02.003 | C112: 0001 | D112: Mesin penghitung uang | E112: Secure Tipe LD-1100S | G112: Viber | H112: APBD | I112: 2018 | K112: Unit | L112: B | M112: 1 | N112: =SUM(O112/M112) -> 3955600 | O112: 3955600 | S112: =SUM(O112-R112) -> 3955600 | T112: 5 | U112: =SUM(S112/T112) -> 791120 | V112: 0.5 | W112: =SUM(U112*V112) -> 395560 | Y112: =SUM(U112*X112) -> 0 | Z112: =SUM(W112+Y112) -> 395560 | AA112: =2023-I112+V112+X112-8/12 -> 4.8333333 | AB112: =SUM(U112*AA112) -> 3823746.7 | AC112: =SUM(O112-AB112) -> 131853.33 | AD112: Ruangan Subbag keuangan
A113: 10 | B113: 1.3.2.05.01.03 | D113: ALAT REPRODUKSI (PENGGANDAAN) | M113: =SUM(M114) -> 1 | O113: =SUM(O114) -> 39240300 | S113: =SUM(S114) -> 39240300 | U113: =SUM(U114) -> 0 | AB113: =SUM(AB114) -> 39240300 | AC113: =SUM(AC114) -> 0
A114: 11 | B114: 1.3.2.05.01.03.009 | C114: 0001 | D114: Mesin Foto Copy Portable | E114: Gestetner MP2001L | G114: Viber | H114: APBD | I114: 2014 | K114: Unit | L114: B | M114: 1 | N114: =SUM(O114/M114) -> 39240300 | O114: 39240300 | S114: =SUM(O114-R114) -> 39240300 | T114: 5 | V114: 0.5 | W114: =SUM(U114*V114) -> 0 | Y114: =SUM(U114*X114) -> 0 | Z114: =SUM(W114+Y114) -> 0 | AA114: 5 | AB114: 39240300 | AC114: =SUM(O114-AB114) -> 0 | AD114: Ruang Program
A115: 12 | B115: 1.3.2.05.01.04 | D115: ALAT PENYIMPAN PERLENGKAPAN KANTOR | M115: =SUM(M116:M170) -> 201 | O115: =SUM(O116:O170) -> 464964000 | S115: =SUM(S116:S170) -> 464964000 | U115: =SUM(U116:U170) -> 17057100 | W115: =SUM(W116:W170) -> 3478333.3 | Z115: =SUM(Z116:Z170) -> 3478333.3 | AB115: =SUM(AB116:AB170) -> 4.5444233e+08 | AC115: =SUM(AC116:AC170) -> 10521667
A116: 1 | B116: 1.3.2.05.01.04.002 | C116: 0039 | D116: Lemari Pakaian | E116: Lokal | G116: Kayu | H116: APBD | I116: 2012 | K116: Unit | L116: B | M116: 1 | N116: =SUM(O116/M116) -> 1485000 | O116: 1485000 | S116: =SUM(O116-R116) -> 1485000 | T116: 5 | V116: 0.5 | W116: =SUM(U116*V116) -> 0 | Y116: =SUM(U116*X116) -> 0 | Z116: =SUM(W116+Y116) -> 0 | AA116: 5 | AB116: 1485000 | AC116: =SUM(O116-AB116) -> 0 | AD116: Asrama asoka | AF116: 3080000 | AG116: =AB116+Z116-AB116 -> 0
A117: 2 | B117: 1.3.2.05.01.04.002 | C117: 0040-0053 | D117: Lemari Pakaian | E117: Lokal | G117: Kayu | H117: APBD | I117: 2012 | K117: Unit | L117: B | M117: 14 | N117: =SUM(O117/M117) -> 1485000 | O117: 20790000 | S117: =SUM(O117-R117) -> 20790000 | T117: 5 | V117: 0.5 | W117: =SUM(U117*V117) -> 0 | Y117: =SUM(U117*X117) -> 0 | Z117: =SUM(W117+Y117) -> 0 | AA117: 5 | AB117: 20790000 | AC117: =SUM(O117-AB117) -> 0 | AD117: Asrama Aster | AF117: 3080000 | AG117: =AB117+Z117-AB117 -> 0
A118: 3 | B118: 1.3.2.05.01.04.002 | C118: 0054 | D118: Lemari Pakaian | E118: Lokal | G118: Kayu | H118: APBD | I118: 2012 | K118: Unit | L118: B | M118: 1 | N118: =SUM(O118/M118) -> 1485000 | O118: 1485000 | S118: =SUM(O118-R118) -> 1485000 | T118: 5 | V118: 0.5 | W118: =SUM(U118*V118) -> 0 | Y118: =SUM(U118*X118) -> 0 | Z118: =SUM(W118+Y118) -> 0 | AA118: 5 | AB118: 1485000 | AC118: =SUM(O118-AB118) -> 0 | AD118: Asrama Kemuning | AF118: 1485000 | AG118: =AB118+Z118-AB118 -> 0
A119: 4 | B119: 1.3.2.05.01.04.002 | C119: 0055-0071 | D119: Lemari Pakaian | E119: Lokal | G119: Kayu | H119: APBD | I119: 2012 | K119: Unit | L119: B | M119: 17 | N119: =SUM(O119/M119) -> 1485000 | O119: 25245000 | S119: =SUM(O119-R119) -> 25245000 | T119: 5 | V119: 0.5 | W119: =SUM(U119*V119) -> 0 | Y119: =SUM(U119*X119) -> 0 | Z119: =SUM(W119+Y119) -> 0 | AA119: 5 | AB119: 25245000 | AC119: =SUM(O119-AB119) -> 0 | AD119: Asrama Selasih | AF119: 25245000 | AG119: =AB119+Z119-AB119 -> 0
A120: 5 | B120: 1.3.2.05.01.04.002 | C120: 0072 | D120: Lemari Pakaian | E120: Lokal | G120: Kayu | H120: APBD | I120: 2012 | K120: Unit | L120: B | M120: 1 | N120: =SUM(O120/M120) -> 1485000 | O120: 1485000 | S120: =SUM(O120-R120) -> 1485000 | T120: 5 | V120: 0.5 | W120: =SUM(U120*V120) -> 0 | Y120: =SUM(U120*X120) -> 0 | Z120: =SUM(W120+Y120) -> 0 | AA120: 5 | AB120: 1485000 | AC120: =SUM(O120-AB120) -> 0 | AD120: Sekban | AF120: 1485000 | AG120: =AB120+Z120-AB120 -> 0
A121: 6 | B121: 1.3.2.05.01.04.002 | C121: 0073-0080 | D121: Lemari Pakaian | E121: Lokal | G121: Kayu | H121: APBD | I121: 2018 | K121: Unit | L121: B | M121: 8 | N121: =SUM(O121/M121) -> 2475000 | O121: 19800000 | S121: =SUM(O121-R121) -> 19800000 | T121: 5 | U121: =SUM(S121/T121) -> 3960000 | V121: 0.5 | W121: =SUM(U121*V121)-330000 -> 1650000 | Y121: =SUM(U121*X121) -> 0 | Z121: =SUM(W121+Y121) -> 1650000 | AA121: 5 | AB121: 19800000 | AC121: =SUM(O121-AB121) -> 0 | AD121: Asrama I | AF121: 18150000 | AG121: =AF121+Z121-AB121 -> 0
A122: 7 | B122: 1.3.2.05.01.04.002 | C122: 0081-0088 | D122: Lemari Pakaian | E122: Lokal | G122: Kayu | H122: APBD | I122: 2018 | K122: Unit | L122: B | M122: 8 | N122: =SUM(O122/M122) -> 2475000 | O122: 19800000 | S122: =SUM(O122-R122) -> 19800000 | T122: 5 | U122: =SUM(S122/T122) -> 3960000 | V122: 0.5 | W122: =SUM(U122*V122)-330000 -> 1650000 | Y122: =SUM(U122*X122) -> 0 | Z122: =SUM(W122+Y122) -> 1650000 | AA122: 5 | AB122: 19800000 | AC122: =SUM(O122-AB122) -> 0 | AD122: Asrama II | AF122: 18150000 | AG122: =AF122+Z122-AB122 -> 0
A123: 13 | B123: 1.3.2.05.01.04.002 | C123: 0001 | D123: Lemari / interior | E123: Lokal | G123: Kayu | H123: APBD | I123: 2012 | K123: Unit | L123: B | M123: 1 | N123: =SUM(O123/M123) -> 5126500 | O123: 5126500 | S123: =SUM(O123-R123) -> 5126500 | T123: 5 | V123: 0.5 | W123: =SUM(U123*V123) -> 0 | Y123: =SUM(U123*X123) -> 0 | Z123: =SUM(W123+Y123) -> 0 | AA123: 5 | AB123: 5126500 | AC123: =SUM(O123-AB123) -> 0 | AD123: As. Baru R. Makan Lt.1 | AF123: 5126500 | AG123: =AB123+Z123-AB123 -> 0
A124: 14 | B124: 1.3.2.05.01.04.002 | C124: 0001-0040 | D124: Lemari gantung / interior | E124: Lokal | G124: Kayu | H124: APBD | I124: 2012 | K124: Unit | L124: B | M124: 40 | N124: =SUM(O124/M124) -> 1217075 | O124: 48683000 | S124: =SUM(O124-R124) -> 48683000 | T124: 5 | V124: 0.5 | W124: =SUM(U124*V124) -> 0 | Y124: =SUM(U124*X124) -> 0 | Z124: =SUM(W124+Y124) -> 0 | AA124: 5 | AB124: 48683000 | AC124: =SUM(O124-AB124) -> 0 | AD124: As. Baru Lt.2 | AF124: 48683000 | AG124: =AB124+Z124-AB124 -> 0
...

Sheet  Rekap Beban Peny. Sem.I 2023
B1: PEMERINTAH PROVINSI JAMBI
B2: REKAPITULASI BEBAN PENYUSUTAN
B3: Per 1 Juli 2023
B5: SKPD | C5: : BADAN PENGEMBANGAN SUMBER DAYA MANUSIA
B7: No. Urut | C7: Akun | D7: Jenis | E7: Objek | F7: Rincian Objek | G7: Sub Rincian Objek | H7: Nama Bidang Barang | I7: Nilai Perolehan (Rp) | J7: Beban Penyusutan per tahun (Rp) | K7: Beban Penyusutan Semester I (Rp) | L7: Beban Penyusutan Semester II (Rp) | M7: Beban Penyusutan Tahun ini (Rp) | N7: Akumulasi Penyusutan s/d tahun lini (Rp) | O7: Nilai Buku (Rp) | P7: Keterangan
B10: 1 | C10: 2 | G10: 3 | H10: 4 | I10: 5 | J10: 6 | K10: 7 | L10: 8 | M10: 9 | N10: 10 | O10: 11 | P10: 12
B11: 1 | C11: 3 | H11: ASET TETAP | I11: =SUM(I13+I54+I628+I703+I868+I968) -> 3.7893582e+10 | J11: =SUM(J13+J54+J628+J703+J868+J968) -> 2.1190177e+09 | K11: =SUM(K13+K54+K628+K703+K868+K968) -> 5.7406095e+08 | L11: =SUM(L13+L54+L628+L703+L868+L968) -> 0 | M11: =SUM(M13+M54+M628+M703+M868+M968) -> 5.7406095e+08 | N11: =SUM(N13+N54+N628+N703+N868+N968)+0.09 -> 2.110706e+10 | O11: =SUM(O13+O54+O628+O703+O868+O968) -> 1.6853191e+10 | P11: =SUM(P13+P54+P628+P703+P868+P968) -> 0
A13: 1 | B13: 1 | C13: 3 | D13: 01 | H13: Tanah | I13: =I14 -> 0 | J13: =J14 -> 0 | K13: =K14 -> 0 | L13: =L14 -> 0 | M13: =M14 -> 0 | N13: =N14 -> 0 | O13: =O14 -> 0 | P13: =P14 -> 0
A14: a | B14: 1 | C14: 3 | D14: 01 | E14: 01 | H14: Tanah | I14: =SUM(I15+I23+I33) -> 0 | J14: =SUM(J15+J23+J33) -> 0 | K14: =SUM(K15+K23+K33) -> 0 | L14: =SUM(L15+L23+L33) -> 0 | M14: =SUM(M15+M23+M33) -> 0 | N14: =SUM(N15+N23+N33) -> 0 | O14: =SUM(O15+O23+O33) -> 0 | P14: =SUM(P15+P23+P33) -> 0
A15: - | B15: 1 | C15: 3 | D15: 01 | E15: 01 | F15: 01 | H15: Tanah Persil | I15: =SUM(I16:I22) -> 0 | J15: =SUM(J16:J22) -> 0 | K15: =SUM(K16:K22) -> 0 | L15: =SUM(L16:L22) -> 0 | M15: =SUM(M16:M22) -> 0 | N15: =SUM(N16:N22) -> 0 | O15: =SUM(O16:O22) -> 0 | P15: =SUM(P16:P22) -> 0
B16: 1 | C16: 3 | D16: 01 | E16: 01 | F16: 01 | G16: 0001 | H16: Tanah Bangunan Perumahan/Gedung Tempat Tinggal
B17: 1 | C17: 3 | D17: 01 | E17: 01 | F17: 01 | G17: 0002 | H17: Tanah untuk Bangunan Gedung Perdagangan/Perusahaan
B18: 1 | C18: 3 | D18: 01 | E18: 01 | F18: 01 | G18: 0003 | H18: Tanah untuk Bangunan Industri
B19: 1 | C19: 3 | D19: 01 | E19: 01 | F19: 01 | G19: 0004 | H19: Tanah untuk Bangunan Tempat Kerja
B20: 1 | C20: 3 | D20: 01 | E20: 01 | F20: 01 | G20: 0005 | H20: Tanah untuk Bangunan Gedung Sarana Olahraga
B21: 1 | C21: 3 | D21: 01 | E21: 01 | F21: 01 | G21: 0006 | H21: Tanah untuk Bangunan Tempat Ibadah
B22: 1 | C22: 3 | D22: 01 | E22: 01 | F22: 01 | G22: 0007 | H22: Tanah Persil Lainnya
A23: - | B23: 1 | C23: 3 | D23: 01 | E23: 01 | F23: 02 | H23: Tanah Non Persil | I23: =SUM(I24:I32) -> 0 | J23: =SUM(J24:J32) -> 0 | K23: =SUM(K24:K32) -> 0 | L23: =SUM(L24:L32) -> 0 | M23: =SUM(M24:M32) -> 0 | N23: =SUM(N24:N32) -> 0 | O23: =SUM(O24:O32) -> 0 | P23: =SUM(P24:P32) -> 0
B24: 1 | C24: 3 | D24: 01 | E24: 01 | F24: 02 | G24: 0001 | H24: Tanah Basah
B25: 1 | C25: 3 | D25: 01 | E25: 01 | F25: 02 | G25: 0002 | H25: Tanah Kering
B26: 1 | C26: 3 | D26: 01 | E26: 01 | F26: 02 | G26: 0003 | H26: Tanah Perkebunan
B27: 1 | C27: 3 | D27: 01 | E27: 01 | F27: 02 | G27: 0004 | H27: Tanah Hutan
B28: 1 | C28: 3 | D28: 01 | E28: 01 | F28: 02 | G28: 0005 | H28: Tanah Tandus
B29: 1 | C29: 3 | D29: 01 | E29: 01 | F29: 02 | G29: 0006 | H29: Tanah Padang Alang-Alang/Rumput
B30: 1 | C30: 3 | D30: 01 | E30: 01 | F30: 02 | G30: 0007 | H30: Tanah Pertanian
B31: 1 | C31: 3 | D31: 01 | E31: 01 | F31: 02 | G31: 0008 | H31: Tanah Pertambangan
B32: 1 | C32: 3 | D32: 01 | E32: 01 | F32: 02 | G32: 0009 | H32: Tanah Non Persil Lainnya
A33: - | B33: 1 | C33: 3 | D33: 01 | E33: 01 | F33: 03 | H33: Lapangan | I33: =SUM(I34:I52) -> 0 | J33: =SUM(J34:J52) -> 0 | K33: =SUM(K34:K52) -> 0 | L33: =SUM(L34:L52) -> 0 | M33: =SUM(M34:M52) -> 0 | N33: =SUM(N34:N52) -> 0 | O33: =SUM(O34:O52) -> 0 | P33: =SUM(P34:P52) -> 0
B34: 1 | C34: 3 | D34: 01 | E34: 01 | F34: 03 | G34: 0001 | H34: Tanah Lapangan Olahraga
B35: 1 | C35: 3 | D35: 01 | E35: 01 | F35: 03 | G35: 0002 | H35: Tanah Lapangan Parkir
B36: 1 | C36: 3 | D36: 01 | E36: 01 | F36: 03 | G36: 0003 | H36: Tanah Lapangan Penimbunan Barang
B37: 1 | C37: 3 | D37: 01 | E37: 01 | F37: 03 | G37: 0004 | H37: Tanah Lapangan Pemancar dan Studio Alam
B38: 1 | C38: 3 | D38: 01 | E38: 01 | F38: 03 | G38: 0005 | H38: Tanah Lapangan Pengujian/Pengolahan
B39: 1 | C39: 3 | D39: 01 | E39: 01 | F39: 03 | G39: 0006 | H39: Tanah Lapangan Terbang
B40: 1 | C40: 3 | D40: 01 | E40: 01 | F40: 03 | G40: 0007 | H40: Tanah untuk Jalan
B41: 1 | C41: 3 | D41: 01 | E41: 01 | F41: 03 | G41: 0008 | H41: Tanah untuk Bangunan Air
B42: 1 | C42: 3 | D42: 01 | E42: 01 | F42: 03 | G42: 0009 | H42: Tanah untuk Bangunan Instalasi
B43: 1 | C43: 3 | D43: 01 | E43: 01 | F43: 03 | G43: 0010 | H43: Tanah untuk Bangunan Jaringan
B44: 1 | C44: 3 | D44: 01 | E44: 01 | F44: 03 | G44: 0011 | H44: Tanah untuk Bangunan Bersejarah
B45: 1 | C45: 3 | D45: 01 | E45: 01 | F45: 03 | G45: 0012 | H45: Tanah untuk Makam
... B52: 1 | C52: 3 | D52: 01 | E52: 01 | F52: 03 | G52: 0019 | H52: Lapangan Lainnya
A54: 2 | B54: 2 | C54: 02 | H54: PERALATAN DAN MESIN | I54: =SUM(I55+I93+I123+I171+I183+I206+I283+I320+I469+I490+I501+I511+I522+I536+I545+I570+I575+I603+I619) -> 1.2923541e+10 | J54: =SUM(J55+J93+J123+J171+J183+J206+J283+J320+J469+J490+J501+J511+J522+J536+J545+J570+J575+J603+J619) -> 9.4800178e+08 | K54: =SUM(K55+K93+K123+K171+K183+K206+K283+K320+K469+K490+K501+K511+K522+K536+K545+K570+K575+K603+K619) -> 2.2148165e+08 | L54: =SUM(L55+L93+L123+L171+L183+L206+L283+L320+L469+L490+L501+L511+L522+L536+L545+L570+L575+L603+L619) -> 0 | M54: =SUM(M55+M93+M123+M171+M183+M206+M283+M320+M469+M490+M501+M511+M522+M536+M545+M570+M575+M603+M619) -> 2.2148165e+08 | N54: =SUM(N55+N93+N123+N171+N183+N206+N283+N320+N469+N490+N501+N511+N522+N536+N545+N570+N575+N603+N619) -> 1.1798701e+10 | O54: =SUM(O55+O93+O123+O171+O183+O206+O283+O320+O469+O490+O501+O511+O522+O536+O545+O570+O575+O603+O619) -> 1.12484e+09 | P54: =SUM(P55+P93+P123+P171+P183+P206+P283+P320+P469+P490+P501+P511+P522+P536+P545+P570+P575+P603+P619) -> 0 | Q54: 1.1798701e+10 | R54: =SUM(Q54-N54) -> 0.59999847
A55: a | B55: 1 | C55: 3 | D55: 02 | E55: 01 | H55: Alat Besar | I55: =SUM(I56+I69+I76) -> 509600000 | J55: =SUM(J56+J69+J76) -> 50960000 | K55: =SUM(K56+K69+K76) -> 0 | L55: =SUM(L56+L69+L76) -> 0 | M55: =SUM(M56+M69+M76) -> 0 | N55: =SUM(N56+N69+N76) -> 509600000 | O55: =SUM(O56+O69+O76) -> 0 | P55: =SUM(P56+P69+P76) -> 0
A56: - | B56: 1 | C56: 3 | D56: 02 | E56: 01 | F56: 01 | H56: Alat Besar Darat | I56: =SUM(I57:I68) -> 0 | J56: =SUM(J57:J68) -> 0 | K56: =SUM(K57:K68) -> 0 | L56: =SUM(L57:L68) -> 0 | M56: =SUM(M57:M68) -> 0 | N56: =SUM(N57:N68) -> 0 | O56: =SUM(O57:O68) -> 0 | P56: =SUM(P57:P68) -> 0
B57: 1 | C57: 3 | D57: 02 | E57: 01 | F57: 01 | G57: 0001 | H57: Tractor
B58: 1 | C58: 3 | D58: 02 | E58: 01 | F58: 01 | G58: 0002 | H58: Grader
B59: 1 | C59: 3 | D59: 02 | E59: 01 | F59: 01 | G59: 0003 | H59: Excavator
B60: 1 | C60: 3 | D60: 02 | E60: 01 | F60: 01 | G60: 0004 | H60: Pile Driver
B61: 1 | C61: 3 | D61: 02 | E61: 01 | F61: 01 | G61: 0005 | H61: Hauler
B62: 1 | C62: 3 | D62: 02 | E62: 01 | F62: 01 | G62: 0006 | H62: Asphalt Equipment
B63: 1 | C63: 3 | D63: 02 | E63: 01 | F63: 01 | G63: 0007 | H63: Compacting Equipment
B64: 1 | C64: 3 | D64: 02 | E64: 01 | F64: 01 | G64: 0008 | H64: Aggregate and Concrete Equipment
B65: 1 | C65: 3 | D65: 02 | E65: 01 | F65: 01 | G65: 0009 | H65: Loader
B66: 1 | C66: 3 | D66: 02 | E66: 01 | F66: 01 | G66: 0010 | H66: Alat Pengangkat
B67: 1 | C67: 3 | D67: 02 | E67: 01 | F67: 01 | G67: 0011 | H67: Mesin Proses
B68: 1 | C68: 3 | D68: 02 | E68: 01 | F68: 01 | G68: 0012 | H68: Alat Besar Darat Lainnya
A69: - | B69: 1 | C69: 3 | D69: 02 | E69: 01 | F69: 02 | H69: Alat Besar Apung | I69: =SUM(I70:I75) -> 0 | J69: =SUM(J70:J75) -> 0 | K69: =SUM(K70:K75) -> 0 | L69: =SUM(L70:L75) -> 0 | M69: =SUM(M70:M75) -> 0 | N69: =SUM(N70:N75) -> 0 | O69: =SUM(O70:O75) -> 0 | P69: =SUM(P70:P75) -> 0
B70: 1 | C70: 3 | D70: 02 | E70: 01 | F70: 02 | G70: 0001 | H70: Dredger
B71: 1 | C71: 3 | D71: 02 | E71: 01 | F71: 02 | G71: 0002 | H71: Floating Excavator
B72: 1 | C72: 3 | D72: 02 | E72: 01 | F72: 02 | G72: 0003 | H72: Amphibi Dredger
B73: 1 | C73: 3 | D73: 02 | E73: 01 | F73: 02 | G73: 0004 | H73: Kapal Tarik
B74: 1 | C74: 3 | D74: 02 | E74: 01 | F74: 02 | G74: 0005 | H74: Mesin Proses Apung
B75: 1 | C75: 3 | D75: 02 | E75: 01 | F75: 02 | G75: 0006 | H75: Alat Besar Apung Lainnya
A76: - | B76: 1 | C76: 3 | D76: 02 | E76: 01 | F76: 03 | H76: Alat Bantu | I76: =SUM(I77:I92) -> 509600000 | J76: =SUM(J77:J92) -> 50960000 | K76: =SUM(K77:K92) -> 0 | L76: =SUM(L77:L92) -> 0 | M76: =SUM(M77:M92) -> 0 | N76: =SUM(N77:N92) -> 509600000 | O76: =SUM(O77:O92) -> 0 | P76: =SUM(P77:P92) -> 0
B77: 1 | C77: 3 | D77: 02 | E77: 01 | F77: 03 | G77: 0001 | H77: Alat Penarik
B78: 1 | C78: 3 | D78: 02 | E78: 01 | F78: 03 | G78: 0002 | H78: Feeder
B79: 1 | C79: 3 | D79: 02 | E79: 01 | F79: 03 | G79: 0003 | H79: Compressor
B80: 1 | C80: 3 | D80: 02 | E80: 01 | F80: 03 | G80: 0004 | H80: Electric Generating Set | I80: 509600000 | J80: 50960000 | N80: 509600000 | O80: 0
B81: 1 | C81: 3 | D81: 02 | E81: 01 | F81: 03 | G81: 0005 | H81: Pompa
B82: 1 | C82: 3 | D82: 02 | E82: 01 | F82: 03 | G82: 0006 | H82: Mesin Bor
B83: 1 | C83: 3 | D83: 02 | E83: 01 | F83: 03 | G83: 0007 | H83: Unit Pemeliharaan Lapangan
B84: 1 | C84: 3 | D84: 02 | E84: 01 | F84: 03 | G84: 0008 | H84: Alat Pengolahan Air Kotor
B85: 1 | C85: 3 | D85: 02 | E85: 01 | F85: 03 | G85: 0009 | H85: Pembangkit Uap Air Panas/Steam Generator
B86: 1 | C86: 3 | D86: 02 | E86: 01 | F86: 03 | G86: 0010 | H86: Air Port Maintenance Equipment/Alat Bantu Penerbangan
B87: 1 | C87: 3 | D87: 02 | E87: 01 | F87: 03 | G87: 0011 | H87: Mesin Tatoo
B88: 1 | C88: 3 | D88: 02 | E88: 01 | F88: 03 | G88: 0012 | H88: Perlengkapan Kebakaran Hutan
B89: 1 | C89: 3 | D89: 02 | E89: 01 | F89: 03 | G89: 0013 | H89: Peralatan Selam
B90: 1 | C90: 3 | D90: 02 | E90: 01 | F90: 03 | G90: 0014 | H90: Peralatan SAR Mountenering
B91: 1 | C91: 3 | D91: 02 | E91: 01 | F91: 03 | G91: 0015 | H91: Peralatan Intelijen
B92: 1 | C92: 3 | D92: 02 | E92: 01 | F92: 03 | G92: 0016 | H92: Alat Bantu Lainnya
A93: b | B93: 1 | C93: 3 | D93: 02 | E93: 02 | H93: Alat Angkutan | I93: =SUM(I94+I104+I109+I115+I120) -> 2493984900 | J93: =SUM(J94+J104+J109+J115+J120) -> 2.2791857e+08 | K93: =SUM(K94+K104+K109+K115+K120) -> 29385714 | L93: =SUM(L94+L104+L109+L115+L120) -> 0 | M93: =SUM(M94+M104+M109+M115+M120) -> 29385714 | N93: =SUM(N94+N104+N109+N115+N120) -> 2.3161182e+09 | O93: =SUM(O94+O104+O109+O115+O120) -> 1.7786667e+08 | P93: =SUM(P94+P104+P109+P115+P120) -> 0
A94: - | B94: 1 | C94: 3 | D94: 02 | E94: 02 | F94: 01 | H94: Alat Angkutan Darat Bermotor | I94: =SUM(I95:I103) -> 2481994900 | J94: =SUM(J95:J103) -> 2.2791857e+08 | K94: =SUM(K95:K103) -> 29385714 | L94: =SUM(L95:L103) -> 0 | M94: =SUM(M95:M103) -> 29385714 | N94: =SUM(N95:N103) -> 2.3041282e+09 | O94: =SUM(O95:O103) -> 1.7786667e+08 | P94: =SUM(P95:P103) -> 0
B95: 1 | C95: 3 | D95: 02 | E95: 02 | F95: 01 | G95: 0001 | H95: Kendaraan Dinas Bermotor Perorangan | I95: 1963604900 | J95: 1.6210429e+08 | K95: 22142857 | M95: 22142857 | N95: 1.8122954e+09 | O95: 1.5130952e+08
B96: 1 | C96: 3 | D96: 02 | E96: 02 | F96: 01 | G96: 0002 | H96: Kendaraan Bermotor Penumpang
B97: 1 | C97: 3 | D97: 02 | E97: 02 | F97: 01 | G97: 0003 | H97: Kendaraan Bermotor Angkutan Barang | I97: 195300000 | J97: 27900000 | K97: 0 | M97: 0 | N97: 195300000
B98: 1 | C98: 3 | D98: 02 | E98: 02 | F98: 01 | G98: 0004 | H98: Kendaraan Bermotor Beroda Dua | I98: 323090000 | J98: 37914286 | K98: 7242857.1 | M98: 7242857.1 | N98: 2.9653286e+08 | O98: 26557143
B99: 1 | C99: 3 | D99: 02 | E99: 02 | F99: 01 | G99: 0005 | H99: Kendaraan Bermotor Beroda Tiga
B100: 1 | C100: 3 | D100: 02 | E100: 02 | F100: 01 | G100: 0006 | H100: Kendaraan Bermotor Khusus
B101: 1 | C101: 3 | D101: 02 | E101: 02 | F101: 01 | G101: 0007 | H101: Kendaraan Tempur
B102: 1 | C102: 3 | D102: 02 | E102: 02 | F102: 01 | G102: 0008 | H102: Alat Angkutan Kereta Rel
B103: 1 | C103: 3 | D103: 02 | E103: 02 | F103: 01 | G103: 0009 | H103: Alat Angkutan Darat Bermotor Lainnya
A104: - | B104: 1 | C104: 3 | D104: 02 | E104: 02 | F104: 02 | H104: Alat Angkutan Darat Tak Bermotor | I104: =SUM(I105:I108) -> 11990000 | J104: =SUM(J105:J108) -> 0 | K104: =SUM(K105:K108) -> 0 | L104: =SUM(L105:L108) -> 0 | M104: =SUM(M105:M108) -> 0 | N104: =SUM(N105:N108) -> 11990000 | O104: =SUM(O105:O108) -> 0 | P104: =SUM(P105:P108) -> 0
B105: 1 | C105: 3 | D105: 02 | E105: 02 | F105: 02 | G105: 0001 | H105: Kendaraan Tak Bermotor Angkutan Barang | I105: 11990000 | N105: 11990000
B106: 1 | C106: 3 | D106: 02 | E106: 02 | F106: 02 | G106: 0002 | H106: Kendaraan Tak Bermotor Penumpang
B107: 1 | C107: 3 | D107: 02 | E107: 02 | F107: 02 | G107: 0003 | H107: Alat Angkutan Kereta Rel Tak Bermotor
B108: 1 | C108: 3 | D108: 02 | E108: 02 | F108: 02 | G108: 0004 | H108: Alat Angkutan Darat Tak Bermotor Lainnya
A109: - | B109: 1 | C109: 3 | D109: 02 | E109: 02 | F109: 03 | H109: Alat Angkutan Apung Bermotor | I109: =SUM(I110:I114) -> 0 | J109: =SUM(J110:J114) -> 0 | K109: =SUM(K110:K114) -> 0 | L109: =SUM(L110:L114) -> 0 | M109: =SUM(M110:M114) -> 0 | N109: =SUM(N110:N114) -> 0 | O109: =SUM(O110:O114) -> 0 | P109: =SUM(P110:P114) -> 0
B110: 1 | C110: 3 | D110: 02 | E110: 02 | F110: 03 | G110: 0001 | H110: Alat Angkutan Apung Bermotor untuk Barang
B111: 1 | C111: 3 | D111: 02 | E111: 02 | F111: 03 | G111: 0002 | H111: Alat Angkutan Apung Bermotor untuk Penumpang
B112: 1 | C112: 3 | D112: 02 | E112: 02 | F112: 03 | G112: 0003 | H112: Alat Angkutan Apung Bermotor Khusus
...

Sheet BI Sem. II tahun 2023 108  
A1: BUKU INVENTARIS
A2: SEMESTER II
A3: TAHUN 2023
A4: NOMOR | D4: SPESIFIKASI BARANG | G4: Bahan | H4: Asal / Cara Perolehan Barang | I4: Tahun Perolehan | J4: Ukuran Barang Kontruksi | K4: Satuan | L4: Keadaan Barang | M4: JUMLAH | P4: Tabel Bantu untuk Nilai Buku Aset yang ada Rehab / Penambahan Belanja | Q4: Nilai Residu | S4: Nilai Perolehan setelah dikurangi Nilai Residu | T4: Masa Manfaat (Tahun) | U4: Beban Penyusutan Per Tahun | V4: Beban Penyusutan Periode ini | Z4: Beban Tahun Ini | AA4: Penyusut an Tahun ke - | AB4: Akumulasi Penyusutan | AC4: Nilai Buku | AD4: Lokasi Barang | AE4: Keterangan
A5: No. Urut | B5: Kode Barang | C5: Register | D5: Nama/Jenis Barang | E5: Merk/Type | F5: No. Sertifikat / No. Plat Kendaraan / No. Pabrik / No. Casis | M5: Barang | N5: Harga Satuan | O5: Harga Perolehan | Q5: Tarif Nilai Residu (% dari Harga Perolehan) | R5: N I L A I R E SI D U | V5: Semester I | X5: Semester II
L6: (B/KB/RB) | V6: Waktu | W6: Nilai | X6: Waktu | Y6: Nilai
A7: 1 | B7: 2 | C7: 3 | D7: 4 | E7: 5 | F7: 6 | G7: 7 | H7: 8 | I7: 9 | J7: 10 | K7: 11 | L7: 12 | M7: 13 | N7: 14 | O7: 15 | P7: 16 | Q7: 17 | R7: 18 | S7: 19 | T7: 20 | U7: 21 | V7: 22 | W7: 23 | X7: 24 | Y7: 25 | Z7: 26 | AA7: 27 | AB7: 28 | AC7: 29 | AD7: 30 | AE7: 31 | AF7: 1.157722e+10 | AG7: =SUM(AF7+W30+Y30-AB30) -> -0.51999664
A8: 1 | B8: 1.3.1 | D8: TANAH | M8: =M9+M14+M19+M24 -> 0 | O8: =O9+O14+O19+O24 -> 0 | P8: =P9+P14+P19+P24 -> 0 | Q8: =Q9+Q14+Q19+Q24 -> 0 | R8: =R9+R14+R19+R24 -> 0 | S8: =S9+S14+S19+S24 -> 0 | U8: =U9+U14+U19+U24 -> 0 | W8: =W9+W14+W19+W24 -> 0 | Y8: =Y9+Y14+Y19+Y24 -> 0 | Z8: =Z9+Z14+Z19+Z24 -> 0 | AB8: =AB9+AB14+AB19+AB24 -> 0 | AC8: =AC9+AC14+AC19+AC24 -> 0 | AF8: 1.1798701e+10 | AG8: =SUM(AF8+Y30-AB30) -> 0.030000687
B9: 1.3.1.01 | D9: TANAH | M9: =SUM(M10:M13) -> 0 | O9: =SUM(O10:O13) -> 0 | P9: =SUM(P10:P13) -> 0 | Q9: =SUM(Q10:Q13) -> 0 | R9: =SUM(R10:R13) -> 0 | S9: =SUM(S10:S13) -> 0 | U9: =SUM(U10:U13) -> 0 | W9: =SUM(W10:W13) -> 0 | Y9: =SUM(Y10:Y13) -> 0 | Z9: =SUM(Z10:Z13) -> 0 | AB9: =SUM(AB10:AB13) -> 0 | AC9: =SUM(AC10:AC13) -> 0
B14: 1.3.1.01.01 | D14: TANAH PERSIL | M14: =SUM(M15:M18) -> 0 | O14: =SUM(O15:O18) -> 0 | P14: =SUM(P15:P18) -> 0 | Q14: =SUM(Q15:Q18) -> 0 | R14: =SUM(R15:R18) -> 0 | S14: =SUM(S15:S18) -> 0 | U14: =SUM(U15:U18) -> 0 | W14: =SUM(W15:W18) -> 0 | Y14: =SUM(Y15:Y18) -> 0 | Z14: =SUM(Z15:Z18) -> 0 | AB14: =SUM(AB15:AB18) -> 0 | AC14: =SUM(AC15:AC18) -> 0
B19: 1.3.1.01.02 | D19: TANAH NON PERSIL | M19: =SUM(M20:M23) -> 0 | O19: =SUM(O20:O23) -> 0 | P19: =SUM(P20:P23) -> 0 | Q19: =SUM(Q20:Q23) -> 0 | R19: =SUM(R20:R23) -> 0 | S19: =SUM(S20:S23) -> 0 | U19: =SUM(U20:U23) -> 0 | W19: =SUM(W20:W23) -> 0 | Y19: =SUM(Y20:Y23) -> 0 | Z19: =SUM(Z20:Z23) -> 0 | AB19: =SUM(AB20:AB23) -> 0 | AC19: =SUM(AC20:AC23) -> 0
B24: 1.3.1.01.03 | D24: LAPANGAN | M24: =SUM(M25:M28) -> 0 | O24: =SUM(O25:O28) -> 0 | P24: =SUM(P25:P28) -> 0 | Q24: =SUM(Q25:Q28) -> 0 | R24: =SUM(R25:R28) -> 0 | S24: =SUM(S25:S28) -> 0 | U24: =SUM(U25:U28) -> 0 | W24: =SUM(W25:W28) -> 0 | Y24: =SUM(Y25:Y28) -> 0 | Z24: =SUM(Z25:Z28) -> 0 | AB24: =SUM(AB25:AB28) -> 0 | AC24: =SUM(AC25:AC28) -> 0
A30: 2 | B30: 1.3.2 | D30: PERALATAN DAN MESIN | M30: =SUM(M31+M44+M101+M786+M808+M846+M1062) -> 5058 | O30: =SUM(O31+O44+O101+O786+O808+O846+O1062) -> 1.2973162e+10 | P30: =P31+P44+P89+P96+P101+P786+P808+P816+P837+P846+P1014+P1019+P1024+P1033+P1040+P1049+P1052+P1055+P1062 -> 0 | Q30: =Q31+Q44+Q89+Q96+Q101+Q786+Q808+Q816+Q837+Q846+Q1014+Q1019+Q1024+Q1033+Q1040+Q1049+Q1052+Q1055+Q1062 -> 0 | R30: =R31+R44+R89+R96+R101+R786+R808+R816+R837+R846+R1014+R1019+R1024+R1033+R1040+R1049+R1052+R1055+R1062 -> 0 | S30: =SUM(S31+S44+S101+S786+S808+S846+S1062) -> 1.2816679e+10 | U30: =SUM(U31+U44+U101+U786+U808+U816+U837+U846+U1014+U1019+U1024+U1033+U1040+U1049+U1052+U1055+U1062) -> 9.5792598e+08 | W30: =SUM(W31+W44+W101+W786+W808+W816+W837+W846+W1014+W1019+W1024+W1033+W1040+W1049+W1052+W1055+W1062) -> 2.2148165e+08 | Y30: =SUM(Y31+Y44+Y101+Y786+Y808+Y816+Y837+Y846+Y1014+Y1019+Y1024+Y1033+Y1040+Y1049+Y1052+Y1055+Y1062) -> 1.9466541e+08 | Z30: =SUM(Z31+Z44+Z101+Z786+Z808+Z816+Z837+Z846+Z1014+Z1019+Z1024+Z1033+Z1040+Z1049+Z1052+Z1055+Z1062) -> 4.1614706e+08 | AB30: =SUM(AB31+AB44+AB101+AB786+AB808+AB816+AB837+AB846+AB1014+AB1019+AB1024+AB1033+AB1040+AB1049+AB1052+AB1055+AB1062) -> 1.1993367e+10 | AC30: =SUM(AC31+AC44+AC101+AC786+AC808+AC846+AC1062) -> 9.797956e+08 | AF30: 1.157722e+10 | AG30: =SUM(AF30+W30+Y30-AB30) -> -0.51999855
B31: 1.3.2.01 | D31: ALAT BESAR | M31: =SUM(M40) -> 1 | O31: =SUM(O40) -> 509600000 | P31: =P32+P36+P40 -> 0 | Q31: =Q32+Q36+Q40 -> 0 | R31: =R32+R36+R40 -> 0 | S31: =SUM(S40) -> 509600000 | U31: =U32+U36+U40 -> 50960000 | W31: =W32+W36+W40 -> 0 | Y31: =Y32+Y36+Y40 -> 0 | Z31: =Z32+Z36+Z40 -> 0 | AB31: =SUM(AB40) -> 509600000 | AC31: =AC32+AC36+AC40 -> 0 | AF31: 1.1817729e+10
B32: 1.3.2.01.01 | D32: ALAT BESAR DARAT | M32: =SUM(M33:M35) -> 0 | O32: =SUM(O33:O35) -> 0 | P32: =SUM(P33:P35) -> 0 | Q32: =SUM(Q33:Q35) -> 0 | R32: =SUM(R33:R35) -> 0 | S32: =SUM(S33:S35) -> 0 | U32: =SUM(U33:U35) -> 0 | W32: =SUM(W33:W35) -> 0 | Y32: =SUM(Y33:Y35) -> 0 | Z32: =SUM(Z33:Z35) -> 0 | AB32: =SUM(AB33:AB35) -> 0 | AC32: =SUM(AC33:AC35) -> 0
B36: 1.3.2.01.02 | D36: ALAT BESAR APUNG | M36: =SUM(M37:M39) -> 0 | O36: =SUM(O37:O39) -> 0 | P36: =SUM(P37:P39) -> 0 | Q36: =SUM(Q37:Q39) -> 0 | R36: =SUM(R37:R39) -> 0 | S36: =SUM(S37:S39) -> 0 | U36: =SUM(U37:U39) -> 0 | W36: =SUM(W37:W39) -> 0 | Y36: =SUM(Y37:Y39) -> 0 | Z36: =SUM(Z37:Z39) -> 0 | AB36: =SUM(AB37:AB39) -> 0 | AC36: =SUM(AC37:AC39) -> 0
B40: 1.3.2.01.03 | D40: ALAT BANTU | M40: =SUM(M41) -> 1 | O40: =O41 -> 509600000 | P40: =SUM(P42:P43) -> 0 | Q40: =SUM(Q42:Q43) -> 0 | R40: =SUM(R42:R43) -> 0 | S40: =S41 -> 509600000 | U40: =U41 -> 50960000 | W40: =W41 -> 0 | Y40: =Y41 -> 0 | Z40: =Z41 -> 0 | AB40: =AB41 -> 509600000 | AC40: =AC41 -> 0 | AG40: =AF31-AB30 -> -1.756377e+08
B41: 1.3.2.01.03.04 | D41: Electric Generating Set | M41: =SUM(M42) -> 1 | O41: =SUM(O42) -> 509600000 | S41: =SUM(S42) -> 509600000 | U41: =SUM(U42) -> 50960000 | W41: =SUM(W42) -> 0 | Z41: =SUM(Z42) -> 0 | AB41: =SUM(AB42) -> 509600000 | AC41: =SUM(AC42) -> 0
A42: 1 | B42: 1.3.2.01.03.04.003 | C42: 0001 | D42: Genset | E42: Baifa Power/200 KVA | G42: Besi | H42: APBD | I42: 2013 | K42: Unit | L42: B | M42: 1 | N42: 509600000 | O42: 509600000 | S42: =SUM(N42-R42) -> 509600000 | T42: 10 | U42: =SUM(S42/T42) -> 50960000 | W42: =SUM(U42*V42) -> 0 | Y42: =SUM(U42*X42) -> 0 | Z42: =SUM(W42+Y42) -> 0 | AA42: 10 | AB42: =SUM(U42*AA42) -> 509600000 | AC42: =SUM(O42-AB42) -> 0 | AD42: Gudang Genset | AF42: 1.1276423e+09 | AG42: =AC30-AF42 -> -1.478467e+08
B44: 1.3.2.02 | D44: ALAT ANGKUTAN | M44: =SUM(M46+M56+M58+M79) -> 32 | O44: =SUM(O46+O56+O58+O79) -> 2493984900 | P44: =P45+P79+P83+P85+P87 -> 0 | Q44: =Q45+Q79+Q83+Q85+Q87 -> 0 | R44: =R45+R79+R83+R85+R87 -> 0 | S44: =SUM(S46+S56+S58+S79) -> 2493984900 | U44: =SUM(U46+U56+U58+U79) -> 2.2791857e+08 | W44: =SUM(W46+W56+W58+W79) -> 29385714 | Y44: =Y45+Y79+Y83+Y85+Y87 -> 29385714 | Z44: =SUM(Z46+Z56+Z58+Z79) -> 58771429 | AB44: =SUM(AB46+AB56+AB58+AB79) -> 2.3455039e+09 | AC44: =SUM(AC46+AC56+AC58+AC79) -> 1.4848095e+08
B45: 1.3.2.02.01 | D45: ALAT ANGKUTAN DARAT BERMOTOR | M45: =SUM(M46+M56+M58) -> 30 | O45: =SUM(O46+O56+O58) -> 2481994900 | P45: =SUM(P76:P78) -> 0 | Q45: =SUM(Q76:Q78) -> 0 | R45: =SUM(R76:R78) -> 0 | S45: =SUM(S46+S56+S58) -> 2481994900 | U45: =SUM(U46+U56+U58) -> 2.2791857e+08 | W45: =SUM(W46+W56+W58) -> 29385714 | Y45: =SUM(Y46+Y56+Y58) -> 29385714 | Z45: =SUM(Z46+Z56+Z58) -> 58771429 | AB45: =SUM(AB46+AB56+AB58) -> 2.3335139e+09 | AC45: =SUM(AC46+AC56+AC58) -> 1.4848095e+08
B46: 1.3.2.02.01.01 | D46: KENDARAAN DINAS BERMOTOR PERORANGAN | M46: =SUM(M47:M55) -> 9 | O46: =SUM(O47:O55) -> 1963604900 | S46: =SUM(S47:S55) -> 1963604900 | U46: =SUM(U47:U55) -> 1.6210429e+08 | W46: =SUM(W47:W55) -> 22142857 | Y46: =SUM(Y47:Y55) -> 22142857 | Z46: =SUM(Z47:Z55) -> 44285714 | AB46: =SUM(AB47:AB55) -> 1.8344382e+09 | AC46: =SUM(AC47:AC55) -> 1.2916667e+08
A47: 1 | B47: 1.3.2.02.01.01.006 | C47: 0001 | D47: Minibus | E47: Grand Levina | F47: BH 1941 Z /MHBGIC66F9J007085/MR.18-044015R | G47: Besi | H47: APBD | I47: 2009 | K47: Unit | L47: B | M47: 1 | N47: 209255500 | O47: 209255500 | S47: =SUM(O47-R47) -> 209255500 | T47: 7 | U47: 0 | V47: 0.5 | W47: =SUM(U47*V47) -> 0 | Y47: =SUM(U47*X47) -> 0 | Z47: =SUM(W47+Y47) -> 0 | AA47: 7 | AB47: 209255500 | AC47: =SUM(O47-AB47) -> 0 | AD47: kabid PKM
A48: 2 | B48: 1.3.2.02.01.01.006 | C48: 0002 | D48: Minibus | E48: Daihatsu Terios | F48: BH 1913 AZ /MHKG2CJ2JBK051313/DCJ4700 | G48: Besi | H48: APBD | I48: 2011 | K48: Unit | L48: B | M48: 1 | N48: 174500000 | O48: 174500000 | S48: =SUM(O48-R48) -> 174500000 | T48: 7 | U48: 0 | V48: 0.5 | W48: =SUM(U48*V48) -> 0 | Y48: =SUM(U48*X48) -> 0 | Z48: =SUM(W48+Y48) -> 0 | AA48: 7 | AB48: 174500000 | AC48: =SUM(O48-AB48) -> 0 | AD48: WI
A49: 3 | B49: 1.3.2.02.01.01.006 | C49: 0003 | D49: Minibus | E49: Toyota Innova | F49: BH 1503 Z, MHFXW43G0B4060163/ITR-7183625 | H49: APBD | I49: 2011 | K49: Unit | L49: B | M49: 1 | N49: 255650000 | O49: 255650000 | S49: =SUM(O49-R49) -> 255650000 | T49: 7 | U49: =SUM(S49/T49) -> 36521429 | AA49: 7 | AB49: 2.5565e+08 | AD49: Operasional | AE49: Mutasi Biro Umum
A50: 4 | B50: 1.3.2.02.01.01.006 | C50: 0004 | D50: Minibus | E50: Kijang Inova | F50: BH 38 | G50: Besi | H50: APBD | I50: 2012 | K50: Unit | L50: B | M50: 1 | N50: 264119400 | O50: 264119400 | S50: =SUM(O50-R50) -> 264119400 | T50: 7 | U50: 0 | V50: 0.5 | W50: =SUM(U50*V50) -> 0 | Y50: =SUM(U50*X50) -> 0 | Z50: =SUM(W50+Y50) -> 0 | AA50: 7 | AB50: 264119400 | AC50: =SUM(O50-AB50) -> 0 | AD50: Kepala Badan
A51: 5 | B51: 1.3.2.02.01.01.006 | C51: 0005 | D51: Minibus | E51: Dahatsu Terios | F51: BH 1440 Z | G51: Besi | H51: APBD | I51: 2012 | K51: Unit | L51: B | M51: 1 | N51: 181000000 | O51: 181000000 | S51: =SUM(O51-R51) -> 181000000 | T51: 7 | U51: 0 | V51: 0.5 | W51: =SUM(U51*V51) -> 0 | Y51: =SUM(U51*X51) -> 0 | Z51: =SUM(W51+Y51) -> 0 | AA51: 7 | AB51: 181000000 | AC51: =SUM(O51-AB51) -> 0 | AD51: Kabid PKTUF
A52: 6 | B52: 1.3.2.02.01.01.006 | C52: 0006 | D52: Minibus | E52: Suzuki Ertiga GX Elegan MT Black | F52: BH 1899 Z/K14BT-1100850/MHYKZE81SEJ207953 | G52: Besi | H52: APBD | I52: 2014 | K52: Unit | L52: B | M52: 1 | N52: 183670000 | O52: 183670000 | S52: =SUM(O52-R52) -> 183670000 | T52: 7 | U52: =SUM(S52/T52) -> 26238571 | V52: 0.5 | Y52: =SUM(U52*X52) -> 0 | AA52: 7 | AB52: =SUM(U52*AA52) -> 183670000 | AC52: =SUM(O52-AB52) -> 0 | AD52: Kabid PKTI
A53: 7 | B53: 1.3.2.02.01.01.006 | C53: 0007 | D53: Minibus | E53: Suzuki Ertiga GX Elegan MT White | F53: BH 1939 Z/K14BT-1095919/MHYKZE81SEJ208204 | G53: Besi | H53: APBD | I53: 2014 | K53: Unit | L53: B | M53: 1 | N53: 183670000 | O53: 183670000 | S53: =SUM(O53-R53) -> 183670000 | T53: 7 | U53: =SUM(S53/T53) -> 26238571 | V53: 0.5 | Y53: =SUM(U53*X53) -> 0 | AA53: 7 | AB53: =SUM(U53*AA53) -> 183670000 | AC53: =SUM(O53-AB53) -> 0 | AD53: Kabid SKPK
A54: 8 | B54: 1.3.2.02.01.01.006 | C54: 0008 | D54: Minibus | E54: Suzuki Ertiga GX Elegan AT White | F54: BH 1940 Z/K14BT-1109297/MHYKZE81SEJ209978 | G54: Besi | H54: APBD | I54: 2014 | K54: Unit | L54: B | M54: 1 | N54: 201740000 | O54: 201740000 | S54: =SUM(O54-R54) -> 201740000 | T54: 7 | U54: =SUM(S54/T54) -> 28820000 | V54: 0.5 | Y54: =SUM(U54*X54) -> 0 | AA54: 7 | AB54: =SUM(U54*AA54) -> 201740000 | AC54: =SUM(O54-AB54) -> 0 | AD54: Sekretaris Badan
A55: 10 | B55: 1.3.2.02.01.01.006 | C55: 0010 | D55: Minibus | E55: Toyota Innova | F55: BH 1060 Z, MHFJW8EM2K2368401 | G55: Besi | H55: APBD | I55: 2019 | K55: Unit | L55: B | M55: 1 | N55: 310000000 | O55: 310000000 | S55: =SUM(O55-R55) -> 310000000 | T55: 7 | U55: =SUM(S55/T55) -> 44285714 | V55: 0.5 | W55: =SUM(U55*V55) -> 22142857 | X55: 0.5 | Y55: =U55*X55 -> 22142857 | Z55: =SUM(W55+Y55) -> 44285714 | AA55: =2023-I55+V55+X55-11/12 -> 4.0833333 | AB55: =SUM(U55*AA55) -> 1.8083333e+08 | AC55: =SUM(O55-AB55) -> 1.2916667e+08 | AD55: Widyaiswara Utama | AE55: Mutasi Biro PBMD
B56: 1.3.2.02.01.03 | D56: KENDARAAN BERMOTOR ANGKUTAN BARANG | M56: =SUM(M57) -> 1 | O56: =SUM(O57) -> 195300000 | S56: =SUM(S57) -> 195300000 | U56: =SUM(U57) -> 27900000 | W56: =SUM(W57) -> 0 | Z56: =SUM(Z57) -> 0 | AB56: =SUM(AB57) -> 195300000 | AC56: =SUM(AC57) -> 0
A57: 9 | B57: 1.3.2.02.01.03.002 | C57: 0009 | D57: Pick Up | E57: Toyota Hilux | G57: Besi | H57: APBD | I57: 2015 | K57: Unit | L57: B | M57: 1 | N57: 195300000 | O57: 195300000 | S57: =SUM(O57-R57) -> 195300000 | T57: 7 | U57: =SUM(S57/T57) -> 27900000 | W57: =SUM(U57*V57) -> 0 | Y57: =U57*X57 -> 0 | Z57: =SUM(W57+Y57) -> 0 | AA57: 7 | AB57: =SUM(U57*AA57) -> 195300000 | AC57: =SUM(O57-AB57) -> 0 | AD57: Operasional
B58: 1.3.2.02.01.04 | D58: KENDARAAN BERMOTOR BERODA DUA | M58: =SUM(M59:M78) -> 20 | O58: =SUM(O59:O78) -> 323090000 | S58: =SUM(S59:S78) -> 323090000 | U58: =SUM(U59:U78) -> 37914286 | W58: =SUM(W59:W78) -> 7242857.1 | Y58: =SUM(Y59:Y78) -> 7242857.1 | Z58: =SUM(Z59:Z78) -> 14485714 | AB58: =SUM(AB59:AB78) -> 3.0377571e+08 | AC58: =SUM(AC59:AC78) -> 19314286
A59: 11 | B59: 1.3.2.02.01.04.001 | C59: 0001 | D59: Sepeda motor | E59: Honda / NF125 TR | F59: BH BH 2373 Z /MH1JB91179K755362/JB1E-1752034 | G59: Besi | H59: APBD | I59: 2009 | K59: Unit | L59: B | M59: 1 | N59: 14150000 | O59: 14150000 | S59: =SUM(O59-R59) -> 14150000 | T59: 7 | W59: =SUM(U59*V59) -> 0 | Z59: =SUM(W59+Y59) -> 0 | AA59: 7 | AB59: 14150000 | AC59: =SUM(O59-AB59) -> 0 | AD59: Fungsional Umum
A60: 12 | B60: 1.3.2.02.01.04.001 | C60: 0002 | D60: Sepeda motor | E60: Honda / NF125 TR | F60: BH 2368 Z /MH1JB91179K790129/JB1E-1787288 | G60: Besi | H60: APBD | I60: 2009 | K60: Unit | L60: B | M60: 1 | N60: 14150000 | O60: 14150000 | S60: =SUM(O60-R60) -> 14150000 | T60: 7 | W60: =SUM(U60*V60) -> 0 | Y60: =SUM(U60*X60) -> 0 | Z60: =SUM(W60+Y60) -> 0 | AA60: 7 | AB60: 14150000 | AC60: =SUM(O60-AB60) -> 0 | AD60: Fungsional Umum
A61: 13 | B61: 1.3.2.02.01.04.001 | C61: 0003 | D61: Sepeda motor | E61: Honda / New Vario | F61: BH 2944 HZ /MH1JF7113BK085534/JF71E-1084924 | G61: Besi | H61: APBD | I61: 2011 | K61: Unit | L61: B | M61: 1 | N61: 14695000 | O61: 14695000 | S61: =SUM(O61-R61) -> 14695000 | T61: 7 | W61: =SUM(U61*V61) -> 0 | Y61: =SUM(U61*X61) -> 0 | Z61: =SUM(W61+Y61) -> 0 | AA61: 7 | AB61: 14695000 | AC61: =SUM(O61-AB61) -> 0 | AD61: Kasubbag Program dan pelaporan
A62: 14 | B62: 1.3.2.02.01.04.001 | C62: 0004 | D62: Sepeda motor | E62: Honda / New Vario | F62: BH 2943 HZ /MH1JF7113BK085078/JF71E-1084470 | G62: Besi | H62: APBD | I62: 2011 | K62: Unit | L62: B | M62: 1 | N62: 14695000 | O62: 14695000 | S62: =SUM(O62-R62) -> 14695000 | T62: 7 | W62: =SUM(U62*V62) -> 0 | Y62: =SUM(U62*X62) -> 0 | Z62: =SUM(W62+Y62) -> 0 | AA62: 7 | AB62: 14695000 | AC62: =SUM(O62-AB62) -> 0 | AD62: Fungsional Umum
A63: 15 | B63: 1.3.2.02.01.04.001 | C63: 0005 | D63: Sepeda motor | E63: Honda Supra X 125 | F63: BH 2364 Z/JBG1E1169573 / JBG112EK169831 | G63: Besi | H63: APBD | I63: 2014 | K63: Unit | L63: B | M63: 1 | N63: 16400000 | O63: 16400000 | S63: =SUM(O63-R63) -> 16400000 | T63: 7 | U63: =SUM(S63/T63) -> 2342857.1 | V63: 0.5 | Y63: =SUM(U63*X63) -> 0 | AA63: 7 | AB63: =SUM(U63*AA63) -> 16400000 | AC63: =SUM(O63-AB63) -> 0 | AD63: Kasubbid Pengembangan Kompetensi Pilihan Jabatan Administrasi
A64: 16 | B64: 1.3.2.02.01.04.001 | C64: 0006 | D64: Sepeda motor | E64: Honda Supra X 125 | F64: BH 2374 Z/JBG1E1169566 / JBG110EK169875 | G64: Besi | H64: APBD | I64: 2014 | K64: Unit | L64: B | M64: 1 | N64: 16400000 | O64: 16400000 | S64: =SUM(O64-R64) -> 16400000 | T64: 7 | U64: =SUM(S64/T64) -> 2342857.1 | V64: 0.5 | Y64: =SUM(U64*X64) -> 0 | AA64: 7 | AB64: =SUM(U64*AA64) -> 16400000 | AC64: =SUM(O64-AB64) -> 0 | AD64: Kasubbid pengembangan Kompetensi Jabatan Struktural
A65: 17 | B65: 1.3.2.02.01.04.001 | C65: 0007 | D65: Sepeda motor | E65: Honda Supra X 125 | F65: BH 2355 Z/JBG1E1169865 / JBG112EK170213 | G65: Besi | H65: APBD | I65: 2014 | K65: Unit | L65: B | M65: 1 | N65: 16400000 | O65: 16400000 | S65: =SUM(O65-R65) -> 16400000 | T65: 7 | U65: =SUM(S65/T65) -> 2342857.1 | V65: 0.5 | Y65: =SUM(U65*X65) -> 0 | AA65: 7 | AB65: =SUM(U65*AA65) -> 16400000 | AC65: =SUM(O65-AB65) -> 0 | AD65: Kasubbid Pengembangan Kompetensi Pilihan Jabatan Administrasi
A66: 18 | B66: 1.3.2.02.01.04.001 | C66: 0008 | D66: Sepeda motor | E66: Honda Supra X 125 | F66: BH 2365 Z/JBG1E1169864 / JBG11XEK170158 | G66: Besi | H66: APBD | I66: 2014 | K66: Unit | L66: B | M66: 1 | N66: 16400000 | O66: 16400000 | S66: =SUM(O66-R66) -> 16400000 | T66: 7 | U66: =SUM(S66/T66) -> 2342857.1 | V66: 0.5 | Y66: =SUM(U66*X66) -> 0 | AA66: 7 | AB66: =SUM(U66*AA66) -> 16400000 | AC66: =SUM(O66-AB66) -> 0 | AD66: Kasubbid Pengembangan Kompetensi Jabatan Fungsional
A67: 19 | B67: 1.3.2.02.01.04.001 | C67: 0009 | D67: Sepeda motor | E67: Honda Supra X 125 | F67: BH 2376 Z/JBG1E1169976 / JBG112EK170283 | G67: Besi | H67: APBD | I67: 2014 | K67: Unit | L67: B | M67: 1 | N67: 16400000 | O67: 16400000 | S67: =SUM(O67-R67) -> 16400000 | T67: 7 | U67: =SUM(S67/T67) -> 2342857.1 | V67: 0.5 | Y67: =SUM(U67*X67) -> 0 | AA67: 7 | AB67: =SUM(U67*AA67) -> 16400000 | AC67: =SUM(O67-AB67) -> 0 | AD67: Kasubbag Keuangan
A68: 20 | B68: 1.3.2.02.01.04.001 | C68: 0010 | D68: Sepeda motor | E68: Honda Supra X 125 | F68: JBG1E1169878 / JBG119EK170281 | G68: Besi | H68: APBD | I68: 2014 | K68: Unit | L68: B | M68: 1 | N68: 16400000 | O68: 16400000 | S68: =SUM(O68-R68) -> 16400000 | T68: 7 | U68: =SUM(S68/T68) -> 2342857.1 | V68: 0.5 | Y68: =SUM(U68*X68) -> 0 | AA68: 7 | AB68: =SUM(U68*AA68) -> 16400000 | AC68: =SUM(O68-AB68) -> 0 | AD68: Kasubbid Pengembangan Inti Jabatan Adminstrasi Urusan Konkuren Wajib Pelayanan Dasar dan Pilihan
A69: 21 | B69: 1.3.2.02.01.04.001 | C69: 0011 | D69: Sepeda motor | E69: Honda Supra X 125 | F69: BH 2375 Z/JBG1E1169869 / JBG110EK170296 | G69: Besi | H69: APBD | I69: 2014 | K69: Unit | L69: B | M69: 1 | N69: 16400000 | O69: 16400000 | S69: =SUM(O69-R69) -> 16400000 | T69: 7 | U69: =SUM(S69/T69) -> 2342857.1 | V69: 0.5 | Y69: =SUM(U69*X69) -> 0 | AA69: 7 | AB69: =SUM(U69*AA69) -> 16400000 | AC69: =SUM(O69-AB69) -> 0 | AD69: Pengelola Pemanfaatan BMD
A70: 22 | B70: 1.3.2.02.01.04.001 | C70: 0012 | D70: Sepeda motor | E70: Honda Supra X 125 | F70: BH 2367 Z/JBG1E1169897 / JBG114EK170298 | G70: Besi | H70: APBD | I70: 2014 | K70: Unit | L70: B | M70: 1 | N70: 16400000 | O70: 16400000 | S70: =SUM(O70-R70) -> 16400000 | T70: 7 | U70: =SUM(S70/T70) -> 2342857.1 | V70: 0.5 | Y70: =SUM(U70*X70) -> 0 | AA70: 7 | AB70: =SUM(U70*AA70) -> 16400000 | AC70: =SUM(O70-AB70) -> 0 | AD70: Kasubbid Pengembangan Inti Jabatan Adminstrasi Urusan Konkuren Wajib Pelayanan Dasar dan Pilihan
A71: 23 | B71: 1.3.2.02.01.04.001 | C71: 0013 | D71: Sepeda motor | E71: Honda Supra X 125 | F71: BH 2362 Z/JBG1E1169411 / JBG111EK169853 | G71: Besi | H71: APBD | I71: 2014 | K71: Unit | L71: B | M71: 1 | N71: 16400000 | O71: 16400000 | S71: =SUM(O71-R71) -> 16400000 | T71: 7 | U71: =SUM(S71/T71) -> 2342857.1 | V71: 0.5 | Y71: =SUM(U71*X71) -> 0 | AA71: 7 | AB71: =SUM(U71*AA71) -> 16400000 | AC71: =SUM(O71-AB71) -> 0 | AD71: Kasubbid Pengelolaan Sumber Belajar dan Kerjasama
A72: 24 | B72: 1.3.2.02.01.04.001 | C72: 0014 | D72: Sepeda motor | E72: Honda Supra X 125 | F72: BH 2363 Z/JBG1E1169471 /JBG115EK169810 | G72: Besi | H72: APBD | I72: 2014 | K72: Unit | L72: B | M72: 1 | N72: 16400000 | O72: 16400000 | S72: =SUM(O72-R72) -> 16400000 | T72: 7 | U72: =SUM(S72/T72) -> 2342857.1 | V72: 0.5 | AA72: 7 | AB72: =SUM(U72*AA72) -> 16400000 | AC72: =SUM(O72-AB72) -> 0 | AD72: kasubbid pengembangan Kompetensi Kepemimpinan dan Prajabatan
A73: 25 | B73: 1.3.2.02.01.04.001 | C73: 0015 | D73: Sepeda motor | E73: Yamaha Soul GT | F73: E3W9E0044462/MH3S39040JJ028553/BH 2191 A | G73: Besi | H73: APBD | I73: 2018 | K73: Unit | L73: B | M73: 1 | N73: 16900000 | O73: 16900000 | S73: =SUM(O73-R73) -> 16900000 | T73: 7 | U73: =SUM(S73/T73) -> 2414285.7 | V73: 0.5 | W73: =SUM(U73*V73) -> 1207142.9 | X73: 0.5 | Y73: =SUM(U73*X73) -> 1207142.9 | Z73: =SUM(W73+Y73) -> 2414285.7 | AA73: =2023-I73+V73+X73-4/12 -> 5.6666667 | AB73: =SUM(U73*AA73) -> 13680952 | AC73: =SUM(O73-AB73) -> 3219047.6 | AD73: Kasubbid Pengembngan Inti Jabatan Administrasi Perangkat Daerah Penunjang
A74: 26 | B74: 1.3.2.02.01.04.001 | C74: 0016 | D74: Sepeda motor | E74: Yamaha Soul GT | F74: E3W9E0044465/MH3SE9040JJ028556/BH 2190 A | G74: Besi | H74: APBD | I74: 2018 | K74: Unit | L74: B | M74: 1 | N74: 16900000 | O74: 16900000 | S74: =SUM(O74-R74) -> 16900000 | T74: 7 | U74: =SUM(S74/T74) -> 2414285.7 | V74: 0.5 | W74: =SUM(U74*V74) -> 1207142.9 | X74: 0.5 | Y74: =SUM(U74*X74) -> 1207142.9 | Z74: =SUM(W74+Y74) -> 2414285.7 | AA74: =2023-I74+V74+X74-4/12 -> 5.6666667 | AB74: =SUM(U74*AA74) -> 13680952 | AC74: =SUM(O74-AB74) -> 3219047.6 | AD74: Kasubbid kompetensi inti Jabatan Administrasi Urusan Konkuren Wajib Non Pelayanan Dasar
A75: 27 | B75: 1.3.2.02.01.04.001 | C75: 0017 | D75: Sepeda motor | E75: Yamaha Soul GT | F75: E3W9E0044467/MH3SE9040JJ028558/BH 2195 A | G75: Besi | H75: APBD | I75: 2018 | K75: Unit | L75: B | M75: 1 | N75: 16900000 | O75: 16900000 | S75: =SUM(O75-R75) -> 16900000 | T75: 7 | U75: =SUM(S75/T75) -> 2414285.7 | V75: 0.5 | W75: =SUM(U75*V75) -> 1207142.9 | X75: 0.5 | Y75: =SUM(U75*X75) -> 1207142.9 | Z75: =SUM(W75+Y75) -> 2414285.7 | AA75: =2023-I75+V75+X75-4/12 -> 5.6666667 | AB75: =SUM(U75*AA75) -> 13680952 | AC75: =SUM(O75-AB75) -> 3219047.6 | AD75: Kasubbid Pengembangan Kompetensi Umum Jabatan Administrasi
A76: 28 | B76: 1.3.2.02.01.04.001 | C76: 0018 | D76: Sepeda motor | E76: Yamaha Soul GT | F76: E3W9E0044439/MH3SE9040JJ028531/BH 2192 A | G76: Besi | H76: APBD | I76: 2018 | K76: Unit | L76: B | M76: 1 | N76: 16900000 | O76: 16900000 | S76: =SUM(O76-R76) -> 16900000 | T76: 7 | U76: =SUM(S76/T76) -> 2414285.7 | V76: 0.5 | W76: =SUM(U76*V76) -> 1207142.9 | X76: 0.5 | Y76: =SUM(U76*X76) -> 1207142.9 | Z76: =SUM(W76+Y76) -> 2414285.7 | AA76: =2023-I76+V76+X76-4/12 -> 5.6666667 | AB76: =SUM(U76*AA76) -> 13680952 | AC76: =SUM(O76-AB76) -> 3219047.6 | AD76: Bendahara Pengeluaran
A77: 29 | B77: 1.3.2.02.01.04.001 | C77: 0019 | D77: Sepeda motor | E77: Yamaha Soul GT | F77: E3W9E0044467/MH3SE9040JJ028513/BH 2193 A | G77: Besi | H77: APBD | I77: 2018 | K77: Unit | L77: B | M77: 1 | N77: 16900000 | O77: 16900000 | S77: =SUM(O77-R77) -> 16900000 | T77: 7 | U77: =SUM(S77/T77) -> 2414285.7 | V77: 0.5 | W77: =SUM(U77*V77) -> 1207142.9 | X77: 0.5 | Y77: =SUM(U77*X77) -> 1207142.9 | Z77: =SUM(W77+Y77) -> 2414285.7 | AA77: =2023-I77+V77+X77-4/12 -> 5.6666667 | AB77: =SUM(U77*AA77) -> 13680952 | AC77: =SUM(O77-AB77) -> 3219047.6 | AD77: Kasubbid Pengembangan Kompetensi Pimpinan Daerah
A78: 30 | B78: 1.3.2.02.01.04.001 | C78: 0020 | D78: Sepeda motor | E78: Yamaha Soul GT | F78: E3W9E0044467/MH3SE9040JJ028515/BH 2194 A | G78: Besi | H78: APBD | I78: 2018 | K78: Unit | L78: B | M78: 1 | N78: 16900000 | O78: 16900000 | S78: =SUM(O78-R78) -> 16900000 | T78: 7 | U78: =SUM(S78/T78) -> 2414285.7 | V78: 0.5 | W78: =SUM(U78*V78) -> 1207142.9 | X78: 0.5 | Y78: =SUM(U78*X78) -> 1207142.9 | Z78: =SUM(W78+Y78) -> 2414285.7 | AA78: =2023-I78+V78+X78-4/12 -> 5.6666667 | AB78: =SUM(U78*AA78) -> 13680952 | AC78: =SUM(O78-AB78) -> 3219047.6 | AD78: Kasubbag Umum dan Kepegawaian
B79: 1.3.2.02.02 | D79: ALAT ANGKUTAN DARAT TAK BERMOTOR | M79: =SUM(M81:M82) -> 2 | O79: =SUM(O81:O82) -> 11990000 | P79: =SUM(P81:P82) -> 0 | R79: =SUM(R81:R82) -> 0 | S79: =SUM(S81:S82) -> 11990000 | U79: =SUM(U81:U82) -> 0 | W79: =SUM(W81:W82) -> 0 | Y79: =SUM(Y81:Y82) -> 0 | Z79: =SUM(Z81:Z82) -> 0 | AB79: =SUM(AB80) -> 11990000 | AC79: =SUM(AC81:AC82) -> 0
B80: 1.3.2.02.02.01 | D80: KENDARAAN TAK BERMOTOR ANGKUTAN BARANG | M80: =SUM(M81) -> 2 | O80: =O81 -> 11990000 | S80: =SUM(S81) -> 11990000 | U80: =SUM(U81) -> 0 | AB80: =SUM(AB81) -> 11990000
B81: 1.3.2.02.02.01.004 | C81: 0001 | D81: Hand Troley (lori dorong) | E81: Lokal | G81: Besi | H81: APBD | I81: 2014 | K81: Unit | L81: RB | M81: 2 | N81: 5995000 | O81: 11990000 | S81: 11990000 | T81: 2 | V81: 0.5 | W81: 0 | X81: 0.5 | Y81: 0 | Z81: 0 | AA81: 2 | AB81: 11990000 | AC81: 0 | AD81: Gudang
Q82: =P82-O82 -> 0
B83: 1.3.2.02.03 | D83: ALAT ANGKUTAN APUNG BERMOTOR | M83: =SUM(M84:M84) -> 0 | O83: =SUM(O84:O84) -> 0 | P83: =SUM(P84:P84) -> 0 | Q83: =P83-O83 -> 0 | R83: =SUM(R84:R84) -> 0 | S83: =SUM(S84:S84) -> 0 | U83: =SUM(U84:U84) -> 0 | W83: =SUM(W84:W84) -> 0 | Y83: =SUM(Y84:Y84) -> 0 | Z83: =SUM(Z84:Z84) -> 0 | AB83: =SUM(AB84:AB84) -> 0 | AC83: =SUM(AC84:AC84) -> 0
Q84: =P84-O84 -> 0
B85: 1.3.2.02.04 | D85: ALAT ANGKUTAN APUNG TAK BERMOTOR | M85: =SUM(M86:M86) -> 0 | O85: =SUM(O86:O86) -> 0 | P85: =SUM(P86:P86) -> 0 | Q85: =P85-O85 -> 0 | R85: =SUM(R86:R86) -> 0 | S85: =SUM(S86:S86) -> 0 | U85: =SUM(U86:U86) -> 0 | W85: =SUM(W86:W86) -> 0 | Y85: =SUM(Y86:Y86) -> 0 | Z85: =SUM(Z86:Z86) -> 0 | AB85: =SUM(AB86:AB86) -> 0 | AC85: =SUM(AC86:AC86) -> 0
Q86: =P86-O86 -> 0
B87: 1.3.2.02.05 | D87: ALAT ANGKUTAN BERMOTOR UDARA | M87: =SUM(M88:M88) -> 0 | O87: =SUM(O88:O88) -> 0 | P87: =SUM(P88:P88) -> 0 | Q87: =P87-O87 -> 0 | R87: =SUM(R88:R88) -> 0 | S87: =SUM(S88:S88) -> 0 | U87: =SUM(U88:U88) -> 0 | W87: =SUM(W88:W88) -> 0 | Y87: =SUM(Y88:Y88) -> 0 | Z87: =SUM(Z88:Z88) -> 0 | AB87: =SUM(AB88:AB88) -> 0 | AC87: =SUM(AC88:AC88) -> 0
Q88: =P88-O88 -> 0
B89: 1.3.2.03 | D89: ALAT BENGKEL DAN ALAT UKUR | M89: =M90+M92+M94 -> 0 | O89: =O90+O92+O94 -> 0 | P89: =P90+P92+P94 -> 0 | Q89: =P89-O89 -> 0 | R89: =R90+R92+R94 -> 0 | S89: =S90+S92+S94 -> 0 | U89: =U90+U92+U94 -> 0 | W89: =W90+W92+W94 -> 0 | Y89: =Y90+Y92+Y94 -> 0 | Z89: =Z90+Z92+Z94 -> 0 | AB89: =AB90+AB92+AB94 -> 0 | AC89: =AC90+AC92+AC94 -> 0
B90: 1.3.2.03.01 | D90: ALAT BENGKEL BERMESIN | M90: =SUM(M91:M91) -> 0 | O90: =SUM(O91:O91) -> 0 | P90: =SUM(P91:P91) -> 0 | Q90: =P90-O90 -> 0 | R90: =SUM(R91:R91) -> 0 | S90: =SUM(S91:S91) -> 0 | U90: =SUM(U91:U91) -> 0 | W90: =SUM(W91:W91) -> 0 | Y90: =SUM(Y91:Y91) -> 0 | Z90: =SUM(Z91:Z91) -> 0 | AB90: =SUM(AB91:AB91) -> 0 | AC90: =SUM(AC91:AC91) -> 0
Q91: =P91-O91 -> 0
B92: 1.3.2.03.02 | D92: ALAT BENGKEL TAK BERMESIN | M92: =SUM(M93:M93) -> 0 | O92: =SUM(O93:O93) -> 0 | P92: =SUM(P93:P93) -> 0 | Q92: =P92-O92 -> 0 | R92: =SUM(R93:R93) -> 0 | S92: =SUM(S93:S93) -> 0 | U92: =SUM(U93:U93) -> 0 | W92: =SUM(W93:W93) -> 0 | Y92: =SUM(Y93:Y93) -> 0 | Z92: =SUM(Z93:Z93) -> 0 | AB92: =SUM(AB93:AB93) -> 0 | AC92: =SUM(AC93:AC93) -> 0
Q93: =P93-O93 -> 0
B94: 1.3.2.03.03 | D94: ALAT UKUR | M94: =SUM(M95:M95) -> 0 | O94: =SUM(O95:O95) -> 0 | P94: =SUM(P95:P95) -> 0 | Q94: =P94-O94 -> 0 | R94: =SUM(R95:R95) -> 0 | S94: =SUM(S95:S95) -> 0 | U94: =SUM(U95:U95) -> 0 | W94: =SUM(W95:W95) -> 0 | Y94: =SUM(Y95:Y95) -> 0 | Z94: =SUM(Z95:Z95) -> 0 | AB94: =SUM(AB95:AB95) -> 0 | AC94: =SUM(AC95:AC95) -> 0
Q95: =P95-O95 -> 0
B96: 1.3.2.04 | D96: ALAT PERTANIAN | M96: =M97 -> 0 | O96: =O97 -> 0 | P96: =P97 -> 0 | Q96: =P96-O96 -> 0 | R96: =R97 -> 0 | S96: =S97 -> 0 | U96: =U97 -> 0 | W96: =W97 -> 0 | AB96: =AB97 -> 0 | AC96: =AC97 -> 0
B97: 1.3.2.04.01 | D97: ALAT PENGOLAHAN | M97: =SUM(M98:M100) -> 0 | O97: =SUM(O98:O100) -> 0 | P97: =SUM(P98:P100) -> 0 | Q97: =P97-O97 -> 0 | R97: =SUM(R98:R100) -> 0 | S97: =SUM(S98:S100) -> 0 | U97: =SUM(U98:U100) -> 0 | W97: =SUM(W98:W100) -> 0 | AB97: =SUM(AB98:AB100) -> 0 | AC97: =SUM(AC98:AC100) -> 0
Q98: =P98-O98 -> 0
Q99: =P99-O99 -> 0
Q100: =P100-O100 -> 0 | AF100: 7.061161e+09 | AG100: =AF100+Y101-AB101 -> 0.029999733
B101: 1.3.2.05 | D101: ALAT KANTOR DAN RUMAH TANGGA | M101: =SUM(M102+M237+M713) -> 4576 | O101: =SUM(O102+O237+O713) -> 7.5343397e+09 | P101: =P102+P237+P713 -> 0 | Q101: =Q102+Q237+Q713 -> 0 | R101: =R102+R237+R713 -> 0 | S101: =SUM(S102+S237+S713) -> 7.5343397e+09 | U101: =SUM(U102+U237+U713) -> 5.0404831e+08 | W101: =SUM(W102+W237+W713) -> 1.2100278e+08 | Y101: =SUM(Y102+Y237+Y713) -> 97071073 | Z101: =SUM(Z102+Z237+Z713) -> 2.1807386e+08 | AB101: =SUM(AB102+AB237+AB713) -> 7.1582321e+09 | AC101: =SUM(AC102+AC237+AC713) -> 3.761076e+08 | AF101: 6.9401582e+09 | AG101: =SUM(AF101+W101+Y101-AB101) -> 0.026667595
B102: 1.3.2.05.01 | D102: ALAT KANTOR | M102: =SUM(M103+M110+M113+M115+M172) -> 314 | O102: =SUM(O103+O110+O113+O115+O172) -> 1201247400 | P102: =SUM(P104:P981) -> 0 | Q102: =SUM(Q104:Q981) -> 0 | R102: =SUM(R104:R981) -> 0 | S102: =SUM(S103+S110+S113+S115+S172) -> 1201247400 | U102: =SUM(U103+U110+U113+U115+U172) -> 91436320 | W102: =SUM(W103+W110+W113+W115+W172) -> 13622793 | Y102: =SUM(Y103+Y110+Y113+Y115+Y172) -> 4281443.3 | Z102: =SUM(Z103+Z110+Z113+Z115+Z172) -> 17904237 | AB102: =SUM(AB103+AB110+AB113+AB115+AB172) -> 1.189024e+09 | AC102: =SUM(AC103+AC110+AC115+AC172) -> 12223367
B103: 1.3.2.05.01.01 | D103: MESIN KETIK | M103: =SUM(M104:M109) -> 6 | O103: =SUM(O104:O109) -> 9950000 | S103: =SUM(S104:S109) -> 9950000 | U103: =SUM(U104:U109) -> 0 | W103: =SUM(W104:W109) -> 0 | Y103: =SUM(Y104:Y109) -> 0 | Z103: =SUM(Z104:Z109) -> 0 | AB103: =SUM(AB104:AB109) -> 9950000 | AC103: =SUM(AC104:AC109) -> 0
A104: 2 | B104: 1.3.2.05.01.01.001 | C104: 0007 | D104: Mesin Ketik Manual 13' | E104: Royal | G104: Besi | H104: APBD | I104: 2011 | K104: Unit | L104: B | M104: 1 | N104: =SUM(O104/M104) -> 1232500 | O104: 1232500 | S104: =SUM(O104-R104) -> 1232500 | T104: 5 | V104: 0.5 | W104: =SUM(U104*V104) -> 0 | Y104: =SUM(U104*X104) -> 0 | Z104: =SUM(W104+Y104) -> 0 | AA104: 5 | AB104: 1232500 | AC104: =SUM(O104-AB104) -> 0 | AD104: Bid. MP | AF104: 1232500 | AG104: =AB104+Z104-AB104 -> 0
A105: 3 | B105: 1.3.2.05.01.01.001 | C105: 0008 | D105: Mesin Ketik Manual 13' | E105: Royal | G105: Besi | H105: APBD | I105: 2011 | K105: Unit | L105: B | M105: 1 | N105: =SUM(O105/M105) -> 1232500 | O105: 1232500 | S105: =SUM(O105-R105) -> 1232500 | T105: 5 | V105: 0.5 | W105: =SUM(U105*V105) -> 0 | Y105: =SUM(U105*X105) -> 0 | Z105: =SUM(W105+Y105) -> 0 | AA105: 5 | AB105: 1232500 | AC105: =SUM(O105-AB105) -> 0 | AD105: Bid Fungsional | AF105: 1232500 | AG105: =AB105+Z105-AB105 -> 0
A106: 4 | B106: 1.3.2.05.01.01.001 | C106: 0009 | D106: Mesin Ketik Manual 13' | E106: Royal | G106: Besi | H106: APBD | I106: 2011 | K106: Unit | L106: B | M106: 1 | N106: =SUM(O106/M106) -> 1232500 | O106: 1232500 | S106: =SUM(O106-R106) -> 1232500 | T106: 5 | V106: 0.5 | W106: =SUM(U106*V106) -> 0 | Y106: =SUM(U106*X106) -> 0 | Z106: =SUM(W106+Y106) -> 0 | AA106: 5 | AB106: 1232500 | AC106: =SUM(O106-AB106) -> 0 | AD106: Bid. R. Struktural | AF106: 1232500 | AG106: =AB106+Z106-AB106 -> 0
A107: 5 | B107: 1.3.2.05.01.01.001 | C107: 0010 | D107: Mesin Ketik Manual 13' | E107: Royal | G107: Besi | H107: APBD | I107: 2011 | K107: Unit | L107: B | M107: 1 | N107: =SUM(O107/M107) -> 1232500 | O107: 1232500 | S107: =SUM(O107-R107) -> 1232500 | T107: 5 | V107: 0.5 | W107: =SUM(U107*V107) -> 0 | Y107: =SUM(U107*X107) -> 0 | Z107: =SUM(W107+Y107) -> 0 | AA107: 5 | AB107: 1232500 | AC107: =SUM(O107-AB107) -> 0 | AD107: Bid. Teknis | AF107: 1232500 | AG107: =AB107+Z107-AB107 -> 0
A108: 6 | B108: 1.3.2.05.01.01.003 | C108: 0011 | D108: Mesin Ketik Manual 26' | E108: Royal | G108: Besi | H108: APBD | I108: 2011 | K108: Unit | L108: B | M108: 1 | N108: =SUM(O108/M108) -> 3345000 | O108: 3345000 | S108: =SUM(O108-R108) -> 3345000 | T108: 5 | V108: 0.5 | W108: =SUM(U108*V108) -> 0 | Y108: =SUM(U108*X108) -> 0 | Z108: =SUM(W108+Y108) -> 0 | AA108: 5 | AB108: 3345000 | AC108: =SUM(O108-AB108) -> 0 | AD108: R. Keuangan | AF108: 3345000 | AG108: =AB108+Z108-AB108 -> 0
B109: 1.3.2.05.01.01.004 | C109: 0006 | D109: Mesin Ketik Electrik | E109: Royal | G109: Besi | H109: APBD | I109: 2011 | K109: Unit | L109: B | M109: 1 | N109: =SUM(O109/M109) -> 1675000 | O109: 1675000 | S109: =SUM(O109-R109) -> 1675000 | T109: 5 | V109: 0.5 | W109: =SUM(U109*V109) -> 0 | Y109: =SUM(U109*X109) -> 0 | Z109: =SUM(W109+Y109) -> 0 | AA109: 5 | AB109: 1675000 | AC109: =SUM(O109-AB109) -> 0 | AD109: Bag. Keuangan
A110: 7 | B110: 1.3.2.05.01.02 | D110: MESIN HITUNG/MESIN JUMLAH | M110: =SUM(M111:M112) -> 6 | O110: =SUM(O111:O112) -> 4625600 | S110: =SUM(S111:S112) -> 4625600 | U110: =SUM(U111:U112) -> 791120 | W110: =SUM(W111:W112) -> 395560 | Y110: =SUM(Y111:Y112) -> 131853.33 | Z110: =SUM(Z111:Z112) -> 527413.33 | AB110: =SUM(AB111:AB112) -> 4625600 | AC110: =SUM(AC111:AC112) -> 0
A111: 8 | B111: 1.3.2.05.01.02.001 | C111: 0001-0005 | D111: Kalkulator(Mesin Hitung Manual) | E111: Sony | G111: Viber | H111: APBD | I111: 2008 | K111: Unit | L111: B | M111: 5 | N111: =SUM(O111/M111) -> 134000 | O111: 670000 | S111: =SUM(O111-R111) -> 670000 | T111: 5 | V111: 0.5 | W111: =SUM(U111*V111) -> 0 | Y111: =SUM(U111*X111) -> 0 | Z111: =SUM(W111+Y111) -> 0 | AA111: 5 | AB111: 670000 | AC111: =SUM(O111-AB111) -> 0 | AD111: R. Keuangan | AF111: 670000 | AG111: =AB111+Z111-AB111 -> 0
A112: 9 | B112: 1.3.2.05.01.02.003 | C112: 0001 | D112: Mesin penghitung uang | E112: Secure Tipe LD-1100S | G112: Viber | H112: APBD | I112: 2018 | K112: Unit | L112: B | M112: 1 | N112: =SUM(O112/M112) -> 3955600 | O112: 3955600 | S112: =SUM(O112-R112) -> 3955600 | T112: 5 | U112: =SUM(S112/T112) -> 791120 | V112: 0.5 | W112: =SUM(U112*V112) -> 395560 | X112: 0.5 | Y112: =SUM(U112*X112)-263706.67 -> 131853.33 | Z112: =SUM(W112+Y112) -> 527413.33 | AA112: 5 | AB112: =SUM(U112*AA112) -> 3955600 | AC112: =SUM(O112-AB112) -> 0 | AD112: Ruangan Subbag keuangan
A113: 10 | B113: 1.3.2.05.01.03 | D113: ALAT REPRODUKSI (PENGGANDAAN) | M113: =SUM(M114) -> 1 | O113: =SUM(O114) -> 39240300 | S113: =SUM(S114) -> 39240300 | U113: =SUM(U114) -> 0 | AB113: =SUM(AB114) -> 39240300 | AC113: =SUM(AC114) -> 0
A114: 11 | B114: 1.3.2.05.01.03.009 | C114: 0001 | D114: Mesin Foto Copy Portable | E114: Gestetner MP2001L | G114: Viber | H114: APBD | I114: 2014 | K114: Unit | L114: B | M114: 1 | N114: =SUM(O114/M114) -> 39240300 | O114: 39240300 | S114: =SUM(O114-R114) -> 39240300 | T114: 5 | V114: 0.5 | W114: =SUM(U114*V114) -> 0 | Y114: =SUM(U114*X114) -> 0 | Z114: =SUM(W114+Y114) -> 0 | AA114: 5 | AB114: 39240300 | AC114: =SUM(O114-AB114) -> 0 | AD114: Ruang Program
A115: 12 | B115: 1.3.2.05.01.04 | D115: ALAT PENYIMPAN PERLENGKAPAN KANTOR | M115: =SUM(M116:M170) -> 201 | O115: =SUM(O116:O170) -> 464964000 | S115: =SUM(S116:S170) -> 464964000 | U115: =SUM(U116:U170) -> 17057100 | W115: =SUM(W116:W170) -> 3478333.3 | Y115: =SUM(Y116:Y170) -> 1070000 | Z115: =SUM(Z116:Z170) -> 4548333.3 | AB115: =SUM(AB116:AB170) -> 4.5551233e+08 | AC115: =SUM(AC116:AC170) -> 9451666.7
A116: 1 | B116: 1.3.2.05.01.04.002 | C116: 0039 | D116: Lemari Pakaian | E116: Lokal | G116: Kayu | H116: APBD | I116: 2012 | K116: Unit | L116: B | M116: 1 | N116: =SUM(O116/M116) -> 1485000 | O116: 1485000 | S116: =SUM(O116-R116) -> 1485000 | T116: 5 | V116: 0.5 | W116: =SUM(U116*V116) -> 0 | Y116: =SUM(U116*X116) -> 0 | Z116: =SUM(W116+Y116) -> 0 | AA116: 5 | AB116: 1485000 | AC116: =SUM(O116-AB116) -> 0 | AD116: Asrama asoka | AF116: 3080000 | AG116: =AB116+Z116-AB116 -> 0
A117: 2 | B117: 1.3.2.05.01.04.002 | C117: 0040-0053 | D117: Lemari Pakaian | E117: Lokal | G117: Kayu | H117: APBD | I117: 2012 | K117: Unit | L117: B | M117: 14 | N117: =SUM(O117/M117) -> 1485000 | O117: 20790000 | S117: =SUM(O117-R117) -> 20790000 | T117: 5 | V117: 0.5 | W117: =SUM(U117*V117) -> 0 | Y117: =SUM(U117*X117) -> 0 | Z117: =SUM(W117+Y117) -> 0 | AA117: 5 | AB117: 20790000 | AC117: =SUM(O117-AB117) -> 0 | AD117: Asrama Aster | AF117: 3080000 | AG117: =AB117+Z117-AB117 -> 0
A118: 3 | B118: 1.3.2.05.01.04.002 | C118: 0054 | D118: Lemari Pakaian | E118: Lokal | G118: Kayu | H118: APBD | I118: 2012 | K118: Unit | L118: B | M118: 1 | N118: =SUM(O118/M118) -> 1485000 | O118: 1485000 | S118: =SUM(O118-R118) -> 1485000 | T118: 5 | V118: 0.5 | W118: =SUM(U118*V118) -> 0 | Y118: =SUM(U118*X118) -> 0 | Z118: =SUM(W118+Y118) -> 0 | AA118: 5 | AB118: 1485000 | AC118: =SUM(O118-AB118) -> 0 | AD118: Asrama Kemuning | AF118: 1485000 | AG118: =AB118+Z118-AB118 -> 0
A119: 4 | B119: 1.3.2.05.01.04.002 | C119: 0055-0071 | D119: Lemari Pakaian | E119: Lokal | G119: Kayu | H119: APBD | I119: 2012 | K119: Unit | L119: B | M119: 17 | N119: =SUM(O119/M119) -> 1485000 | O119: 25245000 | S119: =SUM(O119-R119) -> 25245000 | T119: 5 | V119: 0.5 | W119: =SUM(U119*V119) -> 0 | Y119: =SUM(U119*X119) -> 0 | Z119: =SUM(W119+Y119) -> 0 | AA119: 5 | AB119: 25245000 | AC119: =SUM(O119-AB119) -> 0 | AD119: Asrama Selasih | AF119: 25245000 | AG119: =AB119+Z119-AB119 -> 0
A120: 5 | B120: 1.3.2.05.01.04.002 | C120: 0072 | D120: Lemari Pakaian | E120: Lokal | G120: Kayu | H120: APBD | I120: 2012 | K120: Unit | L120: B | M120: 1 | N120: =SUM(O120/M120) -> 1485000 | O120: 1485000 | S120: =SUM(O120-R120) -> 1485000 | T120: 5 | V120: 0.5 | W120: =SUM(U120*V120) -> 0 | Y120: =SUM(U120*X120) -> 0 | Z120: =SUM(W120+Y120) -> 0 | AA120: 5 | AB120: 1485000 | AC120: =SUM(O120-AB120) -> 0 | AD120: Sekban | AF120: 1485000 | AG120: =AB120+Z120-AB120 -> 0
A121: 6 | B121: 1.3.2.05.01.04.002 | C121: 0073-0080 | D121: Lemari Pakaian | E121: Lokal | G121: Kayu | H121: APBD | I121: 2018 | K121: Unit | L121: B | M121: 8 | N121: =SUM(O121/M121) -> 2475000 | O121: 19800000 | S121: =SUM(O121-R121) -> 19800000 | T121: 5 | U121: =SUM(S121/T121) -> 3960000 | V121: 0.5 | W121: =SUM(U121*V121)-330000 -> 1650000 | Y121: =SUM(U121*X121) -> 0 | Z121: =SUM(W121+Y121) -> 1650000 | AA121: 5 | AB121: 19800000 | AC121: =SUM(O121-AB121) -> 0 | AD121: Asrama I | AF121: 18150000 | AG121: =AF121+Z121-AB121 -> 0
A122: 7 | B122: 1.3.2.05.01.04.002 | C122: 0081-0088 | D122: Lemari Pakaian | E122: Lokal | G122: Kayu | H122: APBD | I122: 2018 | K122: Unit | L122: B | M122: 8 | N122: =SUM(O122/M122) -> 2475000 | O122: 19800000 | S122: =SUM(O122-R122) -> 19800000 | T122: 5 | U122: =SUM(S122/T122) -> 3960000 | V122: 0.5 | W122: =SUM(U122*V122)-330000 -> 1650000 | Y122: =SUM(U122*X122) -> 0 | Z122: =SUM(W122+Y122) -> 1650000 | AA122: 5 | AB122: 19800000 | AC122: =SUM(O122-AB122) -> 0 | AD122: Asrama II | AF122: 18150000 | AG122: =AF122+Z122-AB122 -> 0
A123: 13 | B123: 1.3.2.05.01.04.002 | C123: 0001 | D123: Lemari / interior | E123: Lokal | G123: Kayu | H123: APBD | I123: 2012 | K123: Unit | L123: B | M123: 1 | N123: =SUM(O123/M123) -> 5126500 | O123: 5126500 | S123: =SUM(O123-R123) -> 5126500 | T123: 5 | V123: 0.5 | W123: =SUM(U123*V123) -> 0 | Y123: =SUM(U123*X123) -> 0 | Z123: =SUM(W123+Y123) -> 0 | AA123: 5 | AB123: 5126500 | AC123: =SUM(O123-AB123) -> 0 | AD123: As. Baru R. Makan Lt.1 | AF123: 5126500 | AG123: =AB123+Z123-AB123 -> 0
A124: 14 | B124: 1.3.2.05.01.04.002 | C124: 0001-0040 | D124: Lemari gantung / interior | E124: Lokal | G124: Kayu | H124: APBD | I124: 2012 | K124: Unit | L124: B | M124: 40 | N124: =SUM(O124/M124) -> 1217075 | O124: 48683000 | S124: =SUM(O124-R124) -> 48683000 | T124: 5 | V124: 0.5 | W124: =SUM(U124*V124) -> 0 | Y124: =SUM(U124*X124) -> 0 | Z124: =SUM(W124+Y124) -> 0 | AA124: 5 | AB124: 48683000 | AC124: =SUM(O124-AB124) -> 0 | AD124: As. Baru Lt.2 | AF124: 48683000 | AG124: =AB124+Z124-AB124 -> 0
...

Sheet  Rekap Beban Peny. Sem.II 2023
B1: PEMERINTAH PROVINSI JAMBI
B2: REKAPITULASI BEBAN PENYUSUTAN
B3: Per 31 Desember 2023
B5: SKPD | C5: : BADAN PENGEMBANGAN SUMBER DAYA MANUSIA
B7: No. Urut | C7: Akun | D7: Jenis | E7: Objek | F7: Rincian Objek | G7: Sub Rincian Objek | H7: Nama Bidang Barang | I7: Nilai Perolehan (Rp) | J7: Beban Penyusutan per tahun (Rp) | K7: Beban Penyusutan Semester I (Rp) | L7: Beban Penyusutan Semester II (Rp) | M7: Beban Penyusutan Tahun ini (Rp) | N7: Akumulasi Penyusutan s/d tahun ini (Rp) | O7: Nilai Buku (Rp) | P7: Keterangan
B10: 1 | C10: 2 | G10: 3 | H10: 4 | I10: 5 | J10: 6 | K10: 7 | L10: 8 | M10: 9 | N10: 10 | O10: 11 | P10: 12
B11: 1 | C11: 3 | H11: ASET TETAP | I11: =SUM(I13+I54+I628+I703+I868+I968) -> 3.8489814e+10 | J11: =SUM(J13+J54+J628+J703+J868+J968) -> 2.2812767e+09 | K11: =SUM(K13+K54+K628+K703+K868+K968) -> 5.7406095e+08 | L11: =SUM(L13+L54+L628+L703+L868+L968) -> 4.9428333e+08 | M11: =SUM(K11+L11) -> 1.0683443e+09 | N11: =SUM(N13+N54+N628+N703+N868+N968)-0.48 -> 2.1601343e+10 | O11: =SUM(O13+O54+O628+O703+O868+O968) -> 1.7034904e+10
A13: 1 | B13: 1 | C13: 3 | D13: 01 | H13: Tanah | I13: =I14 -> 0 | J13: =J14 -> 0 | K13: =K14 -> 0 | L13: =L14 -> 0 | M13: =M14 -> 0 | N13: =N14 -> 0 | O13: =O14 -> 0
A14: a | B14: 1 | C14: 3 | D14: 01 | E14: 01 | H14: Tanah | I14: =SUM(I15+I23+I33) -> 0 | J14: =SUM(J15+J23+J33) -> 0 | K14: =SUM(K15+K23+K33) -> 0 | L14: =SUM(L15+L23+L33) -> 0 | M14: =SUM(M15+M23+M33) -> 0 | N14: =SUM(N15+N23+N33) -> 0 | O14: =SUM(O15+O23+O33) -> 0
A15: - | B15: 1 | C15: 3 | D15: 01 | E15: 01 | F15: 01 | H15: Tanah Persil | I15: =SUM(I16:I22) -> 0 | J15: =SUM(J16:J22) -> 0 | K15: =SUM(K16:K22) -> 0 | L15: =SUM(L16:L22) -> 0 | M15: =SUM(M16:M22) -> 0 | N15: =SUM(N16:N22) -> 0 | O15: =SUM(O16:O22) -> 0
B16: 1 | C16: 3 | D16: 01 | E16: 01 | F16: 01 | G16: 0001 | H16: Tanah Bangunan Perumahan/Gedung Tempat Tinggal
B17: 1 | C17: 3 | D17: 01 | E17: 01 | F17: 01 | G17: 0002 | H17: Tanah untuk Bangunan Gedung Perdagangan/Perusahaan
B18: 1 | C18: 3 | D18: 01 | E18: 01 | F18: 01 | G18: 0003 | H18: Tanah untuk Bangunan Industri
B19: 1 | C19: 3 | D19: 01 | E19: 01 | F19: 01 | G19: 0004 | H19: Tanah untuk Bangunan Tempat Kerja
B20: 1 | C20: 3 | D20: 01 | E20: 01 | F20: 01 | G20: 0005 | H20: Tanah untuk Bangunan Gedung Sarana Olahraga
B21: 1 | C21: 3 | D21: 01 | E21: 01 | F21: 01 | G21: 0006 | H21: Tanah untuk Bangunan Tempat Ibadah
B22: 1 | C22: 3 | D22: 01 | E22: 01 | F22: 01 | G22: 0007 | H22: Tanah Persil Lainnya
A23: - | B23: 1 | C23: 3 | D23: 01 | E23: 01 | F23: 02 | H23: Tanah Non Persil | I23: =SUM(I24:I32) -> 0 | J23: =SUM(J24:J32) -> 0 | K23: =SUM(K24:K32) -> 0 | L23: =SUM(L24:L32) -> 0 | M23: =SUM(M24:M32) -> 0 | N23: =SUM(N24:N32) -> 0 | O23: =SUM(O24:O32) -> 0
B24: 1 | C24: 3 | D24: 01 | E24: 01 | F24: 02 | G24: 0001 | H24: Tanah Basah
B25: 1 | C25: 3 | D25: 01 | E25: 01 | F25: 02 | G25: 0002 | H25: Tanah Kering
B26: 1 | C26: 3 | D26: 01 | E26: 01 | F26: 02 | G26: 0003 | H26: Tanah Perkebunan
B27: 1 | C27: 3 | D27: 01 | E27: 01 | F27: 02 | G27: 0004 | H27: Tanah Hutan
B28: 1 | C28: 3 | D28: 01 | E28: 01 | F28: 02 | G28: 0005 | H28: Tanah Tandus
B29: 1 | C29: 3 | D29: 01 | E29: 01 | F29: 02 | G29: 0006 | H29: Tanah Padang Alang-Alang/Rumput
B30: 1 | C30: 3 | D30: 01 | E30: 01 | F30: 02 | G30: 0007 | H30: Tanah Pertanian
B31: 1 | C31: 3 | D31: 01 | E31: 01 | F31: 02 | G31: 0008 | H31: Tanah Pertambangan
B32: 1 | C32: 3 | D32: 01 | E32: 01 | F32: 02 | G32: 0009 | H32: Tanah Non Persil Lainnya
A33: - | B33: 1 | C33: 3 | D33: 01 | E33: 01 | F33: 03 | H33: Lapangan | I33: =SUM(I34:I52) -> 0 | J33: =SUM(J34:J52) -> 0 | K33: =SUM(K34:K52) -> 0 | L33: =SUM(L34:L52) -> 0 | M33: =SUM(M34:M52) -> 0 | N33: =SUM(N34:N52) -> 0 | O33: =SUM(O34:O52) -> 0
B34: 1 | C34: 3 | D34: 01 | E34: 01 | F34: 03 | G34: 0001 | H34: Tanah Lapangan Olahraga
B35: 1 | C35: 3 | D35: 01 | E35: 01 | F35: 03 | G35: 0002 | H35: Tanah Lapangan Parkir
B36: 1 | C36: 3 | D36: 01 | E36: 01 | F36: 03 | G36: 0003 | H36: Tanah Lapangan Penimbunan Barang
B37: 1 | C37: 3 | D37: 01 | E37: 01 | F37: 03 | G37: 0004 | H37: Tanah Lapangan Pemancar dan Studio Alam
B38: 1 | C38: 3 | D38: 01 | E38: 01 | F38: 03 | G38: 0005 | H38: Tanah Lapangan Pengujian/Pengolahan
B39: 1 | C39: 3 | D39: 01 | E39: 01 | F39: 03 | G39: 0006 | H39: Tanah Lapangan Terbang
B40: 1 | C40: 3 | D40: 01 | E40: 01 | F40: 03 | G40: 0007 | H40: Tanah untuk Jalan
B41: 1 | C41: 3 | D41: 01 | E41: 01 | F41: 03 | G41: 0008 | H41: Tanah untuk Bangunan Air
B42: 1 | C42: 3 | D42: 01 | E42: 01 | F42: 03 | G42: 0009 | H42: Tanah untuk Bangunan Instalasi
B43: 1 | C43: 3 | D43: 01 | E43: 01 | F43: 03 | G43: 0010 | H43: Tanah untuk Bangunan Jaringan
B44: 1 | C44: 3 | D44: 01 | E44: 01 | F44: 03 | G44: 0011 | H44: Tanah untuk Bangunan Bersejarah
B45: 1 | C45: 3 | D45: 01 | E45: 01 | F45: 03 | G45: 0012 | H45: Tanah untuk Makam
... B52: 1 | C52: 3 | D52: 01 | E52: 01 | F52: 03 | G52: 0019 | H52: Lapangan Lainnya
A54: 2 | B54: 2 | C54: 02 | H54: PERALATAN DAN MESIN | I54: =SUM(I55+I93+I123+I171+I183+I206+I283+I320+I469+I490+I501+I511+I522+I536+I545+I570+I575+I603+I619) -> 1.2973162e+10 | J54: =SUM(J55+J93+J123+J171+J183+J206+J283+J320+J469+J490+J501+J511+J522+J536+J545+J570+J575+J603+J619) -> 9.5792598e+08 | K54: =SUM(K55+K93+K123+K171+K183+K206+K283+K320+K469+K490+K501+K511+K522+K536+K545+K570+K575+K603+K619) -> 2.2148165e+08 | L54: =SUM(L55+L93+L123+L171+L183+L206+L283+L320+L469+L490+L501+L511+L522+L536+L545+L570+L575+L603+L619) -> 1.9466541e+08 | M54: =SUM(K54+L54) -> 4.1614706e+08 | N54: =SUM(N55+N93+N123+N171+N183+N206+N283+N320+N469+N490+N501+N511+N522+N536+N545+N570+N575+N603+N619) -> 1.1993367e+10 | O54: =SUM(O55+O93+O123+O171+O183+O206+O283+O320+O469+O490+O501+O511+O522+O536+O545+O570+O575+O603+O619) -> 9.797956e+08
A55: a | B55: 1 | C55: 3 | D55: 02 | E55: 01 | H55: Alat Besar | I55: =SUM(I56+I69+I76) -> 509600000 | J55: =SUM(J56+J69+J76) -> 50960000 | K55: =SUM(K56+K69+K76) -> 0 | L55: =SUM(L56+L69+L76) -> 0 | M55: =SUM(M56+M69+M76) -> 0 | N55: =SUM(N56+N69+N76) -> 509600000 | O55: =SUM(O56+O69+O76) -> 0
A56: - | B56: 1 | C56: 3 | D56: 02 | E56: 01 | F56: 01 | H56: Alat Besar Darat | I56: =SUM(I57:I68) -> 0 | J56: =SUM(J57:J68) -> 0 | K56: =SUM(K57:K68) -> 0 | L56: =SUM(L57:L68) -> 0 | M56: =SUM(M57:M68) -> 0 | N56: =SUM(N57:N68) -> 0 | O56: =SUM(O57:O68) -> 0
B57: 1 | C57: 3 | D57: 02 | E57: 01 | F57: 01 | G57: 0001 | H57: Tractor
B58: 1 | C58: 3 | D58: 02 | E58: 01 | F58: 01 | G58: 0002 | H58: Grader
B59: 1 | C59: 3 | D59: 02 | E59: 01 | F59: 01 | G59: 0003 | H59: Excavator
B60: 1 | C60: 3 | D60: 02 | E60: 01 | F60: 01 | G60: 0004 | H60: Pile Driver
B61: 1 | C61: 3 | D61: 02 | E61: 01 | F61: 01 | G61: 0005 | H61: Hauler
B62: 1 | C62: 3 | D62: 02 | E62: 01 | F62: 01 | G62: 0006 | H62: Asphalt Equipment
B63: 1 | C63: 3 | D63: 02 | E63: 01 | F63: 01 | G63: 0007 | H63: Compacting Equipment
B64: 1 | C64: 3 | D64: 02 | E64: 01 | F64: 01 | G64: 0008 | H64: Aggregate and Concrete Equipment
B65: 1 | C65: 3 | D65: 02 | E65: 01 | F65: 01 | G65: 0009 | H65: Loader
B66: 1 | C66: 3 | D66: 02 | E66: 01 | F66: 01 | G66: 0010 | H66: Alat Pengangkat
B67: 1 | C67: 3 | D67: 02 | E67: 01 | F67: 01 | G67: 0011 | H67: Mesin Proses
B68: 1 | C68: 3 | D68: 02 | E68: 01 | F68: 01 | G68: 0012 | H68: Alat Besar Darat Lainnya
A69: - | B69: 1 | C69: 3 | D69: 02 | E69: 01 | F69: 02 | H69: Alat Besar Apung | I69: =SUM(I70:I75) -> 0 | J69: =SUM(J70:J75) -> 0 | K69: =SUM(K70:K75) -> 0 | L69: =SUM(L70:L75) -> 0 | M69: =SUM(M70:M75) -> 0 | N69: =SUM(N70:N75) -> 0 | O69: =SUM(O70:O75) -> 0
B70: 1 | C70: 3 | D70: 02 | E70: 01 | F70: 02 | G70: 0001 | H70: Dredger
B71: 1 | C71: 3 | D71: 02 | E71: 01 | F71: 02 | G71: 0002 | H71: Floating Excavator
B72: 1 | C72: 3 | D72: 02 | E72: 01 | F72: 02 | G72: 0003 | H72: Amphibi Dredger
B73: 1 | C73: 3 | D73: 02 | E73: 01 | F73: 02 | G73: 0004 | H73: Kapal Tarik
B74: 1 | C74: 3 | D74: 02 | E74: 01 | F74: 02 | G74: 0005 | H74: Mesin Proses Apung
B75: 1 | C75: 3 | D75: 02 | E75: 01 | F75: 02 | G75: 0006 | H75: Alat Besar Apung Lainnya
A76: - | B76: 1 | C76: 3 | D76: 02 | E76: 01 | F76: 03 | H76: Alat Bantu | I76: =SUM(I77:I92) -> 509600000 | J76: =SUM(J77:J92) -> 50960000 | K76: =SUM(K77:K92) -> 0 | L76: =SUM(L77:L92) -> 0 | M76: =SUM(M77:M92) -> 0 | N76: =SUM(N77:N92) -> 509600000 | O76: =SUM(O77:O92) -> 0
B77: 1 | C77: 3 | D77: 02 | E77: 01 | F77: 03 | G77: 0001 | H77: Alat Penarik
B78: 1 | C78: 3 | D78: 02 | E78: 01 | F78: 03 | G78: 0002 | H78: Feeder
B79: 1 | C79: 3 | D79: 02 | E79: 01 | F79: 03 | G79: 0003 | H79: Compressor
B80: 1 | C80: 3 | D80: 02 | E80: 01 | F80: 03 | G80: 0004 | H80: Electric Generating Set | I80: 509600000 | J80: 50960000 | N80: 509600000 | O80: 0
B81: 1 | C81: 3 | D81: 02 | E81: 01 | F81: 03 | G81: 0005 | H81: Pompa
B82: 1 | C82: 3 | D82: 02 | E82: 01 | F82: 03 | G82: 0006 | H82: Mesin Bor
B83: 1 | C83: 3 | D83: 02 | E83: 01 | F83: 03 | G83: 0007 | H83: Unit Pemeliharaan Lapangan
B84: 1 | C84: 3 | D84: 02 | E84: 01 | F84: 03 | G84: 0008 | H84: Alat Pengolahan Air Kotor
B85: 1 | C85: 3 | D85: 02 | E85: 01 | F85: 03 | G85: 0009 | H85: Pembangkit Uap Air Panas/Steam Generator
B86: 1 | C86: 3 | D86: 02 | E86: 01 | F86: 03 | G86: 0010 | H86: Air Port Maintenance Equipment/Alat Bantu Penerbangan
B87: 1 | C87: 3 | D87: 02 | E87: 01 | F87: 03 | G87: 0011 | H87: Mesin Tatoo
B88: 1 | C88: 3 | D88: 02 | E88: 01 | F88: 03 | G88: 0012 | H88: Perlengkapan Kebakaran Hutan
B89: 1 | C89: 3 | D89: 02 | E89: 01 | F89: 03 | G89: 0013 | H89: Peralatan Selam
B90: 1 | C90: 3 | D90: 02 | E90: 01 | F90: 03 | G90: 0014 | H90: Peralatan SAR Mountenering
B91: 1 | C91: 3 | D91: 02 | E91: 01 | F91: 03 | G91: 0015 | H91: Peralatan Intelijen
B92: 1 | C92: 3 | D92: 02 | E92: 01 | F92: 03 | G92: 0016 | H92: Alat Bantu Lainnya
A93: b | B93: 1 | C93: 3 | D93: 02 | E93: 02 | H93: Alat Angkutan | I93: =SUM(I94+I104+I109+I115+I120) -> 2493984900 | J93: =SUM(J94+J104+J109+J115+J120) -> 2.2791857e+08 | K93: =SUM(K94+K104+K109+K115+K120) -> 29385714 | L93: =SUM(L94+L104+L109+L115+L120) -> 29385714 | M93: =SUM(M94+M104+M109+M115+M120) -> 58771429 | N93: =SUM(N94+N104+N109+N115+N120) -> 2.3455039e+09 | O93: =SUM(O94+O104+O109+O115+O120) -> 1.4848095e+08
A94: - | B94: 1 | C94: 3 | D94: 02 | E94: 02 | F94: 01 | H94: Alat Angkutan Darat Bermotor | I94: =SUM(I95:I103) -> 2481994900 | J94: =SUM(J95:J103) -> 2.2791857e+08 | K94: =SUM(K95:K103) -> 29385714 | L94: =SUM(L95:L103) -> 29385714 | M94: =SUM(M95:M103) -> 58771429 | N94: =SUM(N95:N103) -> 2.3335139e+09 | O94: =SUM(O95:O103) -> 1.4848095e+08
B95: 1 | C95: 3 | D95: 02 | E95: 02 | F95: 01 | G95: 0001 | H95: Kendaraan Dinas Bermotor Perorangan | I95: 1963604900 | J95: 1.6210429e+08 | K95: 22142857 | L95: 22142857 | M95: 44285714 | N95: 1.8344382e+09 | O95: 1.2916667e+08
B96: 1 | C96: 3 | D96: 02 | E96: 02 | F96: 01 | G96: 0002 | H96: Kendaraan Bermotor Penumpang
B97: 1 | C97: 3 | D97: 02 | E97: 02 | F97: 01 | G97: 0003 | H97: Kendaraan Bermotor Angkutan Barang | I97: 195300000 | J97: 27900000 | K97: 0 | M97: 0 | N97: 195300000
B98: 1 | C98: 3 | D98: 02 | E98: 02 | F98: 01 | G98: 0004 | H98: Kendaraan Bermotor Beroda Dua | I98: 323090000 | J98: 37914286 | K98: 7242857.1 | L98: 7242857.1 | M98: 14485714 | N98: 3.0377571e+08 | O98: 19314286
B99: 1 | C99: 3 | D99: 02 | E99: 02 | F99: 01 | G99: 0005 | H99: Kendaraan Bermotor Beroda Tiga
B100: 1 | C100: 3 | D100: 02 | E100: 02 | F100: 01 | G100: 0006 | H100: Kendaraan Bermotor Khusus
B101: 1 | C101: 3 | D101: 02 | E101: 02 | F101: 01 | G101: 0007 | H101: Kendaraan Tempur
B102: 1 | C102: 3 | D102: 02 | E102: 02 | F102: 01 | G102: 0008 | H102: Alat Angkutan Kereta Rel
B103: 1 | C103: 3 | D103: 02 | E103: 02 | F103: 01 | G103: 0009 | H103: Alat Angkutan Darat Bermotor Lainnya
A104: - | B104: 1 | C104: 3 | D104: 02 | E104: 02 | F104: 02 | H104: Alat Angkutan Darat Tak Bermotor | I104: =SUM(I105:I108) -> 11990000 | J104: =SUM(J105:J108) -> 0 | K104: =SUM(K105:K108) -> 0 | L104: =SUM(L105:L108) -> 0 | M104: =SUM(M105:M108) -> 0 | N104: =SUM(N105:N108) -> 11990000 | O104: =SUM(O105:O108) -> 0
B105: 1 | C105: 3 | D105: 02 | E105: 02 | F105: 02 | G105: 0001 | H105: Kendaraan Tak Bermotor Angkutan Barang | I105: 11990000 | N105: 11990000
B106: 1 | C106: 3 | D106: 02 | E106: 02 | F106: 02 | G106: 0002 | H106: Kendaraan Tak Bermotor Penumpang
B107: 1 | C107: 3 | D107: 02 | E107: 02 | F107: 02 | G107: 0003 | H107: Alat Angkutan Kereta Rel Tak Bermotor
B108: 1 | C108: 3 | D108: 02 | E108: 02 | F108: 02 | G108: 0004 | H108: Alat Angkutan Darat Tak Bermotor Lainnya
A109: - | B109: 1 | C109: 3 | D109: 02 | E109: 02 | F109: 03 | H109: Alat Angkutan Apung Bermotor | I109: =SUM(I110:I114) -> 0 | J109: =SUM(J110:J114) -> 0 | K109: =SUM(K110:K114) -> 0 | L109: =SUM(L110:L114) -> 0 | M109: =SUM(M110:M114) -> 0 | N109: =SUM(N110:N114) -> 0 | O109: =SUM(O110:O114) -> 0
B110: 1 | C110: 3 | D110: 02 | E110: 02 | F110: 03 | G110: 0001 | H110: Alat Angkutan Apung Bermotor untuk Barang
B111: 1 | C111: 3 | D111: 02 | E111: 02 | F111: 03 | G111: 0002 | H111: Alat Angkutan Apung Bermotor untuk Penumpang
B112: 1 | C112: 3 | D112: 02 | E112: 02 | F112: 03 | G112: 0003 | H112: Alat Angkutan Apung Bermotor Khusus
...
