Workbook

Sheet BI TAHUN 2022 108
A1: BUKU INVENTARIS
A2: SEMESTER I
A3: TAHUN 2023
A4: NOMOR | D4: SPESIFIKASI BARANG | G4: Bahan | H4: Asal / Cara Perolehan Barang | I4: Tahun Perolehan | J4: Ukuran Barang Kontruksi | K4: Satuan | L4: Keadaan Barang | M4: JUMLAH | P4: Tabel Bantu untuk Nilai Buku Aset yang ada Rehab / Penambahan Belanja | Q4: Nilai Residu | S4: Nilai Perolehan setelah dikurangi Nilai Residu | T4: Masa Manfaat (Tahun) | U4: Beban Penyusutan Per Tahun | V4: Beban Penyusutan Periode ini | Z4: Beban Tahun Ini | AA4: Penyusut an Tahun ke - | AB4: Akumulasi Penyusutan | AC4: Nilai Buku | AD4: Lokasi Barang | AE4: Keterangan
A5: No. Urut | B5: Kode Barang | C5: Register | D5: Nama/Jenis Barang | E5: Merk/Type | F5: No. Sertifikat / No. Plat Kendaraan / No. Pabrik / No. Casis | M5: Barang | N5: Harga Satuan | O5: Harga Perolehan | Q5: Tarif Nilai Residu (% dari Harga Perolehan) | R5: N I L A I R E SI D U | V5: Semester I | X5: Semester II
L6: (B/KB/RB) | V6: Waktu | W6: Nilai | X6: Waktu | Y6: Nilai
A7: 1 | B7: 2 | C7: 3 | D7: 4 | E7: 5 | F7: 6 | G7: 7 | H7: 8 | I7: 9 | J7: 10 | K7: 11 | L7: 12 | M7: 13 | N7: 14 | O7: 15 | P7: 16 | Q7: 17 | R7: 18 | S7: 19 | T7: 20 | U7: 21 | V7: 22 | W7: 23 | X7: 24 | Y7: 25 | Z7: 26 | AA7: 27 | AB7: 28 | AC7: 29 | AD7: 30 | AE7: 31 | AF7: =AC30-AF8 -> 0
A8: 1 | B8: 1.3.1 | D8: TANAH | M8: =M9+M14+M19+M24 -> 0 | O8: =O9+O14+O19+O24 -> 0 | P8: =P9+P14+P19+P24 -> 0 | Q8: =Q9+Q14+Q19+Q24 -> 0 | R8: =R9+R14+R19+R24 -> 0 | S8: =S9+S14+S19+S24 -> 0 | U8: =U9+U14+U19+U24 -> 0 | W8: =W9+W14+W19+W24 -> 0 | Y8: =Y9+Y14+Y19+Y24 -> 0 | Z8: =Z9+Z14+Z19+Z24 -> 0 | AB8: =AB9+AB14+AB19+AB24 -> 0 | AC8: =AC9+AC14+AC19+AC24 -> 0 | AF8: 1.1152137e+09
B9: 1.3.1.01 | D9: TANAH | M9: =SUM(M10:M13) -> 0 | O9: =SUM(O10:O13) -> 0 | P9: =SUM(P10:P13) -> 0 | Q9: =SUM(Q10:Q13) -> 0 | R9: =SUM(R10:R13) -> 0 | S9: =SUM(S10:S13) -> 0 | U9: =SUM(U10:U13) -> 0 | W9: =SUM(W10:W13) -> 0 | Y9: =SUM(Y10:Y13) -> 0 | Z9: =SUM(Z10:Z13) -> 0 | AB9: =SUM(AB10:AB13) -> 0 | AC9: =SUM(AC10:AC13) -> 0
B14: 1.3.1.01.01 | D14: TANAH PERSIL | M14: =SUM(M15:M18) -> 0 | O14: =SUM(O15:O18) -> 0 | P14: =SUM(P15:P18) -> 0 | Q14: =SUM(Q15:Q18) -> 0 | R14: =SUM(R15:R18) -> 0 | S14: =SUM(S15:S18) -> 0 | U14: =SUM(U15:U18) -> 0 | W14: =SUM(W15:W18) -> 0 | Y14: =SUM(Y15:Y18) -> 0 | Z14: =SUM(Z15:Z18) -> 0 | AB14: =SUM(AB15:AB18) -> 0 | AC14: =SUM(AC15:AC18) -> 0
B19: 1.3.1.01.02 | D19: TANAH NON PERSIL | M19: =SUM(M20:M23) -> 0 | O19: =SUM(O20:O23) -> 0 | P19: =SUM(P20:P23) -> 0 | Q19: =SUM(Q20:Q23) -> 0 | R19: =SUM(R20:R23) -> 0 | S19: =SUM(S20:S23) -> 0 | U19: =SUM(U20:U23) -> 0 | W19: =SUM(W20:W23) -> 0 | Y19: =SUM(Y20:Y23) -> 0 | Z19: =SUM(Z20:Z23) -> 0 | AB19: =SUM(AB20:AB23) -> 0 | AC19: =SUM(AC20:AC23) -> 0
B24: 1.3.1.01.03 | D24: LAPANGAN | M24: =SUM(M25:M28) -> 0 | O24: =SUM(O25:O28) -> 0 | P24: =SUM(P25:P28) -> 0 | Q24: =SUM(Q25:Q28) -> 0 | R24: =SUM(R25:R28) -> 0 | S24: =SUM(S25:S28) -> 0 | U24: =SUM(U25:U28) -> 0 | W24: =SUM(W25:W28) -> 0 | Y24: =SUM(Y25:Y28) -> 0 | Z24: =SUM(Z25:Z28) -> 0 | AB24: =SUM(AB25:AB28) -> 0 | AC24: =SUM(AC25:AC28) -> 0
A30: 2 | B30: 1.3.2 | D30: PERALATAN DAN MESIN | M30: =SUM(M31+M44+M101+M742+M764+M802+M999) -> 4998 | O30: =SUM(O31+O44+O101+O742+O764+O802+O999) -> 1.2692433e+10 | P30: =P31+P44+P89+P96+P101+P742+P764+P772+P793+P802+P951+P956+P961+P970+P977+P986+P989+P992+P999 -> 3121945214 | Q30: =Q31+Q44+Q89+Q96+Q101+Q742+Q764+Q772+Q793+Q802+Q951+Q956+Q961+Q970+Q977+Q986+Q989+Q992+Q999 -> 0 | R30: =R31+R44+R89+R96+R101+R742+R764+R772+R793+R802+R951+R956+R961+R970+R977+R986+R989+R992+R999 -> 0 | S30: =SUM(S31+S44+S101+S742+S764+S802+S999) -> 1.2692433e+10 | U30: =SUM(U31+U44+U101+U742+U764+U772+U793+U802+U951+U956+U961+U970+U977+U986+U989+U992+U999) -> 9.7937768e+08 | W30: =SUM(W31+W44+W101+W742+W764+W772+W793+W802+W951+W956+W961+W970+W977+W986+W989+W992+W999)+0.06 -> 2.8156001e+08 | Y30: =SUM(Y31+Y44+Y101+Y742+Y764+Y772+Y793+Y802+Y951+Y956+Y961+Y970+Y977+Y986+Y989+Y992+Y999) -> 2.7278217e+08 | Z30: =SUM(Z31+Z44+Z101+Z742+Z764+Z772+Z793+Z802+Z951+Z956+Z961+Z970+Z977+Z986+Z989+Z992+Z999)+0.06 -> 5.5434219e+08 | AB30: =SUM(AB31+AB44+AB101+AB742+AB764+AB772+AB793+AB802+AB951+AB956+AB961+AB970+AB977+AB986+AB989+AB992+AB999)+0.6 -> 1.157722e+10 | AC30: =SUM(AC31+AC44+AC101+AC742+AC764+AC772+AC793+AC802+AC951+AC956+AC961+AC970+AC977+AC986+AC989+AC992+AC999)-0.07 -> 1.1152137e+09 | AF30: 1.1276423e+09 | AG30: =AF30-AC30 -> 12428638
B31: 1.3.2.01 | D31: ALAT BESAR | M31: =SUM(M40) -> 1 | O31: =SUM(O40) -> 509600000 | P31: =P32+P36+P40 -> 0 | Q31: =Q32+Q36+Q40 -> 0 | R31: =R32+R36+R40 -> 0 | S31: =SUM(S40) -> 509600000 | U31: =U32+U36+U40 -> 50960000 | W31: =W32+W36+W40 -> 25480000 | Y31: =Y32+Y36+Y40 -> 25480000 | Z31: =Z32+Z36+Z40 -> 50960000 | AB31: =SUM(AB40) -> 509600000 | AC31: =AC32+AC36+AC40 -> 0 | AF31: 1.1817729e+10
B32: 1.3.2.01.01 | D32: ALAT BESAR DARAT | M32: =SUM(M33:M35) -> 0 | O32: =SUM(O33:O35) -> 0 | P32: =SUM(P33:P35) -> 0 | Q32: =SUM(Q33:Q35) -> 0 | R32: =SUM(R33:R35) -> 0 | S32: =SUM(S33:S35) -> 0 | U32: =SUM(U33:U35) -> 0 | W32: =SUM(W33:W35) -> 0 | Y32: =SUM(Y33:Y35) -> 0 | Z32: =SUM(Z33:Z35) -> 0 | AB32: =SUM(AB33:AB35) -> 0 | AC32: =SUM(AC33:AC35) -> 0
B36: 1.3.2.01.02 | D36: ALAT BESAR APUNG | M36: =SUM(M37:M39) -> 0 | O36: =SUM(O37:O39) -> 0 | P36: =SUM(P37:P39) -> 0 | Q36: =SUM(Q37:Q39) -> 0 | R36: =SUM(R37:R39) -> 0 | S36: =SUM(S37:S39) -> 0 | U36: =SUM(U37:U39) -> 0 | W36: =SUM(W37:W39) -> 0 | Y36: =SUM(Y37:Y39) -> 0 | Z36: =SUM(Z37:Z39) -> 0 | AB36: =SUM(AB37:AB39) -> 0 | AC36: =SUM(AC37:AC39) -> 0
B40: 1.3.2.01.03 | D40: ALAT BANTU | M40: =SUM(M41) -> 1 | O40: =O41 -> 509600000 | P40: =SUM(P42:P43) -> 0 | Q40: =SUM(Q42:Q43) -> 0 | R40: =SUM(R42:R43) -> 0 | S40: =S41 -> 509600000 | U40: =U41 -> 50960000 | W40: =W41 -> 25480000 | Y40: =Y41 -> 25480000 | Z40: =Z41 -> 50960000 | AB40: =AB41 -> 509600000 | AC40: =AC41 -> 0 | AF40: =Y30-AF41 -> 0 | AG40: =AF31-AB30 -> 2.4050936e+08
B41: 1.3.2.01.03.04 | D41: Electric Generating Set | M41: =SUM(M42) -> 1 | O41: =SUM(O42) -> 509600000 | S41: =SUM(S42) -> 509600000 | U41: =SUM(U42) -> 50960000 | W41: =SUM(W42) -> 25480000 | Y41: =SUM(Y42) -> 25480000 | Z41: =SUM(Z42) -> 50960000 | AB41: =SUM(AB42) -> 509600000 | AC41: =SUM(AC42) -> 0 | AF41: 2.7278217e+08
A42: 1 | B42: 1.3.2.01.03.04.003 | C42: 0001 | D42: Genset | E42: Baifa Power/200 KVA | G42: Besi | H42: APBD | I42: 2013 | K42: Unit | L42: B | M42: 1 | N42: 509600000 | O42: 509600000 | S42: =SUM(N42-R42) -> 509600000 | T42: 10 | U42: =SUM(S42/T42) -> 50960000 | V42: 0.5 | W42: =SUM(U42*V42) -> 25480000 | X42: 0.5 | Y42: =SUM(U42*X42) -> 25480000 | Z42: =SUM(W42+Y42) -> 50960000 | AA42: =2021-I42+V42+X42+V42+V42 -> 10 | AB42: =SUM(U42*AA42) -> 509600000 | AC42: =SUM(O42-AB42) -> 0 | AD42: Gudang Genset | AF42: 1.1276423e+09 | AG42: =AC30-AF42 -> -12428638
B44: 1.3.2.02 | D44: ALAT ANGKUTAN | M44: =SUM(M46+M56+M58+M79) -> 32 | O44: =SUM(O46+O56+O58+O79) -> 2493984900 | P44: =P45+P79+P83+P85+P87 -> 0 | Q44: =Q45+Q79+Q83+Q85+Q87 -> 0 | R44: =R45+R79+R83+R85+R87 -> 0 | S44: =SUM(S46+S56+S58+S79) -> 2493984900 | U44: =SUM(U46+U56+U58+U79) -> 2.2791857e+08 | W44: =SUM(W46+W56+W58+W79) -> 43335714 | Y44: =Y45+Y79+Y83+Y85+Y87 -> 41010714 | Z44: =SUM(Z46+Z56+Z58+Z79) -> 84346429 | AB44: =SUM(AB46+AB56+AB58+AB79) -> 2.2867325e+09 | AC44: =SUM(AC46+AC56+AC58+AC79)-0.3 -> 2.0725238e+08
B45: 1.3.2.02.01 | D45: ALAT ANGKUTAN DARAT BERMOTOR | M45: =SUM(M46+M56+M58) -> 30 | O45: =SUM(O46+O56+O58) -> 2481994900 | P45: =SUM(P76:P78) -> 0 | Q45: =SUM(Q76:Q78) -> 0 | R45: =SUM(R76:R78) -> 0 | S45: =SUM(S46+S56+S58) -> 2481994900 | U45: =SUM(U46+U56+U58) -> 2.2791857e+08 | W45: =SUM(W46+W56+W58) -> 43335714 | Y45: =SUM(Y46+Y56+Y58) -> 41010714 | Z45: =SUM(Z46+Z56+Z58) -> 84346429 | AB45: =SUM(AB46+AB56+AB58) -> 2.2747425e+09 | AC45: =SUM(AC46+AC56+AC58) -> 2.0725238e+08
B46: 1.3.2.02.01.01 | D46: KENDARAAN DINAS BERMOTOR PERORANGAN | M46: =SUM(M47:M55) -> 9 | O46: =SUM(O47:O55) -> 1963604900 | S46: =SUM(S47:S55) -> 1963604900 | U46: =SUM(U47:U55) -> 1.6210429e+08 | W46: =SUM(W47:W55) -> 22142857 | Y46: =SUM(Y47:Y55) -> 22142857 | Z46: =SUM(Z47:Z55) -> 44285714 | AB46: =SUM(AB47:AB55) -> 1.7901525e+09 | AC46: =SUM(AC47:AC55) -> 1.7345238e+08
A47: 1 | B47: 1.3.2.02.01.01.006 | C47: 0001 | D47: Minibus | E47: Grand Levina | F47: BH 1941 Z /MHBGIC66F9J007085/MR.18-044015R | G47: Besi | H47: APBD | I47: 2009 | K47: Unit | L47: B | M47: 1 | N47: 209255500 | O47: 209255500 | S47: =SUM(O47-R47) -> 209255500 | T47: 7 | U47: 0 | V47: 0.5 | W47: =SUM(U47*V47) -> 0 | Y47: =SUM(U47*X47) -> 0 | Z47: =SUM(W47+Y47) -> 0 | AA47: 7 | AB47: 209255500 | AC47: =SUM(O47-AB47) -> 0 | AD47: kabid PKM
A48: 2 | B48: 1.3.2.02.01.01.006 | C48: 0002 | D48: Minibus | E48: Daihatsu Terios | F48: BH 1913 AZ /MHKG2CJ2JBK051313/DCJ4700 | G48: Besi | H48: APBD | I48: 2011 | K48: Unit | L48: B | M48: 1 | N48: 174500000 | O48: 174500000 | S48: =SUM(O48-R48) -> 174500000 | T48: 7 | U48: 0 | V48: 0.5 | W48: =SUM(U48*V48) -> 0 | Y48: =SUM(U48*X48) -> 0 | Z48: =SUM(W48+Y48) -> 0 | AA48: 7 | AB48: 174500000 | AC48: =SUM(O48-AB48) -> 0 | AD48: WI
A49: 3 | B49: 1.3.2.02.01.01.006 | C49: 0003 | D49: Minibus | E49: Toyota Innova | F49: BH 1503 Z, MHFXW43G0B4060163/ITR-7183625 | H49: APBD | I49: 2011 | K49: Unit | L49: B | M49: 1 | N49: 255650000 | O49: 255650000 | S49: =SUM(O49-R49) -> 255650000 | T49: 7 | U49: =SUM(S49/T49) -> 36521429 | AA49: 7 | AB49: 2.5565e+08 | AD49: Operasional | AE49: Mutasi Biro Umum
A50: 4 | B50: 1.3.2.02.01.01.006 | C50: 0004 | D50: Minibus | E50: Kijang Inova | F50: BH 38 | G50: Besi | H50: APBD | I50: 2012 | K50: Unit | L50: B | M50: 1 | N50: 264119400 | O50: 264119400 | S50: =SUM(O50-R50) -> 264119400 | T50: 7 | U50: 0 | V50: 0.5 | W50: =SUM(U50*V50) -> 0 | Y50: =SUM(U50*X50) -> 0 | Z50: =SUM(W50+Y50) -> 0 | AA50: 7 | AB50: 264119400 | AC50: =SUM(O50-AB50) -> 0 | AD50: Kepala Badan
A51: 5 | B51: 1.3.2.02.01.01.006 | C51: 0005 | D51: Minibus | E51: Dahatsu Terios | F51: BH 1440 Z | G51: Besi | H51: APBD | I51: 2012 | K51: Unit | L51: B | M51: 1 | N51: 181000000 | O51: 181000000 | S51: =SUM(O51-R51) -> 181000000 | T51: 7 | U51: 0 | V51: 0.5 | W51: =SUM(U51*V51) -> 0 | Y51: =SUM(U51*X51) -> 0 | Z51: =SUM(W51+Y51) -> 0 | AA51: 7 | AB51: 181000000 | AC51: =SUM(O51-AB51) -> 0 | AD51: Kabid PKTUF
A52: 6 | B52: 1.3.2.02.01.01.006 | C52: 0006 | D52: Minibus | E52: Suzuki Ertiga GX Elegan MT Black | F52: BH 1899 Z/K14BT-1100850/MHYKZE81SEJ207953 | G52: Besi | H52: APBD | I52: 2014 | K52: Unit | L52: B | M52: 1 | N52: 183670000 | O52: 183670000 | S52: =SUM(O52-R52) -> 183670000 | T52: 7 | U52: =SUM(S52/T52) -> 26238571 | V52: 0.5 | Y52: =SUM(U52*X52) -> 0 | AA52: 7 | AB52: =SUM(U52*AA52) -> 183670000 | AC52: =SUM(O52-AB52) -> 0 | AD52: Kabid PKTI
A53: 7 | B53: 1.3.2.02.01.01.006 | C53: 0007 | D53: Minibus | E53: Suzuki Ertiga GX Elegan MT White | F53: BH 1939 Z/K14BT-1095919/MHYKZE81SEJ208204 | G53: Besi | H53: APBD | I53: 2014 | K53: Unit | L53: B | M53: 1 | N53: 183670000 | O53: 183670000 | S53: =SUM(O53-R53) -> 183670000 | T53: 7 | U53: =SUM(S53/T53) -> 26238571 | V53: 0.5 | Y53: =SUM(U53*X53) -> 0 | AA53: 7 | AB53: =SUM(U53*AA53) -> 183670000 | AC53: =SUM(O53-AB53) -> 0 | AD53: Kabid SKPK
A54: 8 | B54: 1.3.2.02.01.01.006 | C54: 0008 | D54: Minibus | E54: Suzuki Ertiga GX Elegan AT White | F54: BH 1940 Z/K14BT-1109297/MHYKZE81SEJ209978 | G54: Besi | H54: APBD | I54: 2014 | K54: Unit | L54: B | M54: 1 | N54: 201740000 | O54: 201740000 | S54: =SUM(O54-R54) -> 201740000 | T54: 7 | U54: =SUM(S54/T54) -> 28820000 | V54: 0.5 | Y54: =SUM(U54*X54) -> 0 | AA54: 7 | AB54: =SUM(U54*AA54) -> 201740000 | AC54: =SUM(O54-AB54) -> 0 | AD54: Sekretaris Badan
A55: 10 | B55: 1.3.2.02.01.01.006 | C55: 0010 | D55: Minibus | E55: Toyota Innova | F55: BH 1060 Z, MHFJW8EM2K2368401 | G55: Besi | H55: APBD | I55: 2019 | K55: Unit | L55: B | M55: 1 | N55: 310000000 | O55: 310000000 | S55: =SUM(O55-R55) -> 310000000 | T55: 7 | U55: =SUM(S55/T55) -> 44285714 | V55: 0.5 | W55: =SUM(U55*V55) -> 22142857 | X55: 0.5 | Y55: =U55*X55 -> 22142857 | Z55: =SUM(W55+Y55) -> 44285714 | AA55: =2022-I55+V55+X55-11/12 -> 3.0833333 | AB55: =SUM(U55*AA55) -> 1.3654762e+08 | AC55: =SUM(O55-AB55)+0.01 -> 1.7345238e+08 | AD55: Widyaiswara Utama | AE55: Mutasi Biro PBMD
B56: 1.3.2.02.01.03 | D56: KENDARAAN BERMOTOR ANGKUTAN BARANG | M56: =SUM(M57) -> 1 | O56: =SUM(O57) -> 195300000 | S56: =SUM(S57) -> 195300000 | U56: =SUM(U57) -> 27900000 | W56: =SUM(W57) -> 13950000 | Y56: =SUM(Y57) -> 11625000 | Z56: =SUM(Z57) -> 25575000 | AB56: =SUM(AB57) -> 195300000 | AC56: =SUM(AC57) -> 0
A57: 9 | B57: 1.3.2.02.01.03.002 | C57: 0009 | D57: Pick Up | E57: Toyota Hilux | G57: Besi | H57: APBD | I57: 2015 | K57: Unit | L57: B | M57: 1 | N57: 195300000 | O57: 195300000 | S57: =SUM(O57-R57) -> 195300000 | T57: 7 | U57: =SUM(S57/T57) -> 27900000 | V57: 0.5 | W57: =SUM(U57*V57) -> 13950000 | X57: 0.5 | Y57: =U57*X57-2325000 -> 11625000 | Z57: =SUM(W57+Y57) -> 25575000 | AA57: =2022-I57+V57+X57-11/12-1/12 -> 7 | AB57: =SUM(U57*AA57) -> 195300000 | AC57: =SUM(O57-AB57) -> 0 | AD57: Operasional
B58: 1.3.2.02.01.04 | D58: KENDARAAN BERMOTOR BERODA DUA | M58: =SUM(M59:M78) -> 20 | O58: =SUM(O59:O78) -> 323090000 | S58: =SUM(S59:S78) -> 323090000 | U58: =SUM(U59:U78) -> 37914286 | W58: =SUM(W59:W78) -> 7242857.1 | Y58: =SUM(Y59:Y78) -> 7242857.1 | Z58: =SUM(Z59:Z78) -> 14485714 | AB58: =SUM(AB59:AB78) -> 289290000 | AC58: =SUM(AC59:AC78) -> 33800000
A59: 11 | B59: 1.3.2.02.01.04.001 | C59: 0001 | D59: Sepeda motor | E59: Honda / NF125 TR | F59: BH BH 2373 Z /MH1JB91179K755362/JB1E-1752034 | G59: Besi | H59: APBD | I59: 2009 | K59: Unit | L59: B | M59: 1 | N59: 14150000 | O59: 14150000 | S59: =SUM(O59-R59) -> 14150000 | T59: 7 | W59: =SUM(U59*V59) -> 0 | Z59: =SUM(W59+Y59) -> 0 | AA59: 7 | AB59: 14150000 | AC59: =SUM(O59-AB59) -> 0 | AD59: Fungsional Umum
A60: 12 | B60: 1.3.2.02.01.04.001 | C60: 0002 | D60: Sepeda motor | E60: Honda / NF125 TR | F60: BH 2368 Z /MH1JB91179K790129/JB1E-1787288 | G60: Besi | H60: APBD | I60: 2009 | K60: Unit | L60: B | M60: 1 | N60: 14150000 | O60: 14150000 | S60: =SUM(O60-R60) -> 14150000 | T60: 7 | W60: =SUM(U60*V60) -> 0 | Y60: =SUM(U60*X60) -> 0 | Z60: =SUM(W60+Y60) -> 0 | AA60: 7 | AB60: 14150000 | AC60: =SUM(O60-AB60) -> 0 | AD60: Fungsional Umum
A61: 13 | B61: 1.3.2.02.01.04.001 | C61: 0003 | D61: Sepeda motor | E61: Honda / New Vario | F61: BH 2944 HZ /MH1JF7113BK085534/JF71E-1084924 | G61: Besi | H61: APBD | I61: 2011 | K61: Unit | L61: B | M61: 1 | N61: 14695000 | O61: 14695000 | S61: =SUM(O61-R61) -> 14695000 | T61: 7 | W61: =SUM(U61*V61) -> 0 | Z61: =SUM(W61+Y61) -> 0 | AA61: 7 | AB61: 14695000 | AC61: =SUM(O61-AB61) -> 0 | AD61: Kasubbag Program dan pelaporan
A62: 14 | B62: 1.3.2.02.01.04.001 | C62: 0004 | D62: Sepeda motor | E62: Honda / New Vario | F62: BH 2943 HZ /MH1JF7113BK085078/JF71E-1084470 | G62: Besi | H62: APBD | I62: 2011 | K62: Unit | L62: B | M62: 1 | N62: 14695000 | O62: 14695000 | S62: =SUM(O62-R62) -> 14695000 | T62: 7 | W62: =SUM(U62*V62) -> 0 | Y62: =SUM(U62*X62) -> 0 | Z62: =SUM(W62+Y62) -> 0 | AA62: 7 | AB62: 14695000 | AC62: =SUM(O62-AB62) -> 0 | AD62: Fungsional Umum
A63: 15 | B63: 1.3.2.02.01.04.001 | C63: 0005 | D63: Sepeda motor | E63: Honda Supra X 125 | F63: BH 2364 Z/JBG1E1169573 / JBG112EK169831 | G63: Besi | H63: APBD | I63: 2014 | K63: Unit | L63: B | M63: 1 | N63: 16400000 | O63: 16400000 | S63: =SUM(O63-R63) -> 16400000 | T63: 7 | U63: =SUM(S63/T63) -> 2342857.1 | V63: 0.5 | Y63: =SUM(U63*X63) -> 0 | AA63: 7 | AB63: =SUM(U63*AA63) -> 16400000 | AC63: =SUM(O63-AB63) -> 0 | AD63: Kasubbid Pengembangan Kompetensi Pilihan Jabatan Administrasi
A64: 16 | B64: 1.3.2.02.01.04.001 | C64: 0006 | D64: Sepeda motor | E64: Honda Supra X 125 | F64: BH 2374 Z/JBG1E1169566 / JBG110EK169875 | G64: Besi | H64: APBD | I64: 2014 | K64: Unit | L64: B | M64: 1 | N64: 16400000 | O64: 16400000 | S64: =SUM(O64-R64) -> 16400000 | T64: 7 | U64: =SUM(S64/T64) -> 2342857.1 | V64: 0.5 | Y64: =SUM(U64*X64) -> 0 | AA64: 7 | AB64: =SUM(U64*AA64) -> 16400000 | AC64: =SUM(O64-AB64) -> 0 | AD64: Kasubbid pengembangan Kompetensi Jabatan Struktural
...

Sheet REKAP BEBAN PENYUSUTAN 2022
B1: PEMERINTAH PROVINSI JAMBI
B2: REKAPITULASI BEBAN PENYUSUTAN
B3: Tahun 2022
B5: SKPD | C5: : BADAN PENGEMBANGAN SUMBER DAYA MANUSIA
Q6: =N93-Q79 -> 0
B7: No. Urut | C7: Akun | D7: Jenis | E7: Objek | F7: Rincian Objek | G7: Sub Rincian Objek | H7: Nama Bidang Barang | I7: Nilai Perolehan (Rp) | J7: Beban Penyusutan per tahun (Rp) | K7: Beban Penyusutan Semester I (Rp) | L7: Beban Penyusutan Semester II (Rp) | M7: Beban Penyusutan Tahun ini (Rp) | N7: Akumulasi Penyusutan s/d tahun lini (Rp) | O7: Nilai Buku (Rp) | P7: Keterangan | Q7: =Q74-O54 -> 0
Q9: =N54-#REF! -> #REF!
B10: 1 | C10: 2 | G10: 3 | H10: 4 | I10: 5 | J10: 6 | K10: 7 | L10: 8 | M10: 9 | N10: 10 | O10: 11 | P10: 12 | Q10: 1.1582048e+10 | R10: 1.1103851e+09
B11: 1 | C11: 3 | H11: ASET TETAP | I11: =SUM(I13+I54+I628+I703+I868+I968) -> 3.71937e+10 | J11: =SUM(J13+J54+J628+J703+J868+J968) -> 1.9921121e+09 | K11: =SUM(K13+K54+K628+K703+K868+K968) -> 5.3977708e+08 | L11: =SUM(L13+L54+L628+L703+L868+L968) -> 5.6027641e+08 | M11: =SUM(M13+M54+M628+M703+M868+M968) -> 1.1000535e+09 | N11: =SUM(N13+N54+N628+N703+N868+N968)+0.04 -> 2.0532999e+10 | O11: =SUM(O13+O54+O628+O703+O868+O968) -> 1.6660701e+10 | P11: =SUM(P13+P54+P628+P703+P868+P968) -> 0
A13: 1 | B13: 1 | C13: 3 | D13: 01 | H13: Tanah | I13: =I14 -> 0 | J13: =J14 -> 0 | K13: =K14 -> 0 | L13: =L14 -> 0 | M13: =M14 -> 0 | N13: =N14 -> 0 | O13: =O14 -> 0 | P13: =P14 -> 0
A14: a | B14: 1 | C14: 3 | D14: 01 | E14: 01 | H14: Tanah | I14: =SUM(I15+I23+I33) -> 0 | J14: =SUM(J15+J23+J33) -> 0 | K14: =SUM(K15+K23+K33) -> 0 | L14: =SUM(L15+L23+L33) -> 0 | M14: =SUM(M15+M23+M33) -> 0 | N14: =SUM(N15+N23+N33) -> 0 | O14: =SUM(O15+O23+O33) -> 0 | P14: =SUM(P15+P23+P33) -> 0
A15: - | B15: 1 | C15: 3 | D15: 01 | E15: 01 | F15: 01 | H15: Tanah Persil | I15: =SUM(I16:I22) -> 0 | J15: =SUM(J16:J22) -> 0 | K15: =SUM(K16:K22) -> 0 | L15: =SUM(L16:L22) -> 0 | M15: =SUM(M16:M22) -> 0 | N15: =SUM(N16:N22) -> 0 | O15: =SUM(O16:O22) -> 0 | P15: =SUM(P16:P22) -> 0
B16: 1 | C16: 3 | D16: 01 | E16: 01 | F16: 01 | G16: 0001 | H16: Tanah Bangunan Perumahan/Gedung Tempat Tinggal
B17: 1 | C17: 3 | D17: 01 | E17: 01 | F17: 01 | G17: 0002 | H17: Tanah untuk Bangunan Gedung Perdagangan/Perusahaan
B18: 1 | C18: 3 | D18: 01 | E18: 01 | F18: 01 | G18: 0003 | H18: Tanah untuk Bangunan Industri
B19: 1 | C19: 3 | D19: 01 | E19: 01 | F19: 01 | G19: 0004 | H19: Tanah untuk Bangunan Tempat Kerja
B20: 1 | C20: 3 | D20: 01 | E20: 01 | F20: 01 | G20: 0005 | H20: Tanah untuk Bangunan Gedung Sarana Olahraga
B21: 1 | C21: 3 | D21: 01 | E21: 01 | F21: 01 | G21: 0006 | H21: Tanah untuk Bangunan Tempat Ibadah
B22: 1 | C22: 3 | D22: 01 | E22: 01 | F22: 01 | G22: 0007 | H22: Tanah Persil Lainnya
A23: - | B23: 1 | C23: 3 | D23: 01 | E23: 01 | F23: 02 | H23: Tanah Non Persil | I23: =SUM(I24:I32) -> 0 | J23: =SUM(J24:J32) -> 0 | K23: =SUM(K24:K32) -> 0 | L23: =SUM(L24:L32) -> 0 | M23: =SUM(M24:M32) -> 0 | N23: =SUM(N24:N32) -> 0 | O23: =SUM(O24:O32) -> 0 | P23: =SUM(P24:P32) -> 0
B24: 1 | C24: 3 | D24: 01 | E24: 01 | F24: 02 | G24: 0001 | H24: Tanah Basah
B25: 1 | C25: 3 | D25: 01 | E25: 01 | F25: 02 | G25: 0002 | H25: Tanah Kering
B26: 1 | C26: 3 | D26: 01 | E26: 01 | F26: 02 | G26: 0003 | H26: Tanah Perkebunan
B27: 1 | C27: 3 | D27: 01 | E27: 01 | F27: 02 | G27: 0004 | H27: Tanah Hutan
B28: 1 | C28: 3 | D28: 01 | E28: 01 | F28: 02 | G28: 0005 | H28: Tanah Tandus
B29: 1 | C29: 3 | D29: 01 | E29: 01 | F29: 02 | G29: 0006 | H29: Tanah Padang Alang-Alang/Rumput
B30: 1 | C30: 3 | D30: 01 | E30: 01 | F30: 02 | G30: 0007 | H30: Tanah Pertanian
B31: 1 | C31: 3 | D31: 01 | E31: 01 | F31: 02 | G31: 0008 | H31: Tanah Pertambangan
B32: 1 | C32: 3 | D32: 01 | E32: 01 | F32: 02 | G32: 0009 | H32: Tanah Non Persil Lainnya
A33: - | B33: 1 | C33: 3 | D33: 01 | E33: 01 | F33: 03 | H33: Lapangan | I33: =SUM(I34:I52) -> 0 | J33: =SUM(J34:J52) -> 0 | K33: =SUM(K34:K52) -> 0 | L33: =SUM(L34:L52) -> 0 | M33: =SUM(M34:M52) -> 0 | N33: =SUM(N34:N52) -> 0 | O33: =SUM(O34:O52) -> 0 | P33: =SUM(P34:P52) -> 0
B34: 1 | C34: 3 | D34: 01 | E34: 01 | F34: 03 | G34: 0001 | H34: Tanah Lapangan Olahraga
B35: 1 | C35: 3 | D35: 01 | E35: 01 | F35: 03 | G35: 0002 | H35: Tanah Lapangan Parkir
B36: 1 | C36: 3 | D36: 01 | E36: 01 | F36: 03 | G36: 0003 | H36: Tanah Lapangan Penimbunan Barang
B37: 1 | C37: 3 | D37: 01 | E37: 01 | F37: 03 | G37: 0004 | H37: Tanah Lapangan Pemancar dan Studio Alam
B38: 1 | C38: 3 | D38: 01 | E38: 01 | F38: 03 | G38: 0005 | H38: Tanah Lapangan Pengujian/Pengolahan
B39: 1 | C39: 3 | D39: 01 | E39: 01 | F39: 03 | G39: 0006 | H39: Tanah Lapangan Terbang
B40: 1 | C40: 3 | D40: 01 | E40: 01 | F40: 03 | G40: 0007 | H40: Tanah untuk Jalan
B41: 1 | C41: 3 | D41: 01 | E41: 01 | F41: 03 | G41: 0008 | H41: Tanah untuk Bangunan Air
B42: 1 | C42: 3 | D42: 01 | E42: 01 | F42: 03 | G42: 0009 | H42: Tanah untuk Bangunan Instalasi
B43: 1 | C43: 3 | D43: 01 | E43: 01 | F43: 03 | G43: 0010 | H43: Tanah untuk Bangunan Jaringan
...

Sheet BI Sem. I tahun 2023 108
A1: BUKU INVENTARIS
A2: SEMESTER I
A3: TAHUN 2023
A4: NOMOR | D4: SPESIFIKASI BARANG | G4: Bahan | H4: Asal / Cara Perolehan Barang | I4: Tahun Perolehan | J4: Ukuran Barang Kontruksi | K4: Satuan | L4: Keadaan Barang | M4: JUMLAH | P4: Tabel Bantu untuk Nilai Buku Aset yang ada Rehab / Penambahan Belanja | Q4: Nilai Residu | S4: Nilai Perolehan setelah dikurangi Nilai Residu | T4: Masa Manfaat (Tahun) | U4: Beban Penyusutan Per Tahun | V4: Beban Penyusutan Periode ini | Z4: Beban Tahun Ini | AA4: Penyusut an Tahun ke - | AB4: Akumulasi Penyusutan | AC4: Nilai Buku | AD4: Lokasi Barang | AE4: Keterangan
A5: No. Urut | B5: Kode Barang | C5: Register | D5: Nama/Jenis Barang | E5: Merk/Type | F5: No. Sertifikat / No. Plat Kendaraan / No. Pabrik / No. Casis | M5: Barang | N5: Harga Satuan | O5: Harga Perolehan | Q5: Tarif Nilai Residu (% dari Harga Perolehan) | R5: N I L A I R E SI D U | V5: Semester I | X5: Semester II
L6: (B/KB/RB) | V6: Waktu | W6: Nilai | X6: Waktu | Y6: Nilai
A7: 1 | B7: 2 | C7: 3 | D7: 4 | E7: 5 | F7: 6 | G7: 7 | H7: 8 | I7: 9 | J7: 10 | K7: 11 | L7: 12 | M7: 13 | N7: 14 | O7: 15 | P7: 16 | Q7: 17 | R7: 18 | S7: 19 | T7: 20 | U7: 21 | V7: 22 | W7: 23 | X7: 24 | Y7: 25 | Z7: 26 | AA7: 27 | AB7: 28 | AC7: 29 | AD7: 30 | AE7: 31
A8: 1 | B8: 1.3.1 | D8: TANAH | M8: =M9+M14+M19+M24 -> 0 | O8: =O9+O14+O19+O24 -> 0 | P8: =P9+P14+P19+P24 -> 0 | Q8: =Q9+Q14+Q19+Q24 -> 0 | R8: =R9+R14+R19+R24 -> 0 | S8: =S9+S14+S19+S24 -> 0 | U8: =U9+U14+U19+U24 -> 0 | W8: =W9+W14+W19+W24 -> 0 | Y8: =Y9+Y14+Y19+Y24 -> 0 | Z8: =Z9+Z14+Z19+Z24 -> 0 | AB8: =AB9+AB14+AB19+AB24 -> 0 | AC8: =AC9+AC14+AC19+AC24 -> 0
B9: 1.3.1.01 | D9: TANAH | M9: =SUM(M10:M13) -> 0 | O9: =SUM(O10:O13) -> 0 | P9: =SUM(P10:P13) -> 0 | Q9: =SUM(Q10:Q13) -> 0 | R9: =SUM(R10:R13) -> 0 | S9: =SUM(S10:S13) -> 0 | U9: =SUM(U10:U13) -> 0 | W9: =SUM(W10:W13) -> 0 | Y9: =SUM(Y10:Y13) -> 0 | Z9: =SUM(Z10:Z13) -> 0 | AB9: =SUM(AB10:AB13) -> 0 | AC9: =SUM(AC10:AC13) -> 0
B14: 1.3.1.01.01 | D14: TANAH PERSIL | M14: =SUM(M15:M18) -> 0 | O14: =SUM(O15:O18) -> 0 | P14: =SUM(P15:P18) -> 0 | Q14: =SUM(Q15:Q18) -> 0 | R14: =SUM(R15:R18) -> 0 | S14: =SUM(S15:S18) -> 0 | U14: =SUM(U15:U18) -> 0 | W14: =SUM(W15:W18) -> 0 | Y14: =SUM(Y15:Y18) -> 0 | Z14: =SUM(Z15:Z18) -> 0 | AB14: =SUM(AB15:AB18) -> 0 | AC14: =SUM(AC15:AC18) -> 0
B19: 1.3.1.01.02 | D19: TANAH NON PERSIL | M19: =SUM(M20:M23) -> 0 | O19: =SUM(O20:O23) -> 0 | P19: =SUM(P20:P23) -> 0 | Q19: =SUM(Q20:Q23) -> 0 | R19: =SUM(R20:R23) -> 0 | S19: =SUM(S20:S23) -> 0 | U19: =SUM(U20:U23) -> 0 | W19: =SUM(W20:W23) -> 0 | Y19: =SUM(Y20:Y23) -> 0 | Z19: =SUM(Z20:Z23) -> 0 | AB19: =SUM(AB20:AB23) -> 0 | AC19: =SUM(AC20:AC23) -> 0
B24: 1.3.1.01.03 | D24: LAPANGAN | M24: =SUM(M25:M28) -> 0 | O24: =SUM(O25:O28) -> 0 | P24: =SUM(P25:P28) -> 0 | Q24: =SUM(Q25:Q28) -> 0 | R24: =SUM(R25:R28) -> 0 | S24: =SUM(S25:S28) -> 0 | U24: =SUM(U25:U28) -> 0 | W24: =SUM(W25:W28) -> 0 | Y24: =SUM(Y25:Y28) -> 0 | Z24: =SUM(Z25:Z28) -> 0 | AB24: =SUM(AB25:AB28) -> 0 | AC24: =SUM(AC25:AC28) -> 0
A30: 2 | B30: 1.3.2 | D30: PERALATAN DAN MESIN | M30: =SUM(M31+M44+M101+M786+M808+M846+M1058) -> 5054 | O30: =SUM(O31+O44+O101+O786+O808+O846+O1058) -> 1.2923541e+10 | P30: =P31+P44+P89+P96+P101+P786+P808+P816+P837+P846+P1010+P1015+P1020+P1029+P1036+P1045+P1048+P1051+P1058 -> 0 | Q30: =Q31+Q44+Q89+Q96+Q101+Q786+Q808+Q816+Q837+Q846+Q1010+Q1015+Q1020+Q1029+Q1036+Q1045+Q1048+Q1051+Q1058 -> 0 | R30: =R31+R44+R89+R96+R101+R786+R808+R816+R837+R846+R1010+R1015+R1020+R1029+R1036+R1045+R1048+R1051+R1058 -> 0 | S30: =SUM(S31+S44+S101+S786+S808+S846+S1058) -> 1.2923541e+10 | U30: =SUM(U31+U44+U101+U786+U808+U816+U837+U846+U1010+U1015+U1020+U1029+U1036+U1045+U1048+U1051+U1058) -> 9.4800178e+08 | W30: =SUM(W31+W44+W101+W786+W808+W816+W837+W846+W1010+W1015+W1020+W1029+W1036+W1045+W1048+W1051+W1058) -> 2.2148165e+08 | Y30: =SUM(Y31+Y44+Y101+Y786+Y808+Y816+Y837+Y846+Y1010+Y1015+Y1020+Y1029+Y1036+Y1045+Y1048+Y1051+Y1058) -> 0 | Z30: =SUM(Z31+Z44+Z101+Z786+Z808+Z816+Z837+Z846+Z1010+Z1015+Z1020+Z1029+Z1036+Z1045+Z1048+Z1051+Z1058) -> 2.2148165e+08 | AB30: =SUM(AB31+AB44+AB101+AB786+AB808+AB816+AB837+AB846+AB1010+AB1015+AB1020+AB1029+AB1036+AB1045+AB1048+AB1051+AB1058) -> 1.1798701e+10 | AC30: =SUM(AC31+AC44+AC101+AC786+AC808+AC846+AC1058) -> 1.12484e+09 | AF30: 1.1276423e+09 | AG30: =AF30-AC30 -> 2802285.4
B31: 1.3.2.01 | D31: ALAT BESAR | M31: =SUM(M40) -> 1 | O31: =SUM(O40) -> 509600000 | P31: =P32+P36+P40 -> 0 | Q31: =Q32+Q36+Q40 -> 0 | R31: =R32+R36+R40 -> 0 | S31: =SUM(S40) -> 509600000 | U31: =U32+U36+U40 -> 50960000 | W31: =W32+W36+W40 -> 0 | Y31: =Y32+Y36+Y40 -> 0 | Z31: =Z32+Z36+Z40 -> 0 | AB31: =SUM(AB40) -> 509600000 | AC31: =AC32+AC36+AC40 -> 0 | AF31: 1.1817729e+10
B32: 1.3.2.01.01 | D32: ALAT BESAR DARAT | M32: =SUM(M33:M35) -> 0 | O32: =SUM(O33:O35) -> 0 | P32: =SUM(P33:P35) -> 0 | Q32: =SUM(Q33:Q35) -> 0 | R32: =SUM(R33:R35) -> 0 | S32: =SUM(S33:S35) -> 0 | U32: =SUM(U33:U35) -> 0 | W32: =SUM(W33:W35) -> 0 | Y32: =SUM(Y33:Y35) -> 0 | Z32: =SUM(Z33:Z35) -> 0 | AB32: =SUM(AB33:AB35) -> 0 | AC32: =SUM(AC33:AC35) -> 0
B36: 1.3.2.01.02 | D36: ALAT BESAR APUNG | M36: =SUM(M37:M39) -> 0 | O36: =SUM(O37:O39) -> 0 | P36: =SUM(P37:P39) -> 0 | Q36: =SUM(Q37:Q39) -> 0 | R36: =SUM(R37:R39) -> 0 | S36: =SUM(S37:S39) -> 0 | U36: =SUM(U37:U39) -> 0 | W36: =SUM(W37:W39) -> 0 | Y36: =SUM(Y37:Y39) -> 0 | Z36: =SUM(Z37:Z39) -> 0 | AB36: =SUM(AB37:AB39) -> 0 | AC36: =SUM(AC37:AC39) -> 0
B40: 1.3.2.01.03 | D40: ALAT BANTU | M40: =SUM(M41) -> 1 | O40: =O41 -> 509600000 | P40: =SUM(P42:P43) -> 0 | Q40: =SUM(Q42:Q43) -> 0 | R40: =SUM(R42:R43) -> 0 | S40: =S41 -> 509600000 | U40: =U41 -> 50960000 | W40: =W41 -> 0 | Y40: =Y41 -> 0 | Z40: =Z41 -> 0 | AB40: =AB41 -> 509600000 | AC40: =AC41 -> 0 | AF40: 1.2692433e+10 | AG40: =O30-AF40 -> 231108000 | AH40: 351052000 | AI40: =AH40-AG40 -> 119944000
B41: 1.3.2.01.03.04 | D41: Electric Generating Set | M41: =SUM(M42) -> 1 | O41: =SUM(O42) -> 509600000 | S41: =SUM(S42) -> 509600000 | U41: =SUM(U42) -> 50960000 | W41: =SUM(W42) -> 0 | Z41: =SUM(Z42) -> 0 | AB41: =SUM(AB42) -> 509600000 | AC41: =SUM(AC42) -> 0
A42: 1 | B42: 1.3.2.01.03.04.003 | C42: 0001 | D42: Genset | E42: Baifa Power/200 KVA | G42: Besi | H42: APBD | I42: 2013 | K42: Unit | L42: B | M42: 1 | N42: 509600000 | O42: 509600000 | S42: =SUM(N42-R42) -> 509600000 | T42: 10 | U42: =SUM(S42/T42) -> 50960000 | W42: =SUM(U42*V42) -> 0 | Y42: =SUM(U42*X42) -> 0 | Z42: =SUM(W42+Y42) -> 0 | AA42: 10 | AB42: =SUM(U42*AA42) -> 509600000 | AC42: =SUM(O42-AB42) -> 0 | AD42: Gudang Genset | AF42: 1.1276423e+09 | AG42: =AC30-AF42 -> -2802285.1
B44: 1.3.2.02 | D44: ALAT ANGKUTAN | M44: =SUM(M46+M56+M58+M79) -> 32 | O44: =SUM(O46+O56+O58+O79) -> 2493984900 | P44: =P45+P79+P83+P85+P87 -> 0 | Q44: =Q45+Q79+Q83+Q85+Q87 -> 0 | R44: =R45+R79+R83+R85+R87 -> 0 | S44: =SUM(S46+S56+S58+S79) -> 2493984900 | U44: =SUM(U46+U56+U58+U79) -> 2.2791857e+08 | W44: =SUM(W46+W56+W58+W79) -> 29385714 | Y44: =Y45+Y79+Y83+Y85+Y87 -> 0 | Z44: =SUM(Z46+Z56+Z58+Z79) -> 29385714 | AB44: =SUM(AB46+AB56+AB58+AB79) -> 2.3161182e+09 | AC44: =SUM(AC46+AC56+AC58+AC79) -> 1.7786667e+08
B45: 1.3.2.02.01 | D45: ALAT ANGKUTAN DARAT BERMOTOR | M45: =SUM(M46+M56+M58) -> 30 | O45: =SUM(O46+O56+O58) -> 2481994900 | P45: =SUM(P76:P78) -> 0 | Q45: =SUM(Q76:Q78) -> 0 | R45: =SUM(R76:R78) -> 0 | S45: =SUM(S46+S56+S58) -> 2481994900 | U45: =SUM(U46+U56+U58) -> 2.2791857e+08 | W45: =SUM(W46+W56+W58) -> 29385714 | Y45: =SUM(Y47:Y78) -> 0 | Z45: =SUM(Z46+Z56+Z58) -> 29385714 | AB45: =SUM(AB46+AB56+AB58) -> 2.3041282e+09 | AC45: =SUM(AC46+AC56+AC58) -> 1.7786667e+08
B46: 1.3.2.02.01.01 | D46: KENDARAAN DINAS BERMOTOR PERORANGAN | M46: =SUM(M47:M55) -> 9 | O46: =SUM(O47:O55) -> 1963604900 | S46: =SUM(S47:S55) -> 1963604900 | U46: =SUM(U47:U55) -> 1.6210429e+08 | W46: =SUM(W47:W55) -> 22142857 | Z46: =SUM(Z47:Z55) -> 22142857 | AB46: =SUM(AB47:AB55) -> 1.8122954e+09 | AC46: =SUM(AC47:AC55) -> 1.5130952e+08
A47: 1 | B47: 1.3.2.02.01.01.006 | C47: 0001 | D47: Minibus | E47: Grand Levina | F47: BH 1941 Z /MHBGIC66F9J007085/MR.18-044015R | G47: Besi | H47: APBD | I47: 2009 | K47: Unit | L47: B | M47: 1 | N47: 209255500 | O47: 209255500 | S47: =SUM(O47-R47) -> 209255500 | T47: 7 | U47: 0 | V47: 0.5 | W47: =SUM(U47*V47) -> 0 | Y47: =SUM(U47*X47) -> 0 | Z47: =SUM(W47+Y47) -> 0 | AA47: 7 | AB47: 209255500 | AC47: =SUM(O47-AB47) -> 0 | AD47: kabid PKM
A48: 2 | B48: 1.3.2.02.01.01.006 | C48: 0002 | D48: Minibus | E48: Daihatsu Terios | F48: BH 1913 AZ /MHKG2CJ2JBK051313/DCJ4700 | G48: Besi | H48: APBD | I48: 2011 | K48: Unit | L48: B | M48: 1 | N48: 174500000 | O48: 174500000 | S48: =SUM(O48-R48) -> 174500000 | T48: 7 | U48: 0 | V48: 0.5 | W48: =SUM(U48*V48) -> 0 | Y48: =SUM(U48*X48) -> 0 | Z48: =SUM(W48+Y48) -> 0 | AA48: 7 | AB48: 174500000 | AC48: =SUM(O48-AB48) -> 0 | AD48: WI
A49: 3 | B49: 1.3.2.02.01.01.006 | C49: 0003 | D49: Minibus | E49: Toyota Innova | F49: BH 1503 Z, MHFXW43G0B4060163/ITR-7183625 | H49: APBD | I49: 2011 | K49: Unit | L49: B | M49: 1 | N49: 255650000 | O49: 255650000 | S49: =SUM(O49-R49) -> 255650000 | T49: 7 | U49: =SUM(S49/T49) -> 36521429 | AA49: 7 | AB49: 2.5565e+08 | AD49: Operasional | AE49: Mutasi Biro Umum
A50: 4 | B50: 1.3.2.02.01.01.006 | C50: 0004 | D50: Minibus | E50: Kijang Inova | F50: BH 38 | G50: Besi | H50: APBD | I50: 2012 | K50: Unit | L50: B | M50: 1 | N50: 264119400 | O50: 264119400 | S50: =SUM(O50-R50) -> 264119400 | T50: 7 | U50: 0 | V50: 0.5 | W50: =SUM(U50*V50) -> 0 | Y50: =SUM(U50*X50) -> 0 | Z50: =SUM(W50+Y50) -> 0 | AA50: 7 | AB50: 264119400 | AC50: =SUM(O50-AB50) -> 0 | AD50: Kepala Badan
A51: 5 | B51: 1.3.2.02.01.01.006 | C51: 0005 | D51: Minibus | E51: Dahatsu Terios | F51: BH 1440 Z | G51: Besi | H51: APBD | I51: 2012 | K51: Unit | L51: B | M51: 1 | N51: 181000000 | O51: 181000000 | S51: =SUM(O51-R51) -> 181000000 | T51: 7 | U51: 0 | V51: 0.5 | W51: =SUM(U51*V51) -> 0 | Y51: =SUM(U51*X51) -> 0 | Z51: =SUM(W51+Y51) -> 0 | AA51: 7 | AB51: 181000000 | AC51: =SUM(O51-AB51) -> 0 | AD51: Kabid PKTUF
A52: 6 | B52: 1.3.2.02.01.01.006 | C52: 0006 | D52: Minibus | E52: Suzuki Ertiga GX Elegan MT Black | F52: BH 1899 Z/K14BT-1100850/MHYKZE81SEJ207953 | G52: Besi | H52: APBD | I52: 2014 | K52: Unit | L52: B | M52: 1 | N52: 183670000 | O52: 183670000 | S52: =SUM(O52-R52) -> 183670000 | T52: 7 | U52: =SUM(S52/T52) -> 26238571 | V52: 0.5 | Y52: =SUM(U52*X52) -> 0 | AA52: 7 | AB52: =SUM(U52*AA52) -> 183670000 | AC52: =SUM(O52-AB52) -> 0 | AD52: Kabid PKTI
A53: 7 | B53: 1.3.2.02.01.01.006 | C53: 0007 | D53: Minibus | E53: Suzuki Ertiga GX Elegan MT White | F53: BH 1939 Z/K14BT-1095919/MHYKZE81SEJ208204 | G53: Besi | H53: APBD | I53: 2014 | K53: Unit | L53: B | M53: 1 | N53: 183670000 | O53: 183670000 | S53: =SUM(O53-R53) -> 183670000 | T53: 7 | U53: =SUM(S53/T53) -> 26238571 | V53: 0.5 | Y53: =SUM(U53*X53) -> 0 | AA53: 7 | AB53: =SUM(U53*AA53) -> 183670000 | AC53: =SUM(O53-AB53) -> 0 | AD53: Kabid SKPK
A54: 8 | B54: 1.3.2.02.01.01.006 | C54: 0008 | D54: Minibus | E54: Suzuki Ertiga GX Elegan AT White | F54: BH 1940 Z/K14BT-1109297/MHYKZE81SEJ209978 | G54: Besi | H54: APBD | I54: 2014 | K54: Unit | L54: B | M54: 1 | N54: 201740000 | O54: 201740000 | S54: =SUM(O54-R54) -> 201740000 | T54: 7 | U54: =SUM(S54/T54) -> 28820000 | V54: 0.5 | Y54: =SUM(U54*X54) -> 0 | AA54: 7 | AB54: =SUM(U54*AA54) -> 201740000 | AC54: =SUM(O54-AB54) -> 0 | AD54: Sekretaris Badan
A55: 10 | B55: 1.3.2.02.01.01.006 | C55: 0010 | D55: Minibus | E55: Toyota Innova | F55: BH 1060 Z, MHFJW8EM2K2368401 | G55: Besi | H55: APBD | I55: 2019 | K55: Unit | L55: B | M55: 1 | N55: 310000000 | O55: 310000000 | S55: =SUM(O55-R55) -> 310000000 | T55: 7 | U55: =SUM(S55/T55) -> 44285714 | V55: 0.5 | W55: =SUM(U55*V55) -> 22142857 | Y55: =U55*X55 -> 0 | Z55: =SUM(W55+Y55) -> 22142857 | AA55: =2023-I55+V55+X55-11/12 -> 3.5833333 | AB55: =SUM(U55*AA55) -> 1.5869048e+08 | AC55: =SUM(O55-AB55) -> 1.5130952e+08 | AD55: Widyaiswara Utama | AE55: Mutasi Biro PBMD
B56: 1.3.2.02.01.03 | D56: KENDARAAN BERMOTOR ANGKUTAN BARANG | M56: =SUM(M57) -> 1 | O56: =SUM(O57) -> 195300000 | S56: =SUM(S57) -> 195300000 | U56: =SUM(U57) -> 27900000 | W56: =SUM(W57) -> 0 | Z56: =SUM(Z57) -> 0 | AB56: =SUM(AB57) -> 195300000 | AC56: =SUM(AC57) -> 0
A57: 9 | B57: 1.3.2.02.01.03.002 | C57: 0009 | D57: Pick Up | E57: Toyota Hilux | G57: Besi | H57: APBD | I57: 2015 | K57: Unit | L57: B | M57: 1 | N57: 195300000 | O57: 195300000 | S57: =SUM(O57-R57) -> 195300000 | T57: 7 | U57: =SUM(S57/T57) -> 27900000 | W57: =SUM(U57*V57) -> 0 | Y57: =U57*X57 -> 0 | Z57: =SUM(W57+Y57) -> 0 | AA57: 7 | AB57: =SUM(U57*AA57) -> 195300000 | AC57: =SUM(O57-AB57) -> 0 | AD57: Operasional
B58: 1.3.2.02.01.04 | D58: KENDARAAN BERMOTOR BERODA DUA | M58: =SUM(M59:M78) -> 20 | O58: =SUM(O59:O78) -> 323090000 | S58: =SUM(S59:S78) -> 323090000 | U58: =SUM(U59:U78) -> 37914286 | W58: =SUM(W59:W78) -> 7242857.1 | Z58: =SUM(Z59:Z78) -> 7242857.1 | AB58: =SUM(AB59:AB78) -> 2.9653286e+08 | AC58: =SUM(AC59:AC78) -> 26557143
A59: 11 | B59: 1.3.2.02.01.04.001 | C59: 0001 | D59: Sepeda motor | E59: Honda / NF125 TR | F59: BH BH 2373 Z /MH1JB91179K755362/JB1E-1752034 | G59: Besi | H59: APBD | I59: 2009 | K59: Unit | L59: B | M59: 1 | N59: 14150000 | O59: 14150000 | S59: =SUM(O59-R59) -> 14150000 | T59: 7 | W59: =SUM(U59*V59) -> 0 | Z59: =SUM(W59+Y59) -> 0 | AA59: 7 | AB59: 14150000 | AC59: =SUM(O59-AB59) -> 0 | AD59: Fungsional Umum
A60: 12 | B60: 1.3.2.02.01.04.001 | C60: 0002 | D60: Sepeda motor | E60: Honda / NF125 TR | F60: BH 2368 Z /MH1JB91179K790129/JB1E-1787288 | G60: Besi | H60: APBD | I60: 2009 | K60: Unit | L60: B | M60: 1 | N60: 14150000 | O60: 14150000 | S60: =SUM(O60-R60) -> 14150000 | T60: 7 | W60: =SUM(U60*V60) -> 0 | Y60: =SUM(U60*X60) -> 0 | Z60: =SUM(W60+Y60) -> 0 | AA60: 7 | AB60: 14150000 | AC60: =SUM(O60-AB60) -> 0 | AD60: Fungsional Umum
A61: 13 | B61: 1.3.2.02.01.04.001 | C61: 0003 | D61: Sepeda motor | E61: Honda / New Vario | F61: BH 2944 HZ /MH1JF7113BK085534/JF71E-1084924 | G61: Besi | H61: APBD | I61: 2011 | K61: Unit | L61: B | M61: 1 | N61: 14695000 | O61: 14695000 | S61: =SUM(O61-R61) -> 14695000 | T61: 7 | W61: =SUM(U61*V61) -> 0 | Y61: =SUM(U61*X61) -> 0 | Z61: =SUM(W61+Y61) -> 0 | AA61: 7 | AB61: 14695000 | AC61: =SUM(O61-AB61) -> 0 | AD61: Kasubbag Program dan pelaporan
A62: 14 | B62: 1.3.2.02.01.04.001 | C62: 0004 | D62: Sepeda motor | E62: Honda / New Vario | F62: BH 2943 HZ /MH1JF7113BK085078/JF71E-1084470 | G62: Besi | H62: APBD | I62: 2011 | K62: Unit | L62: B | M62: 1 | N62: 14695000 | O62: 14695000 | S62: =SUM(O62-R62) -> 14695000 | T62: 7 | W62: =SUM(U62*V62) -> 0 | Y62: =SUM(U62*X62) -> 0 | Z62: =SUM(W62+Y62) -> 0 | AA62: 7 | AB62: 14695000 | AC62: =SUM(O62-AB62) -> 0 | AD62: Fungsional Umum
A63: 15 | B63: 1.3.2.02.01.04.001 | C63: 0005 | D63: Sepeda motor | E63: Honda Supra X 125 | F63: BH 2364 Z/JBG1E1169573 / JBG112EK169831 | G63: Besi | H63: APBD | I63: 2014 | K63: Unit | L63: B | M63: 1 | N63: 16400000 | O63: 16400000 | S63: =SUM(O63-R63) -> 16400000 | T63: 7 | U63: =SUM(S63/T63) -> 2342857.1 | V63: 0.5 | Y63: =SUM(U63*X63) -> 0 | AA63: 7 | AB63: =SUM(U63*AA63) -> 16400000 | AC63: =SUM(O63-AB63) -> 0 | AD63: Kasubbid Pengembangan Kompetensi Pilihan Jabatan Administrasi
A64: 16 | B64: 1.3.2.02.01.04.001 | C64: 0006 | D64: Sepeda motor | E64: Honda Supra X 125 | F64: BH 2374 Z/JBG1E1169566 / JBG110EK169875 | G64: Besi | H64: APBD | I64: 2014 | K64: Unit | L64: B | M64: 1 | N64: 16400000 | O64: 16400000 | S64: =SUM(O64-R64) -> 16400000 | T64: 7 | U64: =SUM(S64/T64) -> 2342857.1 | V64: 0.5 | Y64: =SUM(U64*X64) -> 0 | AA64: 7 | AB64: =SUM(U64*AA64) -> 16400000 | AC64: =SUM(O64-AB64) -> 0 | AD64: Kasubbid pengembangan Kompetensi Jabatan Struktural
...

Sheet  Rekap Beban Peny. Sem.I 2023
B1: PEMERINTAH PROVINSI JAMBI
B2: REKAPITULASI BEBAN PENYUSUTAN
B3: Per 1 Juli 2023
B5: SKPD | C5: : BADAN PENGEMBANGAN SUMBER DAYA MANUSIA
B7: No. Urut | C7: Akun | D7: Jenis | E7: Objek | F7: Rincian Objek | G7: Sub Rincian Objek | H7: Nama Bidang Barang | I7: Nilai Perolehan (Rp) | J7: Beban Penyusutan per tahun (Rp) | K7: Beban Penyusutan Semester I (Rp) | L7: Beban Penyusutan Semester II (Rp) | M7: Beban Penyusutan Tahun ini (Rp) | N7: Akumulasi Penyusutan s/d tahun lini (Rp) | O7: Nilai Buku (Rp) | P7: Keterangan
B10: 1 | C10: 2 | G10: 3 | H10: 4 | I10: 5 | J10: 6 | K10: 7 | L10: 8 | M10: 9 | N10: 10 | O10: 11 | P10: 12
B11: 1 | C11: 3 | H11: ASET TETAP | I11: =SUM(I13+I54+I628+I703+I868+I968) -> 3.7893582e+10 | J11: =SUM(J13+J54+J628+J703+J868+J968) -> 2.1190177e+09 | K11: =SUM(K13+K54+K628+K703+K868+K968) -> 5.7406095e+08 | L11: =SUM(L13+L54+L628+L703+L868+L968) -> 0 | M11: =SUM(M13+M54+M628+M703+M868+M968) -> 5.7406095e+08 | N11: =SUM(N13+N54+N628+N703+N868+N968)+0.09 -> 2.110706e+10 | O11: =SUM(O13+O54+O628+O703+O868+O968) -> 1.6853191e+10 | P11: =SUM(P13+P54+P628+P703+P868+P968) -> 0
A13: 1 | B13: 1 | C13: 3 | D13: 01 | H13: Tanah | I13: =I14 -> 0 | J13: =J14 -> 0 | K13: =K14 -> 0 | L13: =L14 -> 0 | M13: =M14 -> 0 | N13: =N14 -> 0 | O13: =O14 -> 0 | P13: =P14 -> 0
A14: a | B14: 1 | C14: 3 | D14: 01 | E14: 01 | H14: Tanah | I14: =SUM(I15+I23+I33) -> 0 | J14: =SUM(J15+J23+J33) -> 0 | K14: =SUM(K15+K23+K33) -> 0 | L14: =SUM(L15+L23+L33) -> 0 | M14: =SUM(M15+M23+M33) -> 0 | N14: =SUM(N15+N23+N33) -> 0 | O14: =SUM(O15+O23+O33) -> 0 | P14: =SUM(P15+P23+P33) -> 0
A15: - | B15: 1 | C15: 3 | D15: 01 | E15: 01 | F15: 01 | H15: Tanah Persil | I15: =SUM(I16:I22) -> 0 | J15: =SUM(J16:J22) -> 0 | K15: =SUM(K16:K22) -> 0 | L15: =SUM(L16:L22) -> 0 | M15: =SUM(M16:M22) -> 0 | N15: =SUM(N16:N22) -> 0 | O15: =SUM(O16:O22) -> 0 | P15: =SUM(P16:P22) -> 0
B16: 1 | C16: 3 | D16: 01 | E16: 01 | F16: 01 | G16: 0001 | H16: Tanah Bangunan Perumahan/Gedung Tempat Tinggal
B17: 1 | C17: 3 | D17: 01 | E17: 01 | F17: 01 | G17: 0002 | H17: Tanah untuk Bangunan Gedung Perdagangan/Perusahaan
B18: 1 | C18: 3 | D18: 01 | E18: 01 | F18: 01 | G18: 0003 | H18: Tanah untuk Bangunan Industri
B19: 1 | C19: 3 | D19: 01 | E19: 01 | F19: 01 | G19: 0004 | H19: Tanah untuk Bangunan Tempat Kerja
B20: 1 | C20: 3 | D20: 01 | E20: 01 | F20: 01 | G20: 0005 | H20: Tanah untuk Bangunan Gedung Sarana Olahraga
B21: 1 | C21: 3 | D21: 01 | E21: 01 | F21: 01 | G21: 0006 | H21: Tanah untuk Bangunan Tempat Ibadah
B22: 1 | C22: 3 | D22: 01 | E22: 01 | F22: 01 | G22: 0007 | H22: Tanah Persil Lainnya
A23: - | B23: 1 | C23: 3 | D23: 01 | E23: 01 | F23: 02 | H23: Tanah Non Persil | I23: =SUM(I24:I32) -> 0 | J23: =SUM(J24:J32) -> 0 | K23: =SUM(K24:K32) -> 0 | L23: =SUM(L24:L32) -> 0 | M23: =SUM(M24:M32) -> 0 | N23: =SUM(N24:N32) -> 0 | O23: =SUM(O24:O32) -> 0 | P23: =SUM(P24:P32) -> 0
B24: 1 | C24: 3 | D24: 01 | E24: 01 | F24: 02 | G24: 0001 | H24: Tanah Basah
B25: 1 | C25: 3 | D25: 01 | E25: 01 | F25: 02 | G25: 0002 | H25: Tanah Kering
B26: 1 | C26: 3 | D26: 01 | E26: 01 | F26: 02 | G26: 0003 | H26: Tanah Perkebunan
B27: 1 | C27: 3 | D27: 01 | E27: 01 | F27: 02 | G27: 0004 | H27: Tanah Hutan
B28: 1 | C28: 3 | D28: 01 | E28: 01 | F28: 02 | G28: 0005 | H28: Tanah Tandus
B29: 1 | C29: 3 | D29: 01 | E29: 01 | F29: 02 | G29: 0006 | H29: Tanah Padang Alang-Alang/Rumput
B30: 1 | C30: 3 | D30: 01 | E30: 01 | F30: 02 | G30: 0007 | H30: Tanah Pertanian
B31: 1 | C31: 3 | D31: 01 | E31: 01 | F31: 02 | G31: 0008 | H31: Tanah Pertambangan
B32: 1 | C32: 3 | D32: 01 | E32: 01 | F32: 02 | G32: 0009 | H32: Tanah Non Persil Lainnya
A33: - | B33: 1 | C33: 3 | D33: 01 | E33: 01 | F33: 03 | H33: Lapangan | I33: =SUM(I34:I52) -> 0 | J33: =SUM(J34:J52) -> 0 | K33: =SUM(K34:K52) -> 0 | L33: =SUM(L34:L52) -> 0 | M33: =SUM(M34:M52) -> 0 | N33: =SUM(N34:N52) -> 0 | O33: =SUM(O34:O52) -> 0 | P33: =SUM(P34:P52) -> 0
B34: 1 | C34: 3 | D34: 01 | E34: 01 | F34: 03 | G34: 0001 | H34: Tanah Lapangan Olahraga
B35: 1 | C35: 3 | D35: 01 | E35: 01 | F35: 03 | G35: 0002 | H35: Tanah Lapangan Parkir
B36: 1 | C36: 3 | D36: 01 | E36: 01 | F36: 03 | G36: 0003 | H36: Tanah Lapangan Penimbunan Barang
B37: 1 | C37: 3 | D37: 01 | E37: 01 | F37: 03 | G37: 0004 | H37: Tanah Lapangan Pemancar dan Studio Alam
B38: 1 | C38: 3 | D38: 01 | E38: 01 | F38: 03 | G38: 0005 | H38: Tanah Lapangan Pengujian/Pengolahan
B39: 1 | C39: 3 | D39: 01 | E39: 01 | F39: 03 | G39: 0006 | H39: Tanah Lapangan Terbang
B40: 1 | C40: 3 | D40: 01 | E40: 01 | F40: 03 | G40: 0007 | H40: Tanah untuk Jalan
B41: 1 | C41: 3 | D41: 01 | E41: 01 | F41: 03 | G41: 0008 | H41: Tanah untuk Bangunan Air
B42: 1 | C42: 3 | D42: 01 | E42: 01 | F42: 03 | G42: 0009 | H42: Tanah untuk Bangunan Instalasi
B43: 1 | C43: 3 | D43: 01 | E43: 01 | F43: 03 | G43: 0010 | H43: Tanah untuk Bangunan Jaringan
B44: 1 | C44: 3 | D44: 01 | E44: 01 | F44: 03 | G44: 0011 | H44: Tanah untuk Bangunan Bersejarah
B45: 1 | C45: 3 | D45: 01 | E45: 01 | F45: 03 | G45: 0012 | H45: Tanah untuk Makam
...

Sheet BI Sem. II tahun 2023 108  
A1: BUKU INVENTARIS
A2: SEMESTER II
A3: TAHUN 2023
A4: NOMOR | D4: SPESIFIKASI BARANG | G4: Bahan | H4: Asal / Cara Perolehan Barang | I4: Tahun Perolehan | J4: Ukuran Barang Kontruksi | K4: Satuan | L4: Keadaan Barang | M4: JUMLAH | P4: Tabel Bantu untuk Nilai Buku Aset yang ada Rehab / Penambahan Belanja | Q4: Nilai Residu | S4: Nilai Perolehan setelah dikurangi Nilai Residu | T4: Masa Manfaat (Tahun) | U4: Beban Penyusutan Per Tahun | V4: Beban Penyusutan Periode ini | Z4: Beban Tahun Ini | AA4: Penyusut an Tahun ke - | AB4: Akumulasi Penyusutan | AC4: Nilai Buku | AD4: Lokasi Barang | AE4: Keterangan
A5: No. Urut | B5: Kode Barang | C5: Register | D5: Nama/Jenis Barang | E5: Merk/Type | F5: No. Sertifikat / No. Plat Kendaraan / No. Pabrik / No. Casis | M5: Barang | N5: Harga Satuan | O5: Harga Perolehan | Q5: Tarif Nilai Residu (% dari Harga Perolehan) | R5: N I L A I R E SI D U | V5: Semester I | X5: Semester II
L6: (B/KB/RB) | V6: Waktu | W6: Nilai | X6: Waktu | Y6: Nilai
A7: 1 | B7: 2 | C7: 3 | D7: 4 | E7: 5 | F7: 6 | G7: 7 | H7: 8 | I7: 9 | J7: 10 | K7: 11 | L7: 12 | M7: 13 | N7: 14 | O7: 15 | P7: 16 | Q7: 17 | R7: 18 | S7: 19 | T7: 20 | U7: 21 | V7: 22 | W7: 23 | X7: 24 | Y7: 25 | Z7: 26 | AA7: 27 | AB7: 28 | AC7: 29 | AD7: 30 | AE7: 31 | AF7: 1.157722e+10 | AG7: =SUM(AF7+W30+Y30-AB30) -> -0.51999664
A8: 1 | B8: 1.3.1 | D8: TANAH | M8: =M9+M14+M19+M24 -> 0 | O8: =O9+O14+O19+O24 -> 0 | P8: =P9+P14+P19+P24 -> 0 | Q8: =Q9+Q14+Q19+Q24 -> 0 | R8: =R9+R14+R19+R24 -> 0 | S8: =S9+S14+S19+S24 -> 0 | U8: =U9+U14+U19+U24 -> 0 | W8: =W9+W14+W19+W24 -> 0 | Y8: =Y9+Y14+Y19+Y24 -> 0 | Z8: =Z9+Z14+Z19+Z24 -> 0 | AB8: =AB9+AB14+AB19+AB24 -> 0 | AC8: =AC9+AC14+AC19+AC24 -> 0 | AF8: 1.1798701e+10 | AG8: =SUM(AF8+Y30-AB30) -> 0.030000687
B9: 1.3.1.01 | D9: TANAH | M9: =SUM(M10:M13) -> 0 | O9: =SUM(O10:O13) -> 0 | P9: =SUM(P10:P13) -> 0 | Q9: =SUM(Q10:Q13) -> 0 | R9: =SUM(R10:R13) -> 0 | S9: =SUM(S10:S13) -> 0 | U9: =SUM(U10:U13) -> 0 | W9: =SUM(W10:W13) -> 0 | Y9: =SUM(Y10:Y13) -> 0 | Z9: =SUM(Z10:Z13) -> 0 | AB9: =SUM(AB10:AB13) -> 0 | AC9: =SUM(AC10:AC13) -> 0
B14: 1.3.1.01.01 | D14: TANAH PERSIL | M14: =SUM(M15:M18) -> 0 | O14: =SUM(O15:O18) -> 0 | P14: =SUM(P15:P18) -> 0 | Q14: =SUM(Q15:Q18) -> 0 | R14: =SUM(R15:R18) -> 0 | S14: =SUM(S15:S18) -> 0 | U14: =SUM(U15:U18) -> 0 | W14: =SUM(W15:W18) -> 0 | Y14: =SUM(Y15:Y18) -> 0 | Z14: =SUM(Z15:Z18) -> 0 | AB14: =SUM(AB15:AB18) -> 0 | AC14: =SUM(AC15:AC18) -> 0
B19: 1.3.1.01.02 | D19: TANAH NON PERSIL | M19: =SUM(M20:M23) -> 0 | O19: =SUM(O20:O23) -> 0 | P19: =SUM(P20:P23) -> 0 | Q19: =SUM(Q20:Q23) -> 0 | R19: =SUM(R20:R23) -> 0 | S19: =SUM(S20:S23) -> 0 | U19: =SUM(U20:U23) -> 0 | W19: =SUM(W20:W23) -> 0 | Y19: =SUM(Y20:Y23) -> 0 | Z19: =SUM(Z20:Z23) -> 0 | AB19: =SUM(AB20:AB23) -> 0 | AC19: =SUM(AC20:AC23) -> 0
B24: 1.3.1.01.03 | D24: LAPANGAN | M24: =SUM(M25:M28) -> 0 | O24: =SUM(O25:O28) -> 0 | P24: =SUM(P25:P28) -> 0 | Q24: =SUM(Q25:Q28) -> 0 | R24: =SUM(R25:R28) -> 0 | S24: =SUM(S25:S28) -> 0 | U24: =SUM(U25:U28) -> 0 | W24: =SUM(W25:W28) -> 0 | Y24: =SUM(Y25:Y28) -> 0 | Z24: =SUM(Z25:Z28) -> 0 | AB24: =SUM(AB25:AB28) -> 0 | AC24: =SUM(AC25:AC28) -> 0
A30: 2 | B30: 1.3.2 | D30: PERALATAN DAN MESIN | M30: =SUM(M31+M44+M101+M786+M808+M846+M1062) -> 5058 | O30: =SUM(O31+O44+O101+O786+O808+O846+O1062) -> 1.2973162e+10 | P30: =P31+P44+P89+P96+P101+P786+P808+P816+P837+P846+P1014+P1019+P1024+P1033+P1040+P1049+P1052+P1055+P1062 -> 0 | Q30: =Q31+Q44+Q89+Q96+Q101+Q786+Q808+Q816+Q837+Q846+Q1014+Q1019+Q1024+Q1033+Q1040+Q1049+Q1052+Q1055+Q1062 -> 0 | R30: =R31+R44+R89+R96+R101+R786+R808+R816+R837+R846+R1014+R1019+R1024+R1033+R1040+R1049+R1052+R1055+R1062 -> 0 | S30: =SUM(S31+S44+S101+S786+S808+S846+S1062) -> 1.2816679e+10 | U30: =SUM(U31+U44+U101+U786+U808+U816+U837+U846+U1014+U1019+U1024+U1033+U1040+U1049+U1052+U1055+U1062) -> 9.5792598e+08 | W30: =SUM(W31+W44+W101+W786+W808+W816+W837+W846+W1014+W1019+W1024+W1033+W1040+W1049+W1052+W1055+W1062) -> 2.2148165e+08 | Y30: =SUM(Y31+Y44+Y101+Y786+Y808+Y816+Y837+Y846+Y1014+Y1019+Y1024+Y1033+Y1040+Y1049+Y1052+Y1055+Y1062) -> 1.9466541e+08 | Z30: =SUM(Z31+Z44+Z101+Z786+Z808+Z816+Z837+Z846+Z1014+Z1019+Z1024+Z1033+Z1040+Z1049+Z1052+Z1055+Z1062) -> 4.1614706e+08 | AB30: =SUM(AB31+AB44+AB101+AB786+AB808+AB816+AB837+AB846+AB1014+AB1019+AB1024+AB1033+AB1040+AB1049+AB1052+AB1055+AB1062) -> 1.1993367e+10 | AC30: =SUM(AC31+AC44+AC101+AC786+AC808+AC846+AC1062) -> 9.797956e+08 | AF30: 1.157722e+10 | AG30: =SUM(AF30+W30+Y30-AB30) -> -0.51999855
B31: 1.3.2.01 | D31: ALAT BESAR | M31: =SUM(M40) -> 1 | O31: =SUM(O40) -> 509600000 | P31: =P32+P36+P40 -> 0 | Q31: =Q32+Q36+Q40 -> 0 | R31: =R32+R36+R40 -> 0 | S31: =SUM(S40) -> 509600000 | U31: =U32+U36+U40 -> 50960000 | W31: =W32+W36+W40 -> 0 | Y31: =Y32+Y36+Y40 -> 0 | Z31: =Z32+Z36+Z40 -> 0 | AB31: =SUM(AB40) -> 509600000 | AC31: =AC32+AC36+AC40 -> 0 | AF31: 1.1817729e+10
B32: 1.3.2.01.01 | D32: ALAT BESAR DARAT | M32: =SUM(M33:M35) -> 0 | O32: =SUM(O33:O35) -> 0 | P32: =SUM(P33:P35) -> 0 | Q32: =SUM(Q33:Q35) -> 0 | R32: =SUM(R33:R35) -> 0 | S32: =SUM(S33:S35) -> 0 | U32: =SUM(U33:U35) -> 0 | W32: =SUM(W33:W35) -> 0 | Y32: =SUM(Y33:Y35) -> 0 | Z32: =SUM(Z33:Z35) -> 0 | AB32: =SUM(AB33:AB35) -> 0 | AC32: =SUM(AC33:AC35) -> 0
B36: 1.3.2.01.02 | D36: ALAT BESAR APUNG | M36: =SUM(M37:M39) -> 0 | O36: =SUM(O37:O39) -> 0 | P36: =SUM(P37:P39) -> 0 | Q36: =SUM(Q37:Q39) -> 0 | R36: =SUM(R37:R39) -> 0 | S36: =SUM(S37:S39) -> 0 | U36: =SUM(U37:U39) -> 0 | W36: =SUM(W37:W39) -> 0 | Y36: =SUM(Y37:Y39) -> 0 | Z36: =SUM(Z37:Z39) -> 0 | AB36: =SUM(AB37:AB39) -> 0 | AC36: =SUM(AC37:AC39) -> 0
B40: 1.3.2.01.03 | D40: ALAT BANTU | M40: =SUM(M41) -> 1 | O40: =O41 -> 509600000 | P40: =SUM(P42:P43) -> 0 | Q40: =SUM(Q42:Q43) -> 0 | R40: =SUM(R42:R43) -> 0 | S40: =S41 -> 509600000 | U40: =U41 -> 50960000 | W40: =W41 -> 0 | Y40: =Y41 -> 0 | Z40: =Z41 -> 0 | AB40: =AB41 -> 509600000 | AC40: =AC41 -> 0 | AG40: =AF31-AB30 -> -1.756377e+08
B41: 1.3.2.01.03.04 | D41: Electric Generating Set | M41: =SUM(M42) -> 1 | O41: =SUM(O42) -> 509600000 | S41: =SUM(S42) -> 509600000 | U41: =SUM(U42) -> 50960000 | W41: =SUM(W42) -> 0 | Z41: =SUM(Z42) -> 0 | AB41: =SUM(AB42) -> 509600000 | AC41: =SUM(AC42) -> 0
A42: 1 | B42: 1.3.2.01.03.04.003 | C42: 0001 | D42: Genset | E42: Baifa Power/200 KVA | G42: Besi | H42: APBD | I42: 2013 | K42: Unit | L42: B | M42: 1 | N42: 509600000 | O42: 509600000 | S42: =SUM(N42-R42) -> 509600000 | T42: 10 | U42: =SUM(S42/T42) -> 50960000 | W42: =SUM(U42*V42) -> 0 | Y42: =SUM(U42*X42) -> 0 | Z42: =SUM(W42+Y42) -> 0 | AA42: 10 | AB42: =SUM(U42*AA42) -> 509600000 | AC42: =SUM(O42-AB42) -> 0 | AD42: Gudang Genset | AF42: 1.1276423e+09 | AG42: =AC30-AF42 -> -1.478467e+08
B44: 1.3.2.02 | D44: ALAT ANGKUTAN | M44: =SUM(M46+M56+M58+M79) -> 32 | O44: =SUM(O46+O56+O58+O79) -> 2493984900 | P44: =P45+P79+P83+P85+P87 -> 0 | Q44: =Q45+Q79+Q83+Q85+Q87 -> 0 | R44: =R45+R79+R83+R85+R87 -> 0 | S44: =SUM(S46+S56+S58+S79) -> 2493984900 | U44: =SUM(U46+U56+U58+U79) -> 2.2791857e+08 | W44: =SUM(W46+W56+W58+W79) -> 29385714 | Y44: =Y45+Y79+Y83+Y85+Y87 -> 29385714 | Z44: =SUM(Z46+Z56+Z58+Z79) -> 58771429 | AB44: =SUM(AB46+AB56+AB58+AB79) -> 2.3455039e+09 | AC44: =SUM(AC46+AC56+AC58+AC79) -> 1.4848095e+08
B45: 1.3.2.02.01 | D45: ALAT ANGKUTAN DARAT BERMOTOR | M45: =SUM(M46+M56+M58) -> 30 | O45: =SUM(O46+O56+O58) -> 2481994900 | P45: =SUM(P76:P78) -> 0 | Q45: =SUM(Q76:Q78) -> 0 | R45: =SUM(R76:R78) -> 0 | S45: =SUM(S46+S56+S58) -> 2481994900 | U45: =SUM(U46+U56+U58) -> 2.2791857e+08 | W45: =SUM(W46+W56+W58) -> 29385714 | Y45: =SUM(Y46+Y56+Y58) -> 29385714 | Z45: =SUM(Z46+Z56+Z58) -> 58771429 | AB45: =SUM(AB46+AB56+AB58) -> 2.3335139e+09 | AC45: =SUM(AC46+AC56+AC58) -> 1.4848095e+08
B46: 1.3.2.02.01.01 | D46: KENDARAAN DINAS BERMOTOR PERORANGAN | M46: =SUM(M47:M55) -> 9 | O46: =SUM(O47:O55) -> 1963604900 | S46: =SUM(S47:S55) -> 1963604900 | U46: =SUM(U47:U55) -> 1.6210429e+08 | W46: =SUM(W47:W55) -> 22142857 | Y46: =SUM(Y47:Y55) -> 22142857 | Z46: =SUM(Z47:Z55) -> 44285714 | AB46: =SUM(AB47:AB55) -> 1.8344382e+09 | AC46: =SUM(AC47:AC55) -> 1.2916667e+08
A47: 1 | B47: 1.3.2.02.01.01.006 | C47: 0001 | D47: Minibus | E47: Grand Levina | F47: BH 1941 Z /MHBGIC66F9J007085/MR.18-044015R | G47: Besi | H47: APBD | I47: 2009 | K47: Unit | L47: B | M47: 1 | N47: 209255500 | O47: 209255500 | S47: =SUM(O47-R47) -> 209255500 | T47: 7 | U47: 0 | V47: 0.5 | W47: =SUM(U47*V47) -> 0 | Y47: =SUM(U47*X47) -> 0 | Z47: =SUM(W47+Y47) -> 0 | AA47: 7 | AB47: 209255500 | AC47: =SUM(O47-AB47) -> 0 | AD47: kabid PKM
A48: 2 | B48: 1.3.2.02.01.01.006 | C48: 0002 | D48: Minibus | E48: Daihatsu Terios | F48: BH 1913 AZ /MHKG2CJ2JBK051313/DCJ4700 | G48: Besi | H48: APBD | I48: 2011 | K48: Unit | L48: B | M48: 1 | N48: 174500000 | O48: 174500000 | S48: =SUM(O48-R48) -> 174500000 | T48: 7 | U48: 0 | V48: 0.5 | W48: =SUM(U48*V48) -> 0 | Y48: =SUM(U48*X48) -> 0 | Z48: =SUM(W48+Y48) -> 0 | AA48: 7 | AB48: 174500000 | AC48: =SUM(O48-AB48) -> 0 | AD48: WI
A49: 3 | B49: 1.3.2.02.01.01.006 | C49: 0003 | D49: Minibus | E49: Toyota Innova | F49: BH 1503 Z, MHFXW43G0B4060163/ITR-7183625 | H49: APBD | I49: 2011 | K49: Unit | L49: B | M49: 1 | N49: 255650000 | O49: 255650000 | S49: =SUM(O49-R49) -> 255650000 | T49: 7 | U49: =SUM(S49/T49) -> 36521429 | AA49: 7 | AB49: 2.5565e+08 | AD49: Operasional | AE49: Mutasi Biro Umum
A50: 4 | B50: 1.3.2.02.01.01.006 | C50: 0004 | D50: Minibus | E50: Kijang Inova | F50: BH 38 | G50: Besi | H50: APBD | I50: 2012 | K50: Unit | L50: B | M50: 1 | N50: 264119400 | O50: 264119400 | S50: =SUM(O50-R50) -> 264119400 | T50: 7 | U50: 0 | V50: 0.5 | W50: =SUM(U50*V50) -> 0 | Y50: =SUM(U50*X50) -> 0 | Z50: =SUM(W50+Y50) -> 0 | AA50: 7 | AB50: 264119400 | AC50: =SUM(O50-AB50) -> 0 | AD50: Kepala Badan
A51: 5 | B51: 1.3.2.02.01.01.006 | C51: 0005 | D51: Minibus | E51: Dahatsu Terios | F51: BH 1440 Z | G51: Besi | H51: APBD | I51: 2012 | K51: Unit | L51: B | M51: 1 | N51: 181000000 | O51: 181000000 | S51: =SUM(O51-R51) -> 181000000 | T51: 7 | U51: 0 | V51: 0.5 | W51: =SUM(U51*V51) -> 0 | Y51: =SUM(U51*X51) -> 0 | Z51: =SUM(W51+Y51) -> 0 | AA51: 7 | AB51: 181000000 | AC51: =SUM(O51-AB51) -> 0 | AD51: Kabid PKTUF
A52: 6 | B52: 1.3.2.02.01.01.006 | C52: 0006 | D52: Minibus | E52: Suzuki Ertiga GX Elegan MT Black | F52: BH 1899 Z/K14BT-1100850/MHYKZE81SEJ207953 | G52: Besi | H52: APBD | I52: 2014 | K52: Unit | L52: B | M52: 1 | N52: 183670000 | O52: 183670000 | S52: =SUM(O52-R52) -> 183670000 | T52: 7 | U52: =SUM(S52/T52) -> 26238571 | V52: 0.5 | Y52: =SUM(U52*X52) -> 0 | AA52: 7 | AB52: =SUM(U52*AA52) -> 183670000 | AC52: =SUM(O52-AB52) -> 0 | AD52: Kabid PKTI
A53: 7 | B53: 1.3.2.02.01.01.006 | C53: 0007 | D53: Minibus | E53: Suzuki Ertiga GX Elegan MT White | F53: BH 1939 Z/K14BT-1095919/MHYKZE81SEJ208204 | G53: Besi | H53: APBD | I53: 2014 | K53: Unit | L53: B | M53: 1 | N53: 183670000 | O53: 183670000 | S53: =SUM(O53-R53) -> 183670000 | T53: 7 | U53: =SUM(S53/T53) -> 26238571 | V53: 0.5 | Y53: =SUM(U53*X53) -> 0 | AA53: 7 | AB53: =SUM(U53*AA53) -> 183670000 | AC53: =SUM(O53-AB53) -> 0 | AD53: Kabid SKPK
A54: 8 | B54: 1.3.2.02.01.01.006 | C54: 0008 | D54: Minibus | E54: Suzuki Ertiga GX Elegan AT White | F54: BH 1940 Z/K14BT-1109297/MHYKZE81SEJ209978 | G54: Besi | H54: APBD | I54: 2014 | K54: Unit | L54: B | M54: 1 | N54: 201740000 | O54: 201740000 | S54: =SUM(O54-R54) -> 201740000 | T54: 7 | U54: =SUM(S54/T54) -> 28820000 | V54: 0.5 | Y54: =SUM(U54*X54) -> 0 | AA54: 7 | AB54: =SUM(U54*AA54) -> 201740000 | AC54: =SUM(O54-AB54) -> 0 | AD54: Sekretaris Badan
A55: 10 | B55: 1.3.2.02.01.01.006 | C55: 0010 | D55: Minibus | E55: Toyota Innova | F55: BH 1060 Z, MHFJW8EM2K2368401 | G55: Besi | H55: APBD | I55: 2019 | K55: Unit | L55: B | M55: 1 | N55: 310000000 | O55: 310000000 | S55: =SUM(O55-R55) -> 310000000 | T55: 7 | U55: =SUM(S55/T55) -> 44285714 | V55: 0.5 | W55: =SUM(U55*V55) -> 22142857 | X55: 0.5 | Y55: =U55*X55 -> 22142857 | Z55: =SUM(W55+Y55) -> 44285714 | AA55: =2023-I55+V55+X55-11/12 -> 4.0833333 | AB55: =SUM(U55*AA55) -> 1.8083333e+08 | AC55: =SUM(O55-AB55) -> 1.2916667e+08 | AD55: Widyaiswara Utama | AE55: Mutasi Biro PBMD
B56: 1.3.2.02.01.03 | D56: KENDARAAN BERMOTOR ANGKUTAN BARANG | M56: =SUM(M57) -> 1 | O56: =SUM(O57) -> 195300000 | S56: =SUM(S57) -> 195300000 | U56: =SUM(U57) -> 27900000 | W56: =SUM(W57) -> 0 | Z56: =SUM(Z57) -> 0 | AB56: =SUM(AB57) -> 195300000 | AC56: =SUM(AC57) -> 0
A57: 9 | B57: 1.3.2.02.01.03.002 | C57: 0009 | D57: Pick Up | E57: Toyota Hilux | G57: Besi | H57: APBD | I57: 2015 | K57: Unit | L57: B | M57: 1 | N57: 195300000 | O57: 195300000 | S57: =SUM(O57-R57) -> 195300000 | T57: 7 | U57: =SUM(S57/T57) -> 27900000 | W57: =SUM(U57*V57) -> 0 | Y57: =U57*X57 -> 0 | Z57: =SUM(W57+Y57) -> 0 | AA57: 7 | AB57: =SUM(U57*AA57) -> 195300000 | AC57: =SUM(O57-AB57) -> 0 | AD57: Operasional
B58: 1.3.2.02.01.04 | D58: KENDARAAN BERMOTOR BERODA DUA | M58: =SUM(M59:M78) -> 20 | O58: =SUM(O59:O78) -> 323090000 | S58: =SUM(S59:S78) -> 323090000 | U58: =SUM(U59:U78) -> 37914286 | W58: =SUM(W59:W78) -> 7242857.1 | Y58: =SUM(Y59:Y78) -> 7242857.1 | Z58: =SUM(Z59:Z78) -> 14485714 | AB58: =SUM(AB59:AB78) -> 3.0377571e+08 | AC58: =SUM(AC59:AC78) -> 19314286
A59: 11 | B59: 1.3.2.02.01.04.001 | C59: 0001 | D59: Sepeda motor | E59: Honda / NF125 TR | F59: BH BH 2373 Z /MH1JB91179K755362/JB1E-1752034 | G59: Besi | H59: APBD | I59: 2009 | K59: Unit | L59: B | M59: 1 | N59: 14150000 | O59: 14150000 | S59: =SUM(O59-R59) -> 14150000 | T59: 7 | W59: =SUM(U59*V59) -> 0 | Z59: =SUM(W59+Y59) -> 0 | AA59: 7 | AB59: 14150000 | AC59: =SUM(O59-AB59) -> 0 | AD59: Fungsional Umum
A60: 12 | B60: 1.3.2.02.01.04.001 | C60: 0002 | D60: Sepeda motor | E60: Honda / NF125 TR | F60: BH 2368 Z /MH1JB91179K790129/JB1E-1787288 | G60: Besi | H60: APBD | I60: 2009 | K60: Unit | L60: B | M60: 1 | N60: 14150000 | O60: 14150000 | S60: =SUM(O60-R60) -> 14150000 | T60: 7 | W60: =SUM(U60*V60) -> 0 | Y60: =SUM(U60*X60) -> 0 | Z60: =SUM(W60+Y60) -> 0 | AA60: 7 | AB60: 14150000 | AC60: =SUM(O60-AB60) -> 0 | AD60: Fungsional Umum
A61: 13 | B61: 1.3.2.02.01.04.001 | C61: 0003 | D61: Sepeda motor | E61: Honda / New Vario | F61: BH 2944 HZ /MH1JF7113BK085534/JF71E-1084924 | G61: Besi | H61: APBD | I61: 2011 | K61: Unit | L61: B | M61: 1 | N61: 14695000 | O61: 14695000 | S61: =SUM(O61-R61) -> 14695000 | T61: 7 | W61: =SUM(U61*V61) -> 0 | Y61: =SUM(U61*X61) -> 0 | Z61: =SUM(W61+Y61) -> 0 | AA61: 7 | AB61: 14695000 | AC61: =SUM(O61-AB61) -> 0 | AD61: Kasubbag Program dan pelaporan
A62: 14 | B62: 1.3.2.02.01.04.001 | C62: 0004 | D62: Sepeda motor | E62: Honda / New Vario | F62: BH 2943 HZ /MH1JF7113BK085078/JF71E-1084470 | G62: Besi | H62: APBD | I62: 2011 | K62: Unit | L62: B | M62: 1 | N62: 14695000 | O62: 14695000 | S62: =SUM(O62-R62) -> 14695000 | T62: 7 | W62: =SUM(U62*V62) -> 0 | Y62: =SUM(U62*X62) -> 0 | Z62: =SUM(W62+Y62) -> 0 | AA62: 7 | AB62: 14695000 | AC62: =SUM(O62-AB62) -> 0 | AD62: Fungsional Umum
A63: 15 | B63: 1.3.2.02.01.04.001 | C63: 0005 | D63: Sepeda motor | E63: Honda Supra X 125 | F63: BH 2364 Z/JBG1E1169573 / JBG112EK169831 | G63: Besi | H63: APBD | I63: 2014 | K63: Unit | L63: B | M63: 1 | N63: 16400000 | O63: 16400000 | S63: =SUM(O63-R63) -> 16400000 | T63: 7 | U63: =SUM(S63/T63) -> 2342857.1 | V63: 0.5 | Y63: =SUM(U63*X63) -> 0 | AA63: 7 | AB63: =SUM(U63*AA63) -> 16400000 | AC63: =SUM(O63-AB63) -> 0 | AD63: Kasubbid Pengembangan Kompetensi Pilihan Jabatan Administrasi
A64: 16 | B64: 1.3.2.02.01.04.001 | C64: 0006 | D64: Sepeda motor | E64: Honda Supra X 125 | F64: BH 2374 Z/JBG1E1169566 / JBG110EK169875 | G64: Besi | H64: APBD | I64: 2014 | K64: Unit | L64: B | M64: 1 | N64: 16400000 | O64: 16400000 | S64: =SUM(O64-R64) -> 16400000 | T64: 7 | U64: =SUM(S64/T64) -> 2342857.1 | V64: 0.5 | Y64: =SUM(U64*X64) -> 0 | AA64: 7 | AB64: =SUM(U64*AA64) -> 16400000 | AC64: =SUM(O64-AB64) -> 0 | AD64: Kasubbid pengembangan Kompetensi Jabatan Struktural
...

Sheet  Rekap Beban Peny. Sem.II 2023
B1: PEMERINTAH PROVINSI JAMBI
B2: REKAPITULASI BEBAN PENYUSUTAN
B3: Per 31 Desember 2023
B5: SKPD | C5: : BADAN PENGEMBANGAN SUMBER DAYA MANUSIA
B7: No. Urut | C7: Akun | D7: Jenis | E7: Objek | F7: Rincian Objek | G7: Sub Rincian Objek | H7: Nama Bidang Barang | I7: Nilai Perolehan (Rp) | J7: Beban Penyusutan per tahun (Rp) | K7: Beban Penyusutan Semester I (Rp) | L7: Beban Penyusutan Semester II (Rp) | M7: Beban Penyusutan Tahun ini (Rp) | N7: Akumulasi Penyusutan s/d tahun ini (Rp) | O7: Nilai Buku (Rp) | P7: Keterangan
B10: 1 | C10: 2 | G10: 3 | H10: 4 | I10: 5 | J10: 6 | K10: 7 | L10: 8 | M10: 9 | N10: 10 | O10: 11 | P10: 12
B11: 1 | C11: 3 | H11: ASET TETAP | I11: =SUM(I13+I54+I628+I703+I868+I968) -> 3.8489814e+10 | J11: =SUM(J13+J54+J628+J703+J868+J968) -> 2.2812767e+09 | K11: =SUM(K13+K54+K628+K703+K868+K968) -> 5.7406095e+08 | L11: =SUM(L13+L54+L628+L703+L868+L968) -> 4.9428333e+08 | M11: =SUM(K11+L11) -> 1.0683443e+09 | N11: =SUM(N13+N54+N628+N703+N868+N968)-0.48 -> 2.1601343e+10 | O11: =SUM(O13+O54+O628+O703+O868+O968) -> 1.7034904e+10
A13: 1 | B13: 1 | C13: 3 | D13: 01 | H13: Tanah | I13: =I14 -> 0 | J13: =J14 -> 0 | K13: =K14 -> 0 | L13: =L14 -> 0 | M13: =M14 -> 0 | N13: =N14 -> 0 | O13: =O14 -> 0
A14: a | B14: 1 | C14: 3 | D14: 01 | E14: 01 | H14: Tanah | I14: =SUM(I15+I23+I33) -> 0 | J14: =SUM(J15+J23+J33) -> 0 | K14: =SUM(K15+K23+K33) -> 0 | L14: =SUM(L15+L23+L33) -> 0 | M14: =SUM(M15+M23+M33) -> 0 | N14: =SUM(N15+N23+N33) -> 0 | O14: =SUM(O15+O23+O33) -> 0
A15: - | B15: 1 | C15: 3 | D15: 01 | E15: 01 | F15: 01 | H15: Tanah Persil | I15: =SUM(I16:I22) -> 0 | J15: =SUM(J16:J22) -> 0 | K15: =SUM(K16:K22) -> 0 | L15: =SUM(L16:L22) -> 0 | M15: =SUM(M16:M22) -> 0 | N15: =SUM(N16:N22) -> 0 | O15: =SUM(O16:O22) -> 0
B16: 1 | C16: 3 | D16: 01 | E16: 01 | F16: 01 | G16: 0001 | H16: Tanah Bangunan Perumahan/Gedung Tempat Tinggal
B17: 1 | C17: 3 | D17: 01 | E17: 01 | F17: 01 | G17: 0002 | H17: Tanah untuk Bangunan Gedung Perdagangan/Perusahaan
B18: 1 | C18: 3 | D18: 01 | E18: 01 | F18: 01 | G18: 0003 | H18: Tanah untuk Bangunan Industri
